BEGIN:VCALENDAR
VERSION:2.0
PRODID:-//Palo Alto Bridge - ECPv6.15.20//NONSGML v1.0//EN
CALSCALE:GREGORIAN
METHOD:PUBLISH
X-WR-CALNAME:Palo Alto Bridge
X-ORIGINAL-URL:https://paloaltobridge.org
X-WR-CALDESC:Events for Palo Alto Bridge
REFRESH-INTERVAL;VALUE=DURATION:PT1H
X-Robots-Tag:noindex
X-PUBLISHED-TTL:PT1H
BEGIN:VTIMEZONE
TZID:America/Los_Angeles
BEGIN:DAYLIGHT
TZOFFSETFROM:-0800
TZOFFSETTO:-0700
TZNAME:PDT
DTSTART:20170312T100000
END:DAYLIGHT
BEGIN:STANDARD
TZOFFSETFROM:-0700
TZOFFSETTO:-0800
TZNAME:PST
DTSTART:20171105T090000
END:STANDARD
BEGIN:DAYLIGHT
TZOFFSETFROM:-0800
TZOFFSETTO:-0700
TZNAME:PDT
DTSTART:20180311T100000
END:DAYLIGHT
BEGIN:STANDARD
TZOFFSETFROM:-0700
TZOFFSETTO:-0800
TZNAME:PST
DTSTART:20181104T090000
END:STANDARD
BEGIN:DAYLIGHT
TZOFFSETFROM:-0800
TZOFFSETTO:-0700
TZNAME:PDT
DTSTART:20190310T100000
END:DAYLIGHT
BEGIN:STANDARD
TZOFFSETFROM:-0700
TZOFFSETTO:-0800
TZNAME:PST
DTSTART:20191103T090000
END:STANDARD
END:VTIMEZONE
BEGIN:VEVENT
DTSTART;TZID=America/Los_Angeles:20181129T110000
DTEND;TZID=America/Los_Angeles:20181129T110000
DTSTAMP:20260423T083131
CREATED:20181114T050004Z
LAST-MODIFIED:20181115T215432Z
UID:27636-1543489200-1543489200@paloaltobridge.org
SUMMARY:Thursday Morning JCC - Mexican Flan and Club Championship (Pairs) *Includes Limited MP Section*
DESCRIPTION:
URL:https://paloaltobridge.org/event/club-championship-pairs-includes-limited-mp-section-24/
LOCATION:Oshman Family Jewish Community Center\, 3921 Fabian Way\, Palo Alto\, CA\, United States
CATEGORIES:Special Events
GEO:37.4232908;-122.1030055
X-APPLE-STRUCTURED-LOCATION;VALUE=URI;X-ADDRESS=Oshman Family Jewish Community Center 3921 Fabian Way Palo Alto CA United States;X-APPLE-RADIUS=500;X-TITLE=3921 Fabian Way:geo:-122.1030055,37.4232908
END:VEVENT
BEGIN:VEVENT
DTSTART;TZID=America/Los_Angeles:20181115T110000
DTEND;TZID=America/Los_Angeles:20181115T143000
DTSTAMP:20260423T083131
CREATED:20181114T050038Z
LAST-MODIFIED:20181114T052901Z
UID:28287-1542279600-1542292200@paloaltobridge.org
SUMMARY:Thursday Morning JCC ACBL Membership Championship Game *Includes Limited MP Section*
DESCRIPTION:
URL:https://paloaltobridge.org/event/thursday-morning-jcc-club-championship-pairs-includes-limited-mp-section/
LOCATION:Oshman Family Jewish Community Center\, 3921 Fabian Way\, Palo Alto\, CA\, United States
CATEGORIES:Special Events
GEO:37.4232908;-122.1030055
X-APPLE-STRUCTURED-LOCATION;VALUE=URI;X-ADDRESS=Oshman Family Jewish Community Center 3921 Fabian Way Palo Alto CA United States;X-APPLE-RADIUS=500;X-TITLE=3921 Fabian Way:geo:-122.1030055,37.4232908
END:VEVENT
BEGIN:VEVENT
DTSTART;TZID=America/Los_Angeles:20181018T110000
DTEND;TZID=America/Los_Angeles:20181018T150000
DTSTAMP:20260423T083131
CREATED:20181018T174651Z
LAST-MODIFIED:20181018T174651Z
UID:28289-1539860400-1539874800@paloaltobridge.org
SUMMARY:Thursday Morning JCC Club Closed
DESCRIPTION:
URL:https://paloaltobridge.org/event/thursday-morning-jcc-club-closed/
LOCATION:Oshman Family Jewish Community Center\, 3921 Fabian Way\, Palo Alto\, CA\, United States
CATEGORIES:Special Events
GEO:37.4232908;-122.1030055
X-APPLE-STRUCTURED-LOCATION;VALUE=URI;X-ADDRESS=Oshman Family Jewish Community Center 3921 Fabian Way Palo Alto CA United States;X-APPLE-RADIUS=500;X-TITLE=3921 Fabian Way:geo:-122.1030055,37.4232908
END:VEVENT
BEGIN:VEVENT
DTSTART;TZID=America/Los_Angeles:20180621T110000
DTEND;TZID=America/Los_Angeles:20180621T110000
DTSTAMP:20260423T083131
CREATED:20180716T121249Z
LAST-MODIFIED:20180826T160310Z
UID:25114-1529578800-1529578800@paloaltobridge.org
SUMMARY:Club Championship (Pairs) Includes Limited MP Section
DESCRIPTION:Charity game for Alzheimer’s Prevention\, Care and Research
URL:https://paloaltobridge.org/event/club-championship-pairs-includes-limited-mp-section-23/
LOCATION:Oshman Family Jewish Community Center\, 3921 Fabian Way\, Palo Alto\, CA\, United States
CATEGORIES:Special Events
GEO:37.4232908;-122.1030055
X-APPLE-STRUCTURED-LOCATION;VALUE=URI;X-ADDRESS=Oshman Family Jewish Community Center 3921 Fabian Way Palo Alto CA United States;X-APPLE-RADIUS=500;X-TITLE=3921 Fabian Way:geo:-122.1030055,37.4232908
END:VEVENT
BEGIN:VEVENT
DTSTART;TZID=America/Los_Angeles:20180329T110000
DTEND;TZID=America/Los_Angeles:20180329T110000
DTSTAMP:20260423T083131
CREATED:20180420T215739Z
LAST-MODIFIED:20180826T160607Z
UID:7409-1522321200-1522321200@paloaltobridge.org
SUMMARY:Club Championship (Pairs)  Includes Limited MP Section
DESCRIPTION:
URL:https://paloaltobridge.org/event/club-championship-pairs-includes-limited-mp-section-19/
LOCATION:Oshman Family Jewish Community Center\, 3921 Fabian Way\, Palo Alto\, CA\, United States
CATEGORIES:Special Events
GEO:37.4232908;-122.1030055
X-APPLE-STRUCTURED-LOCATION;VALUE=URI;X-ADDRESS=Oshman Family Jewish Community Center 3921 Fabian Way Palo Alto CA United States;X-APPLE-RADIUS=500;X-TITLE=3921 Fabian Way:geo:-122.1030055,37.4232908
END:VEVENT
BEGIN:VEVENT
DTSTART;TZID=America/Los_Angeles:20180104T110000
DTEND;TZID=America/Los_Angeles:20180104T150000
DTSTAMP:20260423T083131
CREATED:20180605T054942Z
LAST-MODIFIED:20181119T200750Z
UID:18450-1515063600-1515078000@paloaltobridge.org
SUMMARY:Thursday Morning JCC
DESCRIPTION:Open/Stratified Game. \nLunch provided during the game. \nReservations Requested \nDirector: \n\n\n\n\n\nJohn Schwartz\n(650) 353-1461 \nSend Email
URL:https://paloaltobridge.org/event/thursday-morning-jcc/2018-01-04/
LOCATION:Oshman Family Jewish Community Center\, 3921 Fabian Way\, Palo Alto\, CA\, United States
CATEGORIES:Club Games
GEO:37.4232908;-122.1030055
X-APPLE-STRUCTURED-LOCATION;VALUE=URI;X-ADDRESS=Oshman Family Jewish Community Center 3921 Fabian Way Palo Alto CA United States;X-APPLE-RADIUS=500;X-TITLE=3921 Fabian Way:geo:-122.1030055,37.4232908
END:VEVENT
END:VCALENDAR