BEGIN:VCALENDAR
VERSION:2.0
PRODID:-//Palo Alto Bridge - ECPv6.15.20//NONSGML v1.0//EN
CALSCALE:GREGORIAN
METHOD:PUBLISH
X-ORIGINAL-URL:https://paloaltobridge.org
X-WR-CALDESC:Events for Palo Alto Bridge
REFRESH-INTERVAL;VALUE=DURATION:PT1H
X-Robots-Tag:noindex
X-PUBLISHED-TTL:PT1H
BEGIN:VTIMEZONE
TZID:America/Los_Angeles
BEGIN:DAYLIGHT
TZOFFSETFROM:-0800
TZOFFSETTO:-0700
TZNAME:PDT
DTSTART:20210314T100000
END:DAYLIGHT
BEGIN:STANDARD
TZOFFSETFROM:-0700
TZOFFSETTO:-0800
TZNAME:PST
DTSTART:20211107T090000
END:STANDARD
BEGIN:DAYLIGHT
TZOFFSETFROM:-0800
TZOFFSETTO:-0700
TZNAME:PDT
DTSTART:20220313T100000
END:DAYLIGHT
BEGIN:STANDARD
TZOFFSETFROM:-0700
TZOFFSETTO:-0800
TZNAME:PST
DTSTART:20221106T090000
END:STANDARD
BEGIN:DAYLIGHT
TZOFFSETFROM:-0800
TZOFFSETTO:-0700
TZNAME:PDT
DTSTART:20230312T100000
END:DAYLIGHT
BEGIN:STANDARD
TZOFFSETFROM:-0700
TZOFFSETTO:-0800
TZNAME:PST
DTSTART:20231105T090000
END:STANDARD
BEGIN:DAYLIGHT
TZOFFSETFROM:-0800
TZOFFSETTO:-0700
TZNAME:PDT
DTSTART:20240310T100000
END:DAYLIGHT
BEGIN:STANDARD
TZOFFSETFROM:-0700
TZOFFSETTO:-0800
TZNAME:PST
DTSTART:20241103T090000
END:STANDARD
BEGIN:DAYLIGHT
TZOFFSETFROM:-0800
TZOFFSETTO:-0700
TZNAME:PDT
DTSTART:20250309T100000
END:DAYLIGHT
BEGIN:STANDARD
TZOFFSETFROM:-0700
TZOFFSETTO:-0800
TZNAME:PST
DTSTART:20251102T090000
END:STANDARD
BEGIN:DAYLIGHT
TZOFFSETFROM:-0800
TZOFFSETTO:-0700
TZNAME:PDT
DTSTART:20260308T100000
END:DAYLIGHT
BEGIN:STANDARD
TZOFFSETFROM:-0700
TZOFFSETTO:-0800
TZNAME:PST
DTSTART:20261101T090000
END:STANDARD
BEGIN:DAYLIGHT
TZOFFSETFROM:-0800
TZOFFSETTO:-0700
TZNAME:PDT
DTSTART:20270314T100000
END:DAYLIGHT
BEGIN:STANDARD
TZOFFSETFROM:-0700
TZOFFSETTO:-0800
TZNAME:PST
DTSTART:20271107T090000
END:STANDARD
END:VTIMEZONE
BEGIN:VEVENT
DTSTART;TZID=America/Los_Angeles:20260411T093000
DTEND;TZID=America/Los_Angeles:20260411T110000
DTSTAMP:20260423T044815
CREATED:20260303T043848Z
LAST-MODIFIED:20260404T210325Z
UID:92135-1775899800-1775905200@paloaltobridge.org
SUMMARY:Celebrity Bridge Seminar with Adam Parrish
DESCRIPTION:Planning the Play in NT\nAdam Parrish Webinar\nSaturday\, April 11\, 9:30-11am PDT\nDo you avoid bidding notrump (NT) because you’re uncomfortable playing there?  Do you start to sweat when partner passes you in 1NT?  Do you score up +600 and get a low score because others are making 630 or 660?  You need to work on your notrump play! \nThis lesson will benefit Newcomers and Intermediate players.  \nInformation & Registration \n\n \nAdam Parrish is a national champion and has been accredited as a Master Teacher by the American Bridge Teachers Association (ABTA). Adam writes a monthly column for the ACBL Bridge Bulletin called “Parrish the Thought” and has written 6 books\, two of which have won the ABTA’s Book of the Year award. Adam is also one of the partners of Bridge Winners. Adam lives in New York City\, and when he’s not playing and teaching bridge\, is a playwright and composer. \n 
URL:https://paloaltobridge.org/event/celebrity-bridge-seminar-with-adam-parrish-april-2026/
LOCATION:Online Webinar\, Link to be provided to registrants
CATEGORIES:Education Calendar
END:VEVENT
BEGIN:VEVENT
DTSTART;TZID=America/Los_Angeles:20251018T093000
DTEND;TZID=America/Los_Angeles:20251018T150000
DTSTAMP:20260423T044815
CREATED:20251007T033105Z
LAST-MODIFIED:20251007T034026Z
UID:67536-1760779800-1760799600@paloaltobridge.org
SUMMARY:Celebrity Bridge Seminar with Robert Todd LIVE
DESCRIPTION:Compete when they Open\nDefensive Strategies & Tools \nRobert Todd will be presenting a LIVE seminar at our Bridge Center. Competitive bidding is key in bridge.  When opponents open\, you have tools to enter the auction.  We’ll explore these and help you sharpen your judgement to compete effectively. \n$100 registration fee \nInformation and registration
URL:https://paloaltobridge.org/event/celebrity-bridge-seminar-with-robert-todd-live/
LOCATION:Online Webinar\, Link to be provided to registrants
CATEGORIES:Special Events
ATTACH;FMTTYPE=image/jpeg:https://paloaltobridge.org/wp-content/uploads/2018/07/todd.jpg
END:VEVENT
BEGIN:VEVENT
DTSTART;TZID=America/Los_Angeles:20250823T093000
DTEND;TZID=America/Los_Angeles:20250823T110000
DTSTAMP:20260423T044815
CREATED:20250715T150806Z
LAST-MODIFIED:20250715T165008Z
UID:50663-1755941400-1755946800@paloaltobridge.org
SUMMARY:Celebrity Bridge Seminar with Michael Berkowitz Copy
DESCRIPTION:Play or Defend?  How the Experts Think Through These Decisions\nMichael Berkowitz Webinars\nPart 1:  Saturday\, August 16\, 2025\, 9:30-11:00am\nPart 2:  Saturday\, August 23\, 2025\, 9:30-11:00am\nMichael Berkowitz is a young bridge professional\, son of David Berkowitz\, a bridge legend.  Michael works with Larry Cohen giving webinars and other forms of instruction.  He also has a column in the ACBL Bridge magazine.  Michael has a delightful sense of humor as well as insightful instruction. \n\nWith deep bridge knowledge honed over years of learning from the best in the world\, Michael has become one of the premier and most acclaimed bridge instructors worldwide.  Students recognize Michael for his ability to clearly communicate bridge concepts.  He will help elevate your game\, breaking down complex concepts into easy-to-understand lessons. \nMichael is the son of ACBL World Champion parents David and Lisa Berkowitz.  Coached by his parents throughout his life\, he has also benefited from a lifelong relationship and mentorship with 25-time national champion and ACBL Hall of Fame inductee Larry Cohen\, who partnered with David to win numerous national titles. \nInformation & Registration
URL:https://paloaltobridge.org/event/celebrity-bridge-seminar-with-michael-berkowitz-august-2025/2025-08-23/
LOCATION:Online Webinar\, Link to be provided to registrants
CATEGORIES:Education Calendar
END:VEVENT
BEGIN:VEVENT
DTSTART;TZID=America/Los_Angeles:20250816T093000
DTEND;TZID=America/Los_Angeles:20250816T110000
DTSTAMP:20260423T044815
CREATED:20250715T150806Z
LAST-MODIFIED:20250715T165007Z
UID:50662-1755336600-1755342000@paloaltobridge.org
SUMMARY:Celebrity Bridge Seminar with Michael Berkowitz Copy
DESCRIPTION:Play or Defend?  How the Experts Think Through These Decisions\nMichael Berkowitz Webinars\nPart 1:  Saturday\, August 16\, 2025\, 9:30-11:00am\nPart 2:  Saturday\, August 23\, 2025\, 9:30-11:00am\nMichael Berkowitz is a young bridge professional\, son of David Berkowitz\, a bridge legend.  Michael works with Larry Cohen giving webinars and other forms of instruction.  He also has a column in the ACBL Bridge magazine.  Michael has a delightful sense of humor as well as insightful instruction. \n\nWith deep bridge knowledge honed over years of learning from the best in the world\, Michael has become one of the premier and most acclaimed bridge instructors worldwide.  Students recognize Michael for his ability to clearly communicate bridge concepts.  He will help elevate your game\, breaking down complex concepts into easy-to-understand lessons. \nMichael is the son of ACBL World Champion parents David and Lisa Berkowitz.  Coached by his parents throughout his life\, he has also benefited from a lifelong relationship and mentorship with 25-time national champion and ACBL Hall of Fame inductee Larry Cohen\, who partnered with David to win numerous national titles. \nInformation & Registration
URL:https://paloaltobridge.org/event/celebrity-bridge-seminar-with-michael-berkowitz-august-2025/2025-08-16/
LOCATION:Online Webinar\, Link to be provided to registrants
CATEGORIES:Education Calendar
END:VEVENT
BEGIN:VEVENT
DTSTART;TZID=America/Los_Angeles:20250524T093000
DTEND;TZID=America/Los_Angeles:20250524T110000
DTSTAMP:20260423T044815
CREATED:20250206T201128Z
LAST-MODIFIED:20250216T212141Z
UID:48637-1748079000-1748084400@paloaltobridge.org
SUMMARY:Celebrity Bridge Seminar with Barbara Seagram
DESCRIPTION:Defensive Magic\nBarbara Seagram Webinar\nBarbara now owns and runs a School of Bridge in Toronto. She teaches tens of thousands of students a year at all levels\, mostly in USA and Canada but also travelling all over the world. Barbara and Alex have now visited 171 countries. \n\nSeagram has been the recipient of a number of awards in bridge: The Kate Buckman Award\, given to the person who has contributed most to others’ enjoyment of the game and the most recent being the Audrey Grant Award for teaching. She is a Sapphire Life Master and a frequent speaker at NABC’s. She has been named #40 on the list of the top 52 bridge personalities that have most influenced the game.   \nSeagram was a co-founder (one of two) of the Zero Tolerance program. Barbara is the co-author of 30 published bridge books; the most well-known being “25 Bridge Conventions You Should Know” This is now in its 19th. printing and has been translated into French\, German\, Japanese\, Portuguese and Danish. This book has been named one of the top five best-selling bridge books of the last 60 years. It has just been revised and reprinted.   \nInformation and Registration coming soon
URL:https://paloaltobridge.org/event/celebrity-bridge-seminar-with-barbara-seagram-may-2025/
LOCATION:Online Webinar\, Link to be provided to registrants
CATEGORIES:Education Calendar
END:VEVENT
BEGIN:VEVENT
DTSTART;TZID=America/Los_Angeles:20250301T093000
DTEND;TZID=America/Los_Angeles:20250301T110000
DTSTAMP:20260423T044815
CREATED:20250206T194345Z
LAST-MODIFIED:20250216T211613Z
UID:48632-1740821400-1740826800@paloaltobridge.org
SUMMARY:Celebrity Bridge Seminar with Adam Parrish
DESCRIPTION:Become a Master at Doubling\nAdam Parrish Webinar\nSaturday\, March 1\, 9:30-11am PDT\nInformation & Registration \n\n \nAdam Parrish is a national champion and has been accredited as a Master Teacher by the American Bridge Teachers Association (ABTA). Adam writes a monthly column for the ACBL Bridge Bulletin called “Parrish the Thought” and has written 6 books\, two of which have won the ABTA’s Book of the Year award. Adam is also one of the partners of Bridge Winners. Adam lives in New York City\, and when he’s not playing and teaching bridge\, is a playwright and composer. \n 
URL:https://paloaltobridge.org/event/celebrity-bridge-seminar-with-adam-parrish-march-2025/
LOCATION:Online Webinar\, Link to be provided to registrants
CATEGORIES:Education Calendar
END:VEVENT
BEGIN:VEVENT
DTSTART;TZID=America/Los_Angeles:20241019T093000
DTEND;TZID=America/Los_Angeles:20241019T110000
DTSTAMP:20260423T044815
CREATED:20230730T205405Z
LAST-MODIFIED:20250208T051156Z
UID:44222-1729330200-1729335600@paloaltobridge.org
SUMMARY:Celebrity Bridge Seminar with Adam Parrish
DESCRIPTION:When Not to Draw Trump\nAdam Parrish Webinar\nSaturday\, October 19\, 9:30-11am PDT\nInformation & Registration \n\n \nAdam Parrish has written six acclaimed books\, three of which\, including the classic When to Draw Trumps\, have been nominated for the IBPA book of the year. His column “Parrish the Thought” appears monthly in the ACBL Bridge Bulletin. Adam grew up in Cincinnati and now lives in New York City\, where he is the President of the Greater New York Bridge Association and President of District 24. He is also one of the partners of both Bridge Winners and Swan Games. Outside of bridge\, Adam is a playwright\, screenwriter\, and composer. \n 
URL:https://paloaltobridge.org/event/celebrity-bridge-seminar-with-adam-parrish-october_2024/
LOCATION:Online Webinar\, Link to be provided to registrants
CATEGORIES:Education Calendar
END:VEVENT
BEGIN:VEVENT
DTSTART;TZID=America/Los_Angeles:20240810T093000
DTEND;TZID=America/Los_Angeles:20240810T110000
DTSTAMP:20260423T044815
CREATED:20240619T180839Z
LAST-MODIFIED:20250208T051625Z
UID:46589-1723282200-1723287600@paloaltobridge.org
SUMMARY:Celebrity Bridge Seminar with Gavin Wolpert
DESCRIPTION:“Being Hungry for Overtricks as Declarer at Matchpoints”\nGavin Wolpert Webinar\n \nOne of the quickest ways to improve your pair game scores is by taking more overtricks.  This class will help you build a thought process as declarer that focusses on eliminating losers.  You will also learn about when it is right to risk your contract for overtricks. This seminar is appropriate for Beginner\, Advanced Beginner and Intermediate players. \nInformation and registration
URL:https://paloaltobridge.org/event/celebrity-bridge-seminar-with-gavin-wolpert-2024/
LOCATION:Online Webinar\, Link to be provided to registrants
CATEGORIES:Education Calendar
END:VEVENT
BEGIN:VEVENT
DTSTART;TZID=America/Los_Angeles:20240511T093000
DTEND;TZID=America/Los_Angeles:20240511T110000
DTSTAMP:20260423T044815
CREATED:20240324T005236Z
LAST-MODIFIED:20250208T051412Z
UID:45511-1715419800-1715425200@paloaltobridge.org
SUMMARY:Celebrity Bridge Seminar with Barbara Seagram
DESCRIPTION:Opening Leads\nBarbara Seagram Webinar\nBarbara now owns and runs a School of Bridge in Toronto. She teaches tens of thousands of students a year at all levels\, mostly in USA and Canada but also travelling all over the world. Barbara and Alex have now visited 171 countries. \n\nSeagram has been the recipient of a number of awards in bridge: The Kate Buckman Award\, given to the person who has contributed most to others’ enjoyment of the game and the most recent being the Audrey Grant Award for teaching. She is a Sapphire Life Master and a frequent speaker at NABC’s. She has been named #40 on the list of the top 52 bridge personalities that have most influenced the game.   \nSeagram was a co-founder (one of two) of the Zero Tolerance program. Barbara is the co-author of 30 published bridge books; the most well-known being “25 Bridge Conventions You Should Know” This is now in its 19th. printing and has been translated into French\, German\, Japanese\, Portuguese and Danish. This book has been named one of the top five best-selling bridge books of the last 60 years. It has just been revised and reprinted.   \nInformation and Registration
URL:https://paloaltobridge.org/event/celebrity-bridge-seminar-with-barbara-seagram-2/
LOCATION:Online Webinar\, Link to be provided to registrants
CATEGORIES:Education Calendar
END:VEVENT
BEGIN:VEVENT
DTSTART;TZID=America/Los_Angeles:20240330T093000
DTEND;TZID=America/Los_Angeles:20240330T113000
DTSTAMP:20260423T044815
CREATED:20240208T052728Z
LAST-MODIFIED:20240324T005547Z
UID:45102-1711791000-1711798200@paloaltobridge.org
SUMMARY:Celebrity Bridge Seminar with Michael Berkowitz
DESCRIPTION:How to Find Tricks: Card Combinations for Declarer Play\nMichael Berkowitz Webinar\nMichael Berkowitz is a young bridge professional\, son of David Berkowitz\, a bridge legend.  Michael works with Larry Cohen giving webinars and other forms of instruction.  He also has a column in the ACBL Bridge magazine.  Michael has a delightful sense of humor as well as insightful instruction. \n\nAs a teacher\, he models his instruction style after his mother\, and takes his humor from his father. The combination has allowed him to teach all levels and pass his love of the game to others. \nIn addition to directing and teaching\, Michael edits for several bridge publications. Larry Cohen recognized Michael’s natural teaching abilities (very similar to his own style) and has added him as a member of the “Bridge with Larry Cohen” travel and teaching team. \nInformation & Registration
URL:https://paloaltobridge.org/event/celebrity-bridge-seminar-with-michael-berkowitz-march-2024/
LOCATION:Online Webinar\, Link to be provided to registrants
CATEGORIES:Education Calendar
END:VEVENT
BEGIN:VEVENT
DTSTART;TZID=America/Los_Angeles:20230624T093000
DTEND;TZID=America/Los_Angeles:20230624T113000
DTSTAMP:20260423T044815
CREATED:20230217T033620Z
LAST-MODIFIED:20240208T052716Z
UID:43150-1687599000-1687606200@paloaltobridge.org
SUMMARY:Celebrity Bridge Seminar with Michael Berkowitz
DESCRIPTION:Slam Bidding with Big Distributional Values\nWebinar\nMichael Berkowitz is a young bridge professional\, son of David Berkowitz\, a bridge legend.  Michael works with Larry Cohen giving webinars and other forms of instruction.  He also has a column in the ACBL Bridge magazine.  Michael has a delightful sense of humor as well as insightful instruction. \n\nAs a teacher\, he models his instruction style after his mother\, and takes his humor from his father. The combination has allowed him to teach all levels and pass his love of the game to others. \nIn addition to directing and teaching\, Michael edits for several bridge publications. Larry Cohen recognized Michael’s natural teaching abilities (very similar to his own style) and has added him as a member of the “Bridge with Larry Cohen” travel and teaching team. \nInformation & Registration
URL:https://paloaltobridge.org/event/celebrity-bridge-seminar-with-michael-berkowitz/
LOCATION:Online Webinar\, Link to be provided to registrants
CATEGORIES:Special Events
END:VEVENT
BEGIN:VEVENT
DTSTART;TZID=America/Los_Angeles:20230422T093000
DTEND;TZID=America/Los_Angeles:20230422T113000
DTSTAMP:20260423T044815
CREATED:20230512T214442Z
LAST-MODIFIED:20231207T173833Z
UID:43679-1682155800-1682163000@paloaltobridge.org
SUMMARY:Celebrity Bridge Seminar with Barbara Seagram
DESCRIPTION:CLUES – Be a Smart Detective\nWebinar\nFollow the clues. Be a smart detective!\nImprove Your Declarer Play by leaps and bounds by paying attention to the inferences provided by opponents’ leads.\nYou will be making those tough contracts with overtricks! \n\nBarbara Seagram has an impressive bridge background.  In addition to her numerous seminars she owns the School of Bridge in Toronto\, has receiving numerous bridge awards\, is co-founder of the Zero Tolerance policy and is perhaps best known for her book “25 Bridge Conventions You Should Know”. \nShe is a Sapphire Life Master. \nInformation & Registration
URL:https://paloaltobridge.org/event/celebrity-bridge-seminar-with-barbara-seagram/
LOCATION:Online Webinar\, Link to be provided to registrants
CATEGORIES:Special Events
END:VEVENT
BEGIN:VEVENT
DTSTART;TZID=America/Los_Angeles:20230128T093000
DTEND;TZID=America/Los_Angeles:20230128T110000
DTSTAMP:20260423T044815
CREATED:20221228T011306Z
LAST-MODIFIED:20221228T011902Z
UID:42933-1674898200-1674903600@paloaltobridge.org
SUMMARY:Celebrity Bridge Seminar with Gavin Wolpert
DESCRIPTION:“Reverses\, Jump Shifts + Common Questions” Saturday\, January 28\, 9:30-11am\n \n\nThe first part of this two-part series will be about defining reverses and discussing the fundamental differences between strong jump shifts and reverses. We will also answer common questions like ‘Are reverses on in competition?  Do reverses in 2/1 show extras?  How forcing are reverses?’   There are so many common mistakes made related to reverses.  We will go through tons of bidding examples and iron out lots of these issues.  Intermediate and Above \n\n“Continuing after Reverses” Saturday\, February 4\, 9:30-11am\nThe second part of the series will deal with the major problem with reverse auctions in that opener only promises 17 and responder only 6.  This means we are not necessarily going to game.  On the other hand\, responder is unlimited and may have an opening hand that wants to look for slam.  This well-known problem has been solved with a modern method of having a “slow down” bid.  This class will go through the modern standard method for how responder can slow down reverse auctions by using the cheaper of 2NT and the 4th suit.  We will go through responder’s responsibilities and how opener should react.  Advanced Intermediate and Above \nInformation and registration
URL:https://paloaltobridge.org/event/celebrity-seminar-with-gavin-wolpert-2023/2023-01-28/
LOCATION:Online Webinar\, Link to be provided to registrants
CATEGORIES:Special Events
END:VEVENT
BEGIN:VEVENT
DTSTART;TZID=America/Los_Angeles:20221022T093000
DTEND;TZID=America/Los_Angeles:20221022T110000
DTSTAMP:20260423T044815
CREATED:20221003T230728Z
LAST-MODIFIED:20221004T004129Z
UID:42638-1666431000-1666436400@paloaltobridge.org
SUMMARY:Celebrity Bridge Seminar with Adam Parrish Part II
DESCRIPTION:The first class on Preempts!!! was very well received and covered what to do when you have a “preemptable” hand.  Class-takers were interested in the other part of preempting bidding: how to respond and how to compete against preempts. \n \nAdam Parrish literally wrote the book on this subject (the seminar comes with an ebook copy of his newest book\, Parrish the Thought Volume 1: Preempts and Overcalls). This 90-minute online seminar will cover these questions and more. If you’ve ever had questions about preempts\, you won’t want to miss this one. \nInformation & Registration
URL:https://paloaltobridge.org/event/celebrity-bridge-seminar-with-adam-parrish-copy/
LOCATION:Online Webinar\, Link to be provided to registrants
CATEGORIES:Special Events
END:VEVENT
BEGIN:VEVENT
DTSTART;TZID=America/Los_Angeles:20221001T093000
DTEND;TZID=America/Los_Angeles:20221001T110000
DTSTAMP:20260423T044815
CREATED:20211210T223655Z
LAST-MODIFIED:20221004T004224Z
UID:41037-1664616600-1664622000@paloaltobridge.org
SUMMARY:Celebrity Bridge Seminar with Adam Parrish
DESCRIPTION:The final Celebrity Bridge Lesson of 2022 will be Adam Parrish who will be covering Preempts. \nAdam Parrish literally wrote the book on this subject (the seminar comes with an ebook copy of his newest book\, Parrish the Thought Volume 1: Preempts and Overcalls). This 90-minute online seminar will cover these questions and more. If you’ve ever had questions about preempts\, you won’t want to miss this one. \nPreempts raise so many questions: When do you preempt? How do seat and vulnerability affect preempts? What do you do when partner preempts? How do you handle preempts by your opponents?  \nInformation & Registration
URL:https://paloaltobridge.org/event/celebrity-bridge-seminar-with-adam-parrish/
LOCATION:Online Webinar\, Link to be provided to registrants
CATEGORIES:Special Events
END:VEVENT
BEGIN:VEVENT
DTSTART;TZID=America/Los_Angeles:20220402T093000
DTEND;TZID=America/Los_Angeles:20220402T113000
DTSTAMP:20260423T044815
CREATED:20211210T223428Z
LAST-MODIFIED:20220222T055731Z
UID:41034-1648891800-1648899000@paloaltobridge.org
SUMMARY:Celebrity Bridge Seminar with Robert Todd
DESCRIPTION:“Is it Forcing?  How Forcing is it?”  \nWe’ve asked Robert Todd to deliver another excellent virtual class for our Celebrity Lesson Series.  He did a virtual class last year that was received with outstanding reviews. \nThis time\, we’re having him discuss the subject of Forcing Bids\, which follows on nicely from Gavin Wolpert’s discussion of Overcalls.  All levels will benefit from the class but\, particularly\, those of you who are intermediates and advanced players. \n$25 registration fee.  SiVY youth are FREE! \nInformation and registration
URL:https://paloaltobridge.org/event/celebrity-bridge-seminar-with-robert-todd/
LOCATION:Online Webinar\, Link to be provided to registrants
CATEGORIES:Special Events
ATTACH;FMTTYPE=image/jpeg:https://paloaltobridge.org/wp-content/uploads/2018/07/todd.jpg
END:VEVENT
BEGIN:VEVENT
DTSTART;TZID=America/Los_Angeles:20220129T093000
DTEND;TZID=America/Los_Angeles:20220129T110000
DTSTAMP:20260423T044815
CREATED:20211209T214158Z
LAST-MODIFIED:20220625T001123Z
UID:41017-1643448600-1643454000@paloaltobridge.org
SUMMARY:Celebrity Bridge Seminar with Gavin Wolpert
DESCRIPTION:Dealing With Overcalls by Gavin Wolpert\nModern overcalls are getting lighter and lighter every day. It is critical that we have a firm understanding of what our bids mean in order not to let overcalls push us around. These seminars take a step-by-step approach to discussing the various positions we find ourselves in after the opponent’s overcall.  \nThese seminars will benefit the low intermediate level and work their way up.  They cover those pesky situations when opponent’s overcall leaves you scratching your head as to what to bid.  They review some common negative double situations\, as well as responders 2-level bids in competition.  They then shift to discuss opener’s rebid in competition including what is forcing and what isn’t\, how to express a fit\, when to drive for game. \nDetails: \n\nJanuary 29 – Dealing With Overcalls 1\nFebruary 12 – Dealing With Overcalls 2\n\nInformation & Registration
URL:https://paloaltobridge.org/event/celebrity-seminar-with-gavin-wolpert/2022-01-29/
LOCATION:Online Webinar\, Link to be provided to registrants
CATEGORIES:Special Events
END:VEVENT
END:VCALENDAR