BEGIN:VCALENDAR
VERSION:2.0
PRODID:-//Palo Alto Bridge - ECPv6.15.20//NONSGML v1.0//EN
CALSCALE:GREGORIAN
METHOD:PUBLISH
X-ORIGINAL-URL:https://paloaltobridge.org
X-WR-CALDESC:Events for Palo Alto Bridge
REFRESH-INTERVAL;VALUE=DURATION:PT1H
X-Robots-Tag:noindex
X-PUBLISHED-TTL:PT1H
BEGIN:VTIMEZONE
TZID:America/Los_Angeles
BEGIN:DAYLIGHT
TZOFFSETFROM:-0800
TZOFFSETTO:-0700
TZNAME:PDT
DTSTART:20250309T100000
END:DAYLIGHT
BEGIN:STANDARD
TZOFFSETFROM:-0700
TZOFFSETTO:-0800
TZNAME:PST
DTSTART:20251102T090000
END:STANDARD
BEGIN:DAYLIGHT
TZOFFSETFROM:-0800
TZOFFSETTO:-0700
TZNAME:PDT
DTSTART:20260308T100000
END:DAYLIGHT
BEGIN:STANDARD
TZOFFSETFROM:-0700
TZOFFSETTO:-0800
TZNAME:PST
DTSTART:20261101T090000
END:STANDARD
BEGIN:DAYLIGHT
TZOFFSETFROM:-0800
TZOFFSETTO:-0700
TZNAME:PDT
DTSTART:20270314T100000
END:DAYLIGHT
BEGIN:STANDARD
TZOFFSETFROM:-0700
TZOFFSETTO:-0800
TZNAME:PST
DTSTART:20271107T090000
END:STANDARD
END:VTIMEZONE
BEGIN:VEVENT
DTSTART;TZID=America/Los_Angeles:20260106T084500
DTEND;TZID=America/Los_Angeles:20260106T103000
DTSTAMP:20260423T044744
CREATED:20250422T194055Z
LAST-MODIFIED:20251217T072342Z
UID:49830-1767689100-1767695400@paloaltobridge.org
SUMMARY:Supervised Play Tuesday Mornings
DESCRIPTION:[vc_row][vc_column][vc_column_text] \n\n\n\n\nKathy Harper\n(650) 207-1816\nSend Email \n\n\n\n[/vc_column_text][/vc_column][/vc_row]
URL:https://paloaltobridge.org/event/supervised-play-tuesday-mornings-september-2025/2026-01-06/
LOCATION:Bridge Center\, 432A Stierlin Rd\, Mountain View\, CA\, 94043\, United States
CATEGORIES:Education Calendar
GEO:37.4004098;-122.0788615
X-APPLE-STRUCTURED-LOCATION;VALUE=URI;X-ADDRESS=Bridge Center 432A Stierlin Rd Mountain View CA 94043 United States;X-APPLE-RADIUS=500;X-TITLE=432A Stierlin Rd:geo:-122.0788615,37.4004098
END:VEVENT
BEGIN:VEVENT
DTSTART;TZID=America/Los_Angeles:20260106T091500
DTEND;TZID=America/Los_Angeles:20260106T111500
DTSTAMP:20260423T044744
CREATED:20180622T191128Z
LAST-MODIFIED:20251217T074339Z
UID:50345-1767690900-1767698100@paloaltobridge.org
SUMMARY:Planning to Win 2025
DESCRIPTION:Kathy Harper\n(650) 207-1816\nSend Email \n\n\n\nA more modern style of teaching bridge designed by Pat Harrington. For players with some bridge experience or new players that have completed the Play & Learn Beginning Bridge class. \nFor people who have never played bridge and those people who have played for years but want a refresher course or just to learn the basics. \nNotes will be emailed for all classes. No make-up classes are offered for missed classes. \nOur course instructor is ABTA Master Teacher Kathy Harper. Kathy and our wonderful volunteers give students individual attention which helps our students learn in a fun environment. \nPlease contact Kathy Harper at (650) 207-1816 email for additional information. \n\n\n\n\nPLAY & LEARN Planning to Win\nDates\n\n\n\n\nCancelled due to illness\nSeptember 23\, 2025\n\n\nCounting Winners and Entries in NT;\nBidding Maximum Opening Hands;\nOpening Leads in Notrump\nOctober 7\n\n\nCounting Losers and Drawing Trump;\nMaximum Responding Hands;\nOctober 21\n\n\nPromotion in Suits and Notrump;\nBidding with Minimum Hands\nNovember 4\n\n\nUsing Length in Suits & Notrump;\nNovember 18\n\n\nThe Finesse\nDecember 9\n\n\nDummy Points and Trumping in Dummy;\nBlackwood\nDecember 16\n\n\nDiscarding a Quick Loser\nJanuary 6\, 2026\n\n\nWatch out for the Opponents!\nJanuary 20
URL:https://paloaltobridge.org/event/planning-to-win-sept-2025/2026-01-06/
LOCATION:Bridge Center\, 432A Stierlin Rd\, Mountain View\, CA\, 94043\, United States
CATEGORIES:Education Calendar
GEO:37.4004098;-122.0788615
X-APPLE-STRUCTURED-LOCATION;VALUE=URI;X-ADDRESS=Bridge Center 432A Stierlin Rd Mountain View CA 94043 United States;X-APPLE-RADIUS=500;X-TITLE=432A Stierlin Rd:geo:-122.0788615,37.4004098
END:VEVENT
BEGIN:VEVENT
DTSTART;TZID=America/Los_Angeles:20260112T184500
DTEND;TZID=America/Los_Angeles:20260112T203000
DTSTAMP:20260423T044744
CREATED:20250420T204614Z
LAST-MODIFIED:20250616T170254Z
UID:49648-1768243500-1768249800@paloaltobridge.org
SUMMARY:Supervised Play Monday Evenings
DESCRIPTION:Kathy Harper\n(650) 207-1816\nSend Email
URL:https://paloaltobridge.org/event/supervised-play-10-monday-evenings-sept-2025/2026-01-12/
LOCATION:Bridge Center\, 432A Stierlin Rd\, Mountain View\, CA\, 94043\, United States
CATEGORIES:Education Calendar
GEO:37.4004098;-122.0788615
X-APPLE-STRUCTURED-LOCATION;VALUE=URI;X-ADDRESS=Bridge Center 432A Stierlin Rd Mountain View CA 94043 United States;X-APPLE-RADIUS=500;X-TITLE=432A Stierlin Rd:geo:-122.0788615,37.4004098
END:VEVENT
BEGIN:VEVENT
DTSTART;TZID=America/Los_Angeles:20260112T190000
DTEND;TZID=America/Los_Angeles:20260112T203000
DTSTAMP:20260423T044744
CREATED:20250420T194323Z
LAST-MODIFIED:20250616T165927Z
UID:49888-1768244400-1768249800@paloaltobridge.org
SUMMARY:Beginning Bridge
DESCRIPTION:Kathy Harper\n(650) 207-1816\nSend Email \n\n\n\nLearn Bridge the modern way in this course designed by Pat Harrington! Each class includes both instruction and practice play. Start playing the very first day! Children & teens welcome. \nFor people who have never played bridge and those people who have played for years but want a refresher course or just to learn the basics. \nNotes will be emailed for all classes. No make-up classes are offered for missed classes. \nOur course instructor is ABTA Master Teacher Kathy Harper. Kathy and our wonderful volunteers give students individual attention which helps our students learn in a fun environment. \nPlease contact Kathy Harper for more information.
URL:https://paloaltobridge.org/event/beginning-bridge-10-september-2025/2026-01-12/
LOCATION:Bridge Center\, 432A Stierlin Rd\, Mountain View\, CA\, 94043\, United States
CATEGORIES:Education Calendar
GEO:37.4004098;-122.0788615
X-APPLE-STRUCTURED-LOCATION;VALUE=URI;X-ADDRESS=Bridge Center 432A Stierlin Rd Mountain View CA 94043 United States;X-APPLE-RADIUS=500;X-TITLE=432A Stierlin Rd:geo:-122.0788615,37.4004098
END:VEVENT
BEGIN:VEVENT
DTSTART;TZID=America/Los_Angeles:20260115T191500
DTEND;TZID=America/Los_Angeles:20260115T213000
DTSTAMP:20260423T044744
CREATED:20251206T181844Z
LAST-MODIFIED:20251210T194339Z
UID:67814-1768504500-1768512600@paloaltobridge.org
SUMMARY:2 Over 1
DESCRIPTION:[vc_row][vc_column][vc_column_text css=””] \n\n\n\n\nFrank Smoot\n(408) 306-3901\nSend Email \n\n\n\n[/vc_column_text][vc_column_text css=””]Would you like to save bidding space? Learn the 2 Over 1 System\, the most popular bidding system among experienced players. The system provides a scientific approach to bidding. Responder doesn’t need to jump to show game-forcing values. This extra room allows opener and responder to exchange detailed information about hand distribution\, strength\, and control holdings below game level. This allows for superior game/slam exploration. \nThis course is intended for Intermediate level bridge players with at least one year of duplicate experience. \nUsing materials from 2 Over 1 Game Force by Audrey Grant and Eric Rodwell you will learn concepts\, do exercises in class and finish the evening by playing hands relating to the topic. There will be light homework consisting of puzzlers at the end of each section in the text. \nThe in-class hands will be available in electronic format so students can play them at home and receive commentary on their bidding and play (requires Bridge Baron software – see below). \nCoffee\, tea and snacks also provided. \nOur course instructor is the very popular Frank Smoot who has taught bridge to beginners and beyond in Palo Alto for 30+ years.  Frank and our wonderful volunteers give students individual attention which helps our students learn in a fun environment. \nStudents will be given one copy of 2 Over 1 Game Force by Audrey Grant and Eric Rodwell.  You may be purchased additional copies at Amazon.com\, Barns & Noble and Baron Barclay among other sources. \nFor more information contact Frank Smoot (408) 306-3901 email.[/vc_column_text][/vc_column][/vc_row][vc_row][vc_column][vc_column_text css=””] \n\n\n\n\nThe 6-Week Course Covers\nBridge Baron Downloads\n\n\n\n\n\n\n\nHow to Benefit from Extra Space\nForcing 1NT Response\nOpener’s Rebid\nResponder’s Rebid and Fast Arrival\nGame or Slam & Control Bids\nShowing Controls\n\n\n\n\nIntroduction (Deals 1-4)\nForcing 1NT (Deals 5-8)\nRebids (Deals 9-12)\nReview (Deals 17-24)\nGame or Slam (Deals 13-16)\nReview (Deals 25-32)\nBonus Deals 1-6\nBonus Deals 7-12\n\n\n\n\n\n[/vc_column_text][/vc_column][/vc_row][vc_row][vc_column][vc_column_text css=””]Bridge Baron Support \nPurchase:  BaronBarclay\nInstructions for downloading and playing files with Bridge Baron\nStudents:  For additional support contact Alan Templeton or Frank Smoot[/vc_column_text][/vc_column][/vc_row][vc_row][vc_column][vc_column_text css=””] \n\nPayment\nAfter registering\, below\, you may pay by Zelle or check to hold your spot: \nZelle:  Transfer $200 to either franklinsalias-bridge@yahoo.com or (408) 306-3901. \nCheck:  Mail a check made out to Frank Smoot in the amount of $200: \n\nFrank Smoot\n15 Tagus Ct.\nPortola Valley\, CA 94028[/vc_column_text][/vc_column][/vc_row]
URL:https://paloaltobridge.org/event/2-over-1-2026/2026-01-15/
LOCATION:Bridge Center\, 432A Stierlin Rd\, Mountain View\, CA\, 94043\, United States
CATEGORIES:Education Calendar
GEO:37.4004098;-122.0788615
X-APPLE-STRUCTURED-LOCATION;VALUE=URI;X-ADDRESS=Bridge Center 432A Stierlin Rd Mountain View CA 94043 United States;X-APPLE-RADIUS=500;X-TITLE=432A Stierlin Rd:geo:-122.0788615,37.4004098
END:VEVENT
BEGIN:VEVENT
DTSTART;TZID=America/Los_Angeles:20260120T084500
DTEND;TZID=America/Los_Angeles:20260120T103000
DTSTAMP:20260423T044744
CREATED:20250422T194055Z
LAST-MODIFIED:20250422T194055Z
UID:67948-1768898700-1768905000@paloaltobridge.org
SUMMARY:Supervised Play Tuesday Mornings
DESCRIPTION:[vc_row][vc_column][vc_column_text] \n\n\n\n\nKathy Harper\n(650) 207-1816\nSend Email \n\n\n\n[/vc_column_text][/vc_column][/vc_row]
URL:https://paloaltobridge.org/event/supervised-play-tuesday-mornings-september-2025/2026-01-20/
LOCATION:Bridge Center\, 432A Stierlin Rd\, Mountain View\, CA\, 94043\, United States
CATEGORIES:Education Calendar
GEO:37.4004098;-122.0788615
X-APPLE-STRUCTURED-LOCATION;VALUE=URI;X-ADDRESS=Bridge Center 432A Stierlin Rd Mountain View CA 94043 United States;X-APPLE-RADIUS=500;X-TITLE=432A Stierlin Rd:geo:-122.0788615,37.4004098
END:VEVENT
BEGIN:VEVENT
DTSTART;TZID=America/Los_Angeles:20260120T090000
DTEND;TZID=America/Los_Angeles:20260120T103000
DTSTAMP:20260423T044744
CREATED:20180622T191128Z
LAST-MODIFIED:20251217T074339Z
UID:67949-1768899600-1768905000@paloaltobridge.org
SUMMARY:Planning to Win 2025
DESCRIPTION:Kathy Harper\n(650) 207-1816\nSend Email \n\n\n\nA more modern style of teaching bridge designed by Pat Harrington. For players with some bridge experience or new players that have completed the Play & Learn Beginning Bridge class. \nFor people who have never played bridge and those people who have played for years but want a refresher course or just to learn the basics. \nNotes will be emailed for all classes. No make-up classes are offered for missed classes. \nOur course instructor is ABTA Master Teacher Kathy Harper. Kathy and our wonderful volunteers give students individual attention which helps our students learn in a fun environment. \nPlease contact Kathy Harper at (650) 207-1816 email for additional information. \n\n\n\n\nPLAY & LEARN Planning to Win\nDates\n\n\n\n\nCancelled due to illness\nSeptember 23\, 2025\n\n\nCounting Winners and Entries in NT;\nBidding Maximum Opening Hands;\nOpening Leads in Notrump\nOctober 7\n\n\nCounting Losers and Drawing Trump;\nMaximum Responding Hands;\nOctober 21\n\n\nPromotion in Suits and Notrump;\nBidding with Minimum Hands\nNovember 4\n\n\nUsing Length in Suits & Notrump;\nNovember 18\n\n\nThe Finesse\nDecember 9\n\n\nDummy Points and Trumping in Dummy;\nBlackwood\nDecember 16\n\n\nDiscarding a Quick Loser\nJanuary 6\, 2026\n\n\nWatch out for the Opponents!\nJanuary 20
URL:https://paloaltobridge.org/event/planning-to-win-sept-2025/2026-01-20/
LOCATION:Bridge Center\, 432A Stierlin Rd\, Mountain View\, CA\, 94043\, United States
CATEGORIES:Education Calendar
GEO:37.4004098;-122.0788615
X-APPLE-STRUCTURED-LOCATION;VALUE=URI;X-ADDRESS=Bridge Center 432A Stierlin Rd Mountain View CA 94043 United States;X-APPLE-RADIUS=500;X-TITLE=432A Stierlin Rd:geo:-122.0788615,37.4004098
END:VEVENT
BEGIN:VEVENT
DTSTART;TZID=America/Los_Angeles:20260122T191500
DTEND;TZID=America/Los_Angeles:20260122T213000
DTSTAMP:20260423T044744
CREATED:20251206T181844Z
LAST-MODIFIED:20251210T194339Z
UID:67816-1769109300-1769117400@paloaltobridge.org
SUMMARY:2 Over 1
DESCRIPTION:[vc_row][vc_column][vc_column_text css=””] \n\n\n\n\nFrank Smoot\n(408) 306-3901\nSend Email \n\n\n\n[/vc_column_text][vc_column_text css=””]Would you like to save bidding space? Learn the 2 Over 1 System\, the most popular bidding system among experienced players. The system provides a scientific approach to bidding. Responder doesn’t need to jump to show game-forcing values. This extra room allows opener and responder to exchange detailed information about hand distribution\, strength\, and control holdings below game level. This allows for superior game/slam exploration. \nThis course is intended for Intermediate level bridge players with at least one year of duplicate experience. \nUsing materials from 2 Over 1 Game Force by Audrey Grant and Eric Rodwell you will learn concepts\, do exercises in class and finish the evening by playing hands relating to the topic. There will be light homework consisting of puzzlers at the end of each section in the text. \nThe in-class hands will be available in electronic format so students can play them at home and receive commentary on their bidding and play (requires Bridge Baron software – see below). \nCoffee\, tea and snacks also provided. \nOur course instructor is the very popular Frank Smoot who has taught bridge to beginners and beyond in Palo Alto for 30+ years.  Frank and our wonderful volunteers give students individual attention which helps our students learn in a fun environment. \nStudents will be given one copy of 2 Over 1 Game Force by Audrey Grant and Eric Rodwell.  You may be purchased additional copies at Amazon.com\, Barns & Noble and Baron Barclay among other sources. \nFor more information contact Frank Smoot (408) 306-3901 email.[/vc_column_text][/vc_column][/vc_row][vc_row][vc_column][vc_column_text css=””] \n\n\n\n\nThe 6-Week Course Covers\nBridge Baron Downloads\n\n\n\n\n\n\n\nHow to Benefit from Extra Space\nForcing 1NT Response\nOpener’s Rebid\nResponder’s Rebid and Fast Arrival\nGame or Slam & Control Bids\nShowing Controls\n\n\n\n\nIntroduction (Deals 1-4)\nForcing 1NT (Deals 5-8)\nRebids (Deals 9-12)\nReview (Deals 17-24)\nGame or Slam (Deals 13-16)\nReview (Deals 25-32)\nBonus Deals 1-6\nBonus Deals 7-12\n\n\n\n\n\n[/vc_column_text][/vc_column][/vc_row][vc_row][vc_column][vc_column_text css=””]Bridge Baron Support \nPurchase:  BaronBarclay\nInstructions for downloading and playing files with Bridge Baron\nStudents:  For additional support contact Alan Templeton or Frank Smoot[/vc_column_text][/vc_column][/vc_row][vc_row][vc_column][vc_column_text css=””] \n\nPayment\nAfter registering\, below\, you may pay by Zelle or check to hold your spot: \nZelle:  Transfer $200 to either franklinsalias-bridge@yahoo.com or (408) 306-3901. \nCheck:  Mail a check made out to Frank Smoot in the amount of $200: \n\nFrank Smoot\n15 Tagus Ct.\nPortola Valley\, CA 94028[/vc_column_text][/vc_column][/vc_row]
URL:https://paloaltobridge.org/event/2-over-1-2026/2026-01-22/
LOCATION:Bridge Center\, 432A Stierlin Rd\, Mountain View\, CA\, 94043\, United States
CATEGORIES:Education Calendar
GEO:37.4004098;-122.0788615
X-APPLE-STRUCTURED-LOCATION;VALUE=URI;X-ADDRESS=Bridge Center 432A Stierlin Rd Mountain View CA 94043 United States;X-APPLE-RADIUS=500;X-TITLE=432A Stierlin Rd:geo:-122.0788615,37.4004098
END:VEVENT
BEGIN:VEVENT
DTSTART;TZID=America/Los_Angeles:20260124T093000
DTEND;TZID=America/Los_Angeles:20260124T110000
DTSTAMP:20260423T044744
CREATED:20251209T054855Z
LAST-MODIFIED:20260129T053355Z
UID:67900-1769247000-1769252400@paloaltobridge.org
SUMMARY:Celebrity Bridge Seminar with Amber Lin
DESCRIPTION:How to Defend Against 3NT\nAmber Lin Webinar\nSaturday\, January 24\, 2026\, 9:30-11:00am on Zoom\n“Take ALL your tricks defending 3NT” – At the bridge table\, we find ourselves frequently defending 3NT and struggling to pitch when the opponent runs a long suit. How do we know what to pitch? Usually if we have Q-third\, Qxx\, we keep it\, just in case the declarer has AKJ. We have called this tendency “Q-third-itis.” However\, there are many times when this doesn’t make sense. How do we know when it is OK to unguard our Q-third? Or similarly\, our J-fourth or K-doubleton? This lesson will cover these common situations and teach you how to take all your tricks defending 3NT.   \nThis lesson will benefit all levels of players\, especially Intermediate+ players \nInformation and Registration \n\n World and National Champion\n Team USA Member – Women’s\, Mixed\, Juniors\n “It’s Your Call” Bridge Bulletin Contributor \nAmber Lin is a young professional player and teacher who lives here in the Bay Area. She was recently awarded the ACBL’s 2025 Honorary Member recognizing her huge contributions to the membership.  She won a gold medal in the World Mixed Teams Championships in 2023 and a silver medal in 2022\, she won the Freeman Mixed Board-a-Match Teams in 2022 and won the European Under-31 Pairs Championships in 2023. \nAmber is passionate about introducing young people to the game and is the chair of Silicon Valley Youth Bridge (SiVY) providing regular instruction at the Palo Alto Bridge Center for young\, new players.  She is also the co-organizer of the USBF Junior Training Program and runs the U26 Women’s Intensive program with Kevin
URL:https://paloaltobridge.org/event/celebrity-bridge-seminar-with-amber-lin-jan-2026/
LOCATION:Bridge Center\, 432A Stierlin Rd\, Mountain View\, CA\, 94043\, United States
CATEGORIES:Education Calendar
GEO:37.4004098;-122.0788615
X-APPLE-STRUCTURED-LOCATION;VALUE=URI;X-ADDRESS=Bridge Center 432A Stierlin Rd Mountain View CA 94043 United States;X-APPLE-RADIUS=500;X-TITLE=432A Stierlin Rd:geo:-122.0788615,37.4004098
END:VEVENT
BEGIN:VEVENT
DTSTART;TZID=America/Los_Angeles:20260126T184500
DTEND;TZID=America/Los_Angeles:20260126T203000
DTSTAMP:20260423T044744
CREATED:20250420T204614Z
LAST-MODIFIED:20250616T170255Z
UID:49649-1769453100-1769459400@paloaltobridge.org
SUMMARY:Supervised Play Monday Evenings
DESCRIPTION:Kathy Harper\n(650) 207-1816\nSend Email
URL:https://paloaltobridge.org/event/supervised-play-10-monday-evenings-sept-2025/2026-01-26/
LOCATION:Bridge Center\, 432A Stierlin Rd\, Mountain View\, CA\, 94043\, United States
CATEGORIES:Education Calendar
GEO:37.4004098;-122.0788615
X-APPLE-STRUCTURED-LOCATION;VALUE=URI;X-ADDRESS=Bridge Center 432A Stierlin Rd Mountain View CA 94043 United States;X-APPLE-RADIUS=500;X-TITLE=432A Stierlin Rd:geo:-122.0788615,37.4004098
END:VEVENT
BEGIN:VEVENT
DTSTART;TZID=America/Los_Angeles:20260126T190000
DTEND;TZID=America/Los_Angeles:20260126T203000
DTSTAMP:20260423T044744
CREATED:20250420T194323Z
LAST-MODIFIED:20250616T165927Z
UID:49889-1769454000-1769459400@paloaltobridge.org
SUMMARY:Beginning Bridge
DESCRIPTION:Kathy Harper\n(650) 207-1816\nSend Email \n\n\n\nLearn Bridge the modern way in this course designed by Pat Harrington! Each class includes both instruction and practice play. Start playing the very first day! Children & teens welcome. \nFor people who have never played bridge and those people who have played for years but want a refresher course or just to learn the basics. \nNotes will be emailed for all classes. No make-up classes are offered for missed classes. \nOur course instructor is ABTA Master Teacher Kathy Harper. Kathy and our wonderful volunteers give students individual attention which helps our students learn in a fun environment. \nPlease contact Kathy Harper for more information.
URL:https://paloaltobridge.org/event/beginning-bridge-10-september-2025/2026-01-26/
LOCATION:Bridge Center\, 432A Stierlin Rd\, Mountain View\, CA\, 94043\, United States
CATEGORIES:Education Calendar
GEO:37.4004098;-122.0788615
X-APPLE-STRUCTURED-LOCATION;VALUE=URI;X-ADDRESS=Bridge Center 432A Stierlin Rd Mountain View CA 94043 United States;X-APPLE-RADIUS=500;X-TITLE=432A Stierlin Rd:geo:-122.0788615,37.4004098
END:VEVENT
BEGIN:VEVENT
DTSTART;TZID=America/Los_Angeles:20260129T191500
DTEND;TZID=America/Los_Angeles:20260129T213000
DTSTAMP:20260423T044744
CREATED:20251206T181844Z
LAST-MODIFIED:20251210T194339Z
UID:67817-1769714100-1769722200@paloaltobridge.org
SUMMARY:2 Over 1
DESCRIPTION:[vc_row][vc_column][vc_column_text css=””] \n\n\n\n\nFrank Smoot\n(408) 306-3901\nSend Email \n\n\n\n[/vc_column_text][vc_column_text css=””]Would you like to save bidding space? Learn the 2 Over 1 System\, the most popular bidding system among experienced players. The system provides a scientific approach to bidding. Responder doesn’t need to jump to show game-forcing values. This extra room allows opener and responder to exchange detailed information about hand distribution\, strength\, and control holdings below game level. This allows for superior game/slam exploration. \nThis course is intended for Intermediate level bridge players with at least one year of duplicate experience. \nUsing materials from 2 Over 1 Game Force by Audrey Grant and Eric Rodwell you will learn concepts\, do exercises in class and finish the evening by playing hands relating to the topic. There will be light homework consisting of puzzlers at the end of each section in the text. \nThe in-class hands will be available in electronic format so students can play them at home and receive commentary on their bidding and play (requires Bridge Baron software – see below). \nCoffee\, tea and snacks also provided. \nOur course instructor is the very popular Frank Smoot who has taught bridge to beginners and beyond in Palo Alto for 30+ years.  Frank and our wonderful volunteers give students individual attention which helps our students learn in a fun environment. \nStudents will be given one copy of 2 Over 1 Game Force by Audrey Grant and Eric Rodwell.  You may be purchased additional copies at Amazon.com\, Barns & Noble and Baron Barclay among other sources. \nFor more information contact Frank Smoot (408) 306-3901 email.[/vc_column_text][/vc_column][/vc_row][vc_row][vc_column][vc_column_text css=””] \n\n\n\n\nThe 6-Week Course Covers\nBridge Baron Downloads\n\n\n\n\n\n\n\nHow to Benefit from Extra Space\nForcing 1NT Response\nOpener’s Rebid\nResponder’s Rebid and Fast Arrival\nGame or Slam & Control Bids\nShowing Controls\n\n\n\n\nIntroduction (Deals 1-4)\nForcing 1NT (Deals 5-8)\nRebids (Deals 9-12)\nReview (Deals 17-24)\nGame or Slam (Deals 13-16)\nReview (Deals 25-32)\nBonus Deals 1-6\nBonus Deals 7-12\n\n\n\n\n\n[/vc_column_text][/vc_column][/vc_row][vc_row][vc_column][vc_column_text css=””]Bridge Baron Support \nPurchase:  BaronBarclay\nInstructions for downloading and playing files with Bridge Baron\nStudents:  For additional support contact Alan Templeton or Frank Smoot[/vc_column_text][/vc_column][/vc_row][vc_row][vc_column][vc_column_text css=””] \n\nPayment\nAfter registering\, below\, you may pay by Zelle or check to hold your spot: \nZelle:  Transfer $200 to either franklinsalias-bridge@yahoo.com or (408) 306-3901. \nCheck:  Mail a check made out to Frank Smoot in the amount of $200: \n\nFrank Smoot\n15 Tagus Ct.\nPortola Valley\, CA 94028[/vc_column_text][/vc_column][/vc_row]
URL:https://paloaltobridge.org/event/2-over-1-2026/2026-01-29/
LOCATION:Bridge Center\, 432A Stierlin Rd\, Mountain View\, CA\, 94043\, United States
CATEGORIES:Education Calendar
GEO:37.4004098;-122.0788615
X-APPLE-STRUCTURED-LOCATION;VALUE=URI;X-ADDRESS=Bridge Center 432A Stierlin Rd Mountain View CA 94043 United States;X-APPLE-RADIUS=500;X-TITLE=432A Stierlin Rd:geo:-122.0788615,37.4004098
END:VEVENT
END:VCALENDAR