BEGIN:VCALENDAR
VERSION:2.0
PRODID:-//Palo Alto Bridge - ECPv6.15.20//NONSGML v1.0//EN
CALSCALE:GREGORIAN
METHOD:PUBLISH
X-WR-CALNAME:Palo Alto Bridge
X-ORIGINAL-URL:https://paloaltobridge.org
X-WR-CALDESC:Events for Palo Alto Bridge
REFRESH-INTERVAL;VALUE=DURATION:PT1H
X-Robots-Tag:noindex
X-PUBLISHED-TTL:PT1H
BEGIN:VTIMEZONE
TZID:America/Los_Angeles
BEGIN:DAYLIGHT
TZOFFSETFROM:-0800
TZOFFSETTO:-0700
TZNAME:PDT
DTSTART:20240310T100000
END:DAYLIGHT
BEGIN:STANDARD
TZOFFSETFROM:-0700
TZOFFSETTO:-0800
TZNAME:PST
DTSTART:20241103T090000
END:STANDARD
BEGIN:DAYLIGHT
TZOFFSETFROM:-0800
TZOFFSETTO:-0700
TZNAME:PDT
DTSTART:20250309T100000
END:DAYLIGHT
BEGIN:STANDARD
TZOFFSETFROM:-0700
TZOFFSETTO:-0800
TZNAME:PST
DTSTART:20251102T090000
END:STANDARD
BEGIN:DAYLIGHT
TZOFFSETFROM:-0800
TZOFFSETTO:-0700
TZNAME:PDT
DTSTART:20260308T100000
END:DAYLIGHT
BEGIN:STANDARD
TZOFFSETFROM:-0700
TZOFFSETTO:-0800
TZNAME:PST
DTSTART:20261101T090000
END:STANDARD
END:VTIMEZONE
BEGIN:VEVENT
DTSTART;TZID=America/Los_Angeles:20250908T113000
DTEND;TZID=America/Los_Angeles:20250908T143000
DTSTAMP:20260423T115339
CREATED:20250502T050349Z
LAST-MODIFIED:20250502T051631Z
UID:49918-1757331000-1757341800@paloaltobridge.org
SUMMARY:Swiss Team Club Game
DESCRIPTION:Swiss Team games are great fun to play and grant generous master point awards at sectional\, regional\, and national tournaments!  Now you have the chance to play at the club level in our monthly games hosted by John Schwartz and Will Watson. \nThese games are a wonderful opportunity to polish one’s Swiss Team skills throughout the year and especially prior to sectional\, regional\, and national tournaments. If you are less experienced or have never played in a Swiss Team game and would like to play Swiss Teams at future tournaments\, these Swiss Team club games are a perfect opportunity to gain experience in a more relaxed club game environment. For those less experienced Swiss Team players\, here are slides from a Swiss Team strategy lecture from a Swiss Team strategy lecture given in August 2023.. \nThese games will have an Open and a Limited section.  They will award 100% black points. \nNo lunch is provided.   Snacks aree available before and during the game. \nFor planning purposes\, we ask that players sign-up to play at: https://www.signup123.com/unit503bridge/Scripts/slogin.pl  \n\nThe game reservation system is designed for pairs games and not Swiss Teams. So\, to sign up your team\, sign up you and your partner in both the N/S and E/W boxes.\nHaving trouble signing up? Email Will Watson watsonbridge@gmail.com\n\nDon’t have a team of four? The Unit will help you find a team. Email Will Watson at watsonbridge@gmail.com. \nHave questions? Please contact Will or Marc Cervellino at marc.cervellino@hotmail.com.
URL:https://paloaltobridge.org/event/swiss-team-club-game-2025/2025-09-08/
LOCATION:Bridge Center\, 432A Stierlin Rd\, Mountain View\, CA\, 94043\, United States
CATEGORIES:Club Games,Special Events
GEO:37.4004098;-122.0788615
X-APPLE-STRUCTURED-LOCATION;VALUE=URI;X-ADDRESS=Bridge Center 432A Stierlin Rd Mountain View CA 94043 United States;X-APPLE-RADIUS=500;X-TITLE=432A Stierlin Rd:geo:-122.0788615,37.4004098
END:VEVENT
BEGIN:VEVENT
DTSTART;TZID=America/Los_Angeles:20250911T191500
DTEND;TZID=America/Los_Angeles:20250911T213000
DTSTAMP:20260423T115339
CREATED:20250817T154609Z
LAST-MODIFIED:20250906T060251Z
UID:50813-1757618100-1757626200@paloaltobridge.org
SUMMARY:Sharpen Your Competitive Edge
DESCRIPTION:[vc_row][vc_column][vc_column_text css=””] \n\n\n\n\nFrank Smoot\n(408) 306-3901\nSend Email \n\n\n\nYou will learn powerful and practical bidding\, play and defense concepts. The opponents will often get into your auction (and you into theirs) in this course. You will add tools to overcome the competition and use the bidding to help your play of the hand. \n\n\n\nThis course is designed for players who understand the basics\, but are working on accurately assessing their hand strength to avoid overbidding or underbidding – players who are refining techniques like finesses\, setting up long suits and entry management. We will cherish mistakes in class and grow stronger from them. \n\n\n\nUsing materials from many sources (primarily Richard Pavlicek) you will learn powerful and practical bidding\, play and defense concepts\, do exercises in class (homework outside of class) and finish the evening by playing hands relating to the topic. Snacks are also provided. You will be amazed at what you will learn\, even if you have played for years and years! \nThe in-class exercises are available in electronic format so students can play the hands at home and receive commentary on their bidding and play (requires Bridge Baron software). \nOur course lecturer is the very popular Frank Smoot who has taught bridge to beginners and beyond in Palo Alto for 30+ years.  Frank and our wonderful volunteers give students individual attention which helps our students learn in a fun environment. \nFor more information contact Frank Smoot (408) 306-3901 email.[/vc_column_text][vc_column_text css=””] \n\n\n\n\nThe 8-Week Course Covers\nBridge Baron Downloads\n\n\n\n\n\n\n\nWeak Two Bids\nStrong Two-Club Opening\nBidding Judgment – Uncontested\nBidding Judgment – Contested\nCompeting and Sacrificing\nCombating Weak Openings\nThird Hand Defense\nSecond Hand Defense\n\n\n\n\nWeak Two\nStrong 2 Club\nBidding Judgment – Uncontested\nBidding Judgment – Contested\nCompeting and Sacrificing\nCombating Weak Openings\nThird Hand\nSecond Hand\n\n\n\n\n\n[/vc_column_text][vc_column_text css=””]Bridge Baron Support \nPurchase:  BaronBarclay\nInstructions for downloading and playing files with Bridge Baron\nStudents:  For additional support contact Alan Templeton or Frank Smoot[/vc_column_text][vc_column_text css=””] \n\nPayment\nAfter registering\, below\, you may pay by Zelle or check to hold your spot: \nZelle:  Transfer $240 to either franklinsalias-bridge@yahoo.com or (408) 306-3901. \nCheck:  Mail a check made out to Frank Smoot in the amount of $240: \n\nFrank Smoot\n15 Tagus Ct.\nPortola Valley\, CA 94028[/vc_column_text][/vc_column][/vc_row]
URL:https://paloaltobridge.org/event/sharpen-your-competitive-edge/2025-09-11/
LOCATION:Bridge Center\, 432A Stierlin Rd\, Mountain View\, CA\, 94043\, United States
CATEGORIES:Education Calendar
GEO:37.4004098;-122.0788615
X-APPLE-STRUCTURED-LOCATION;VALUE=URI;X-ADDRESS=Bridge Center 432A Stierlin Rd Mountain View CA 94043 United States;X-APPLE-RADIUS=500;X-TITLE=432A Stierlin Rd:geo:-122.0788615,37.4004098
END:VEVENT
BEGIN:VEVENT
DTSTART;TZID=America/Los_Angeles:20250915T184500
DTEND;TZID=America/Los_Angeles:20250915T203000
DTSTAMP:20260423T115339
CREATED:20250420T204614Z
LAST-MODIFIED:20250616T170251Z
UID:49641-1757961900-1757968200@paloaltobridge.org
SUMMARY:Supervised Play Monday Evenings
DESCRIPTION:Kathy Harper\n(650) 207-1816\nSend Email
URL:https://paloaltobridge.org/event/supervised-play-10-monday-evenings-sept-2025/2025-09-15/
LOCATION:Bridge Center\, 432A Stierlin Rd\, Mountain View\, CA\, 94043\, United States
CATEGORIES:Education Calendar
GEO:37.4004098;-122.0788615
X-APPLE-STRUCTURED-LOCATION;VALUE=URI;X-ADDRESS=Bridge Center 432A Stierlin Rd Mountain View CA 94043 United States;X-APPLE-RADIUS=500;X-TITLE=432A Stierlin Rd:geo:-122.0788615,37.4004098
END:VEVENT
BEGIN:VEVENT
DTSTART;TZID=America/Los_Angeles:20250915T190000
DTEND;TZID=America/Los_Angeles:20250915T203000
DTSTAMP:20260423T115339
CREATED:20250420T194323Z
LAST-MODIFIED:20250616T165924Z
UID:49587-1757962800-1757968200@paloaltobridge.org
SUMMARY:Beginning Bridge
DESCRIPTION:Kathy Harper\n(650) 207-1816\nSend Email \n\n\n\nLearn Bridge the modern way in this course designed by Pat Harrington! Each class includes both instruction and practice play. Start playing the very first day! Children & teens welcome. \nFor people who have never played bridge and those people who have played for years but want a refresher course or just to learn the basics. \nNotes will be emailed for all classes. No make-up classes are offered for missed classes. \nOur course instructor is ABTA Master Teacher Kathy Harper. Kathy and our wonderful volunteers give students individual attention which helps our students learn in a fun environment. \nPlease contact Kathy Harper for more information.
URL:https://paloaltobridge.org/event/beginning-bridge-10-september-2025/2025-09-15/
LOCATION:Bridge Center\, 432A Stierlin Rd\, Mountain View\, CA\, 94043\, United States
CATEGORIES:Education Calendar
GEO:37.4004098;-122.0788615
X-APPLE-STRUCTURED-LOCATION;VALUE=URI;X-ADDRESS=Bridge Center 432A Stierlin Rd Mountain View CA 94043 United States;X-APPLE-RADIUS=500;X-TITLE=432A Stierlin Rd:geo:-122.0788615,37.4004098
END:VEVENT
BEGIN:VEVENT
DTSTART;TZID=America/Los_Angeles:20250916T160000
DTEND;TZID=America/Los_Angeles:20250916T173000
DTSTAMP:20260423T115339
CREATED:20240117T013011Z
LAST-MODIFIED:20240117T013011Z
UID:67366-1758038400-1758043800@paloaltobridge.org
SUMMARY:Board of Directors Meeting
DESCRIPTION:Usually held on the second Tuesday of every month at 4pm.  Meetings are via Zoom.  Please see our Event Calendar for possible changes. \nMembers are welcome to attend.  Please contact the board if you would like a subject added to the Agenda. \nPlease see our Governance page for information about the board\, the agenda for this meeting and the agenda and minutes of past meetings.
URL:https://paloaltobridge.org/event/board-of-directors-2024/2025-09-16/
LOCATION:Bridge Center\, 432A Stierlin Rd\, Mountain View\, CA\, 94043\, United States
CATEGORIES:Special Events
GEO:37.4004098;-122.0788615
X-APPLE-STRUCTURED-LOCATION;VALUE=URI;X-ADDRESS=Bridge Center 432A Stierlin Rd Mountain View CA 94043 United States;X-APPLE-RADIUS=500;X-TITLE=432A Stierlin Rd:geo:-122.0788615,37.4004098
END:VEVENT
BEGIN:VEVENT
DTSTART;TZID=America/Los_Angeles:20250918T191500
DTEND;TZID=America/Los_Angeles:20250918T213000
DTSTAMP:20260423T115339
CREATED:20250817T154609Z
LAST-MODIFIED:20250906T060251Z
UID:50814-1758222900-1758231000@paloaltobridge.org
SUMMARY:Sharpen Your Competitive Edge
DESCRIPTION:[vc_row][vc_column][vc_column_text css=””] \n\n\n\n\nFrank Smoot\n(408) 306-3901\nSend Email \n\n\n\nYou will learn powerful and practical bidding\, play and defense concepts. The opponents will often get into your auction (and you into theirs) in this course. You will add tools to overcome the competition and use the bidding to help your play of the hand. \n\n\n\nThis course is designed for players who understand the basics\, but are working on accurately assessing their hand strength to avoid overbidding or underbidding – players who are refining techniques like finesses\, setting up long suits and entry management. We will cherish mistakes in class and grow stronger from them. \n\n\n\nUsing materials from many sources (primarily Richard Pavlicek) you will learn powerful and practical bidding\, play and defense concepts\, do exercises in class (homework outside of class) and finish the evening by playing hands relating to the topic. Snacks are also provided. You will be amazed at what you will learn\, even if you have played for years and years! \nThe in-class exercises are available in electronic format so students can play the hands at home and receive commentary on their bidding and play (requires Bridge Baron software). \nOur course lecturer is the very popular Frank Smoot who has taught bridge to beginners and beyond in Palo Alto for 30+ years.  Frank and our wonderful volunteers give students individual attention which helps our students learn in a fun environment. \nFor more information contact Frank Smoot (408) 306-3901 email.[/vc_column_text][vc_column_text css=””] \n\n\n\n\nThe 8-Week Course Covers\nBridge Baron Downloads\n\n\n\n\n\n\n\nWeak Two Bids\nStrong Two-Club Opening\nBidding Judgment – Uncontested\nBidding Judgment – Contested\nCompeting and Sacrificing\nCombating Weak Openings\nThird Hand Defense\nSecond Hand Defense\n\n\n\n\nWeak Two\nStrong 2 Club\nBidding Judgment – Uncontested\nBidding Judgment – Contested\nCompeting and Sacrificing\nCombating Weak Openings\nThird Hand\nSecond Hand\n\n\n\n\n\n[/vc_column_text][vc_column_text css=””]Bridge Baron Support \nPurchase:  BaronBarclay\nInstructions for downloading and playing files with Bridge Baron\nStudents:  For additional support contact Alan Templeton or Frank Smoot[/vc_column_text][vc_column_text css=””] \n\nPayment\nAfter registering\, below\, you may pay by Zelle or check to hold your spot: \nZelle:  Transfer $240 to either franklinsalias-bridge@yahoo.com or (408) 306-3901. \nCheck:  Mail a check made out to Frank Smoot in the amount of $240: \n\nFrank Smoot\n15 Tagus Ct.\nPortola Valley\, CA 94028[/vc_column_text][/vc_column][/vc_row]
URL:https://paloaltobridge.org/event/sharpen-your-competitive-edge/2025-09-18/
LOCATION:Bridge Center\, 432A Stierlin Rd\, Mountain View\, CA\, 94043\, United States
CATEGORIES:Education Calendar
GEO:37.4004098;-122.0788615
X-APPLE-STRUCTURED-LOCATION;VALUE=URI;X-ADDRESS=Bridge Center 432A Stierlin Rd Mountain View CA 94043 United States;X-APPLE-RADIUS=500;X-TITLE=432A Stierlin Rd:geo:-122.0788615,37.4004098
END:VEVENT
BEGIN:VEVENT
DTSTART;TZID=America/Los_Angeles:20250923T084500
DTEND;TZID=America/Los_Angeles:20250923T103000
DTSTAMP:20260423T115339
CREATED:20250422T194055Z
LAST-MODIFIED:20251217T072342Z
UID:49823-1758617100-1758623400@paloaltobridge.org
SUMMARY:Supervised Play Tuesday Mornings
DESCRIPTION:[vc_row][vc_column][vc_column_text] \n\n\n\n\nKathy Harper\n(650) 207-1816\nSend Email \n\n\n\n[/vc_column_text][/vc_column][/vc_row]
URL:https://paloaltobridge.org/event/supervised-play-tuesday-mornings-september-2025/2025-09-23/
LOCATION:Bridge Center\, 432A Stierlin Rd\, Mountain View\, CA\, 94043\, United States
CATEGORIES:Education Calendar
GEO:37.4004098;-122.0788615
X-APPLE-STRUCTURED-LOCATION;VALUE=URI;X-ADDRESS=Bridge Center 432A Stierlin Rd Mountain View CA 94043 United States;X-APPLE-RADIUS=500;X-TITLE=432A Stierlin Rd:geo:-122.0788615,37.4004098
END:VEVENT
BEGIN:VEVENT
DTSTART;TZID=America/Los_Angeles:20250923T090000
DTEND;TZID=America/Los_Angeles:20250923T103000
DTSTAMP:20260423T115339
CREATED:20180622T191128Z
LAST-MODIFIED:20251217T074339Z
UID:23047-1758618000-1758623400@paloaltobridge.org
SUMMARY:Planning to Win 2025
DESCRIPTION:Kathy Harper\n(650) 207-1816\nSend Email \n\n\n\nA more modern style of teaching bridge designed by Pat Harrington. For players with some bridge experience or new players that have completed the Play & Learn Beginning Bridge class. \nFor people who have never played bridge and those people who have played for years but want a refresher course or just to learn the basics. \nNotes will be emailed for all classes. No make-up classes are offered for missed classes. \nOur course instructor is ABTA Master Teacher Kathy Harper. Kathy and our wonderful volunteers give students individual attention which helps our students learn in a fun environment. \nPlease contact Kathy Harper at (650) 207-1816 email for additional information. \n\n\n\n\nPLAY & LEARN Planning to Win\nDates\n\n\n\n\nCancelled due to illness\nSeptember 23\, 2025\n\n\nCounting Winners and Entries in NT;\nBidding Maximum Opening Hands;\nOpening Leads in Notrump\nOctober 7\n\n\nCounting Losers and Drawing Trump;\nMaximum Responding Hands;\nOctober 21\n\n\nPromotion in Suits and Notrump;\nBidding with Minimum Hands\nNovember 4\n\n\nUsing Length in Suits & Notrump;\nNovember 18\n\n\nThe Finesse\nDecember 9\n\n\nDummy Points and Trumping in Dummy;\nBlackwood\nDecember 16\n\n\nDiscarding a Quick Loser\nJanuary 6\, 2026\n\n\nWatch out for the Opponents!\nJanuary 20
URL:https://paloaltobridge.org/event/planning-to-win-sept-2025/2025-09-23/
LOCATION:Bridge Center\, 432A Stierlin Rd\, Mountain View\, CA\, 94043\, United States
CATEGORIES:Education Calendar
GEO:37.4004098;-122.0788615
X-APPLE-STRUCTURED-LOCATION;VALUE=URI;X-ADDRESS=Bridge Center 432A Stierlin Rd Mountain View CA 94043 United States;X-APPLE-RADIUS=500;X-TITLE=432A Stierlin Rd:geo:-122.0788615,37.4004098
END:VEVENT
BEGIN:VEVENT
DTSTART;TZID=America/Los_Angeles:20250925T191500
DTEND;TZID=America/Los_Angeles:20250925T213000
DTSTAMP:20260423T115339
CREATED:20250817T154609Z
LAST-MODIFIED:20250906T060252Z
UID:50815-1758827700-1758835800@paloaltobridge.org
SUMMARY:Sharpen Your Competitive Edge
DESCRIPTION:[vc_row][vc_column][vc_column_text css=””] \n\n\n\n\nFrank Smoot\n(408) 306-3901\nSend Email \n\n\n\nYou will learn powerful and practical bidding\, play and defense concepts. The opponents will often get into your auction (and you into theirs) in this course. You will add tools to overcome the competition and use the bidding to help your play of the hand. \n\n\n\nThis course is designed for players who understand the basics\, but are working on accurately assessing their hand strength to avoid overbidding or underbidding – players who are refining techniques like finesses\, setting up long suits and entry management. We will cherish mistakes in class and grow stronger from them. \n\n\n\nUsing materials from many sources (primarily Richard Pavlicek) you will learn powerful and practical bidding\, play and defense concepts\, do exercises in class (homework outside of class) and finish the evening by playing hands relating to the topic. Snacks are also provided. You will be amazed at what you will learn\, even if you have played for years and years! \nThe in-class exercises are available in electronic format so students can play the hands at home and receive commentary on their bidding and play (requires Bridge Baron software). \nOur course lecturer is the very popular Frank Smoot who has taught bridge to beginners and beyond in Palo Alto for 30+ years.  Frank and our wonderful volunteers give students individual attention which helps our students learn in a fun environment. \nFor more information contact Frank Smoot (408) 306-3901 email.[/vc_column_text][vc_column_text css=””] \n\n\n\n\nThe 8-Week Course Covers\nBridge Baron Downloads\n\n\n\n\n\n\n\nWeak Two Bids\nStrong Two-Club Opening\nBidding Judgment – Uncontested\nBidding Judgment – Contested\nCompeting and Sacrificing\nCombating Weak Openings\nThird Hand Defense\nSecond Hand Defense\n\n\n\n\nWeak Two\nStrong 2 Club\nBidding Judgment – Uncontested\nBidding Judgment – Contested\nCompeting and Sacrificing\nCombating Weak Openings\nThird Hand\nSecond Hand\n\n\n\n\n\n[/vc_column_text][vc_column_text css=””]Bridge Baron Support \nPurchase:  BaronBarclay\nInstructions for downloading and playing files with Bridge Baron\nStudents:  For additional support contact Alan Templeton or Frank Smoot[/vc_column_text][vc_column_text css=””] \n\nPayment\nAfter registering\, below\, you may pay by Zelle or check to hold your spot: \nZelle:  Transfer $240 to either franklinsalias-bridge@yahoo.com or (408) 306-3901. \nCheck:  Mail a check made out to Frank Smoot in the amount of $240: \n\nFrank Smoot\n15 Tagus Ct.\nPortola Valley\, CA 94028[/vc_column_text][/vc_column][/vc_row]
URL:https://paloaltobridge.org/event/sharpen-your-competitive-edge/2025-09-25/
LOCATION:Bridge Center\, 432A Stierlin Rd\, Mountain View\, CA\, 94043\, United States
CATEGORIES:Education Calendar
GEO:37.4004098;-122.0788615
X-APPLE-STRUCTURED-LOCATION;VALUE=URI;X-ADDRESS=Bridge Center 432A Stierlin Rd Mountain View CA 94043 United States;X-APPLE-RADIUS=500;X-TITLE=432A Stierlin Rd:geo:-122.0788615,37.4004098
END:VEVENT
BEGIN:VEVENT
DTSTART;TZID=America/Los_Angeles:20250929T184500
DTEND;TZID=America/Los_Angeles:20250929T203000
DTSTAMP:20260423T115339
CREATED:20250420T204614Z
LAST-MODIFIED:20250616T170251Z
UID:49642-1759171500-1759177800@paloaltobridge.org
SUMMARY:Supervised Play Monday Evenings
DESCRIPTION:Kathy Harper\n(650) 207-1816\nSend Email
URL:https://paloaltobridge.org/event/supervised-play-10-monday-evenings-sept-2025/2025-09-29/
LOCATION:Bridge Center\, 432A Stierlin Rd\, Mountain View\, CA\, 94043\, United States
CATEGORIES:Education Calendar
GEO:37.4004098;-122.0788615
X-APPLE-STRUCTURED-LOCATION;VALUE=URI;X-ADDRESS=Bridge Center 432A Stierlin Rd Mountain View CA 94043 United States;X-APPLE-RADIUS=500;X-TITLE=432A Stierlin Rd:geo:-122.0788615,37.4004098
END:VEVENT
BEGIN:VEVENT
DTSTART;TZID=America/Los_Angeles:20250929T190000
DTEND;TZID=America/Los_Angeles:20250929T203000
DTSTAMP:20260423T115339
CREATED:20250420T194323Z
LAST-MODIFIED:20250616T165924Z
UID:49882-1759172400-1759177800@paloaltobridge.org
SUMMARY:Beginning Bridge
DESCRIPTION:Kathy Harper\n(650) 207-1816\nSend Email \n\n\n\nLearn Bridge the modern way in this course designed by Pat Harrington! Each class includes both instruction and practice play. Start playing the very first day! Children & teens welcome. \nFor people who have never played bridge and those people who have played for years but want a refresher course or just to learn the basics. \nNotes will be emailed for all classes. No make-up classes are offered for missed classes. \nOur course instructor is ABTA Master Teacher Kathy Harper. Kathy and our wonderful volunteers give students individual attention which helps our students learn in a fun environment. \nPlease contact Kathy Harper for more information.
URL:https://paloaltobridge.org/event/beginning-bridge-10-september-2025/2025-09-29/
LOCATION:Bridge Center\, 432A Stierlin Rd\, Mountain View\, CA\, 94043\, United States
CATEGORIES:Education Calendar
GEO:37.4004098;-122.0788615
X-APPLE-STRUCTURED-LOCATION;VALUE=URI;X-ADDRESS=Bridge Center 432A Stierlin Rd Mountain View CA 94043 United States;X-APPLE-RADIUS=500;X-TITLE=432A Stierlin Rd:geo:-122.0788615,37.4004098
END:VEVENT
BEGIN:VEVENT
DTSTART;TZID=America/Los_Angeles:20250930T100000
DTEND;TZID=America/Los_Angeles:20250930T150000
DTSTAMP:20260423T115339
CREATED:20250923T201220Z
LAST-MODIFIED:20250923T201220Z
UID:67487-1759226400-1759244400@paloaltobridge.org
SUMMARY:Bridge Center 50th Anniversary Game
DESCRIPTION:Goodies/decorations/honor the many people who have contributed to our Bridge Center.  Game at 10:45.  Alan Cummings Free Lecture by Debbie Rosenberg at 10:00am before the game.  Requires signup. \nSIGNUP
URL:https://paloaltobridge.org/event/bridge-center-50th-anniversary-game/
LOCATION:Bridge Center\, 432A Stierlin Rd\, Mountain View\, CA\, 94043\, United States
CATEGORIES:Special Events
GEO:37.4004098;-122.0788615
X-APPLE-STRUCTURED-LOCATION;VALUE=URI;X-ADDRESS=Bridge Center 432A Stierlin Rd Mountain View CA 94043 United States;X-APPLE-RADIUS=500;X-TITLE=432A Stierlin Rd:geo:-122.0788615,37.4004098
END:VEVENT
END:VCALENDAR