BEGIN:VCALENDAR
VERSION:2.0
PRODID:-//Palo Alto Bridge - ECPv6.15.20//NONSGML v1.0//EN
CALSCALE:GREGORIAN
METHOD:PUBLISH
X-WR-CALNAME:Palo Alto Bridge
X-ORIGINAL-URL:https://paloaltobridge.org
X-WR-CALDESC:Events for Palo Alto Bridge
REFRESH-INTERVAL;VALUE=DURATION:PT1H
X-Robots-Tag:noindex
X-PUBLISHED-TTL:PT1H
BEGIN:VTIMEZONE
TZID:America/Los_Angeles
BEGIN:DAYLIGHT
TZOFFSETFROM:-0800
TZOFFSETTO:-0700
TZNAME:PDT
DTSTART:20240310T100000
END:DAYLIGHT
BEGIN:STANDARD
TZOFFSETFROM:-0700
TZOFFSETTO:-0800
TZNAME:PST
DTSTART:20241103T090000
END:STANDARD
BEGIN:DAYLIGHT
TZOFFSETFROM:-0800
TZOFFSETTO:-0700
TZNAME:PDT
DTSTART:20250309T100000
END:DAYLIGHT
BEGIN:STANDARD
TZOFFSETFROM:-0700
TZOFFSETTO:-0800
TZNAME:PST
DTSTART:20251102T090000
END:STANDARD
BEGIN:DAYLIGHT
TZOFFSETFROM:-0800
TZOFFSETTO:-0700
TZNAME:PDT
DTSTART:20260308T100000
END:DAYLIGHT
BEGIN:STANDARD
TZOFFSETFROM:-0700
TZOFFSETTO:-0800
TZNAME:PST
DTSTART:20261101T090000
END:STANDARD
END:VTIMEZONE
BEGIN:VEVENT
DTSTART;TZID=America/Los_Angeles:20250705T120000
DTEND;TZID=America/Los_Angeles:20250705T170000
DTSTAMP:20260423T151650
CREATED:20250528T031810Z
LAST-MODIFIED:20250528T042848Z
UID:50217-1751716800-1751734800@paloaltobridge.org
SUMMARY:SiVY vs. CBE Battle of the Bay
DESCRIPTION:The annual SiVY vs. CBE (Center for Bridge Education) “Battle of the Bay” tournament will be held at our Bridge Center. This is a great event for kids from both bridge organizations to meet each other and enjoy some friendly competition. \nInfo
URL:https://paloaltobridge.org/event/sivy-vs-cbe-battle-of-the-bay/
LOCATION:Bridge Center\, 432A Stierlin Rd\, Mountain View\, CA\, 94043\, United States
CATEGORIES:Special Events
GEO:37.4004098;-122.0788615
X-APPLE-STRUCTURED-LOCATION;VALUE=URI;X-ADDRESS=Bridge Center 432A Stierlin Rd Mountain View CA 94043 United States;X-APPLE-RADIUS=500;X-TITLE=432A Stierlin Rd:geo:-122.0788615,37.4004098
END:VEVENT
BEGIN:VEVENT
DTSTART;TZID=America/Los_Angeles:20250708T160000
DTEND;TZID=America/Los_Angeles:20250708T173000
DTSTAMP:20260423T151650
CREATED:20240117T013011Z
LAST-MODIFIED:20240117T013011Z
UID:67364-1751990400-1751995800@paloaltobridge.org
SUMMARY:Board of Directors Meeting
DESCRIPTION:Usually held on the second Tuesday of every month at 4pm.  Meetings are via Zoom.  Please see our Event Calendar for possible changes. \nMembers are welcome to attend.  Please contact the board if you would like a subject added to the Agenda. \nPlease see our Governance page for information about the board\, the agenda for this meeting and the agenda and minutes of past meetings.
URL:https://paloaltobridge.org/event/board-of-directors-2024/2025-07-08/
LOCATION:Bridge Center\, 432A Stierlin Rd\, Mountain View\, CA\, 94043\, United States
CATEGORIES:Special Events
GEO:37.4004098;-122.0788615
X-APPLE-STRUCTURED-LOCATION;VALUE=URI;X-ADDRESS=Bridge Center 432A Stierlin Rd Mountain View CA 94043 United States;X-APPLE-RADIUS=500;X-TITLE=432A Stierlin Rd:geo:-122.0788615,37.4004098
END:VEVENT
BEGIN:VEVENT
DTSTART;VALUE=DATE:20250709
DTEND;VALUE=DATE:20250714
DTSTAMP:20260423T151650
CREATED:20240516T233549Z
LAST-MODIFIED:20250606T190809Z
UID:46178-1752019200-1752451199@paloaltobridge.org
SUMMARY:Firecracker Open Sectional + Non-Life Master Regional
DESCRIPTION:Pre-registration required.\nInformation and registration.
URL:https://paloaltobridge.org/event/palo-alto-open-sectional-non-life-master-regional/
LOCATION:Bridge Center\, 432A Stierlin Rd\, Mountain View\, CA\, 94043\, United States
CATEGORIES:Special Events
GEO:37.4004098;-122.0788615
X-APPLE-STRUCTURED-LOCATION;VALUE=URI;X-ADDRESS=Bridge Center 432A Stierlin Rd Mountain View CA 94043 United States;X-APPLE-RADIUS=500;X-TITLE=432A Stierlin Rd:geo:-122.0788615,37.4004098
END:VEVENT
BEGIN:VEVENT
DTSTART;VALUE=DATE:20250717
DTEND;VALUE=DATE:20250718
DTSTAMP:20260423T151650
CREATED:20250624T043023Z
LAST-MODIFIED:20260404T204712Z
UID:50515-1752710400-1752796799@paloaltobridge.org
SUMMARY:Free Lecture
DESCRIPTION:Our Unit provides free lectures as part of our education program. Lectures cover areas of interest for new as well as intermediate players. Lectures are held at our Bridge Center. Sign-ups are not required. \nMore
URL:https://paloaltobridge.org/event/free-lecture-3/2025-07-17/
LOCATION:Bridge Center\, 432A Stierlin Rd\, Mountain View\, CA\, 94043\, United States
CATEGORIES:Education Calendar
GEO:37.4004098;-122.0788615
X-APPLE-STRUCTURED-LOCATION;VALUE=URI;X-ADDRESS=Bridge Center 432A Stierlin Rd Mountain View CA 94043 United States;X-APPLE-RADIUS=500;X-TITLE=432A Stierlin Rd:geo:-122.0788615,37.4004098
END:VEVENT
BEGIN:VEVENT
DTSTART;TZID=America/Los_Angeles:20250721T113000
DTEND;TZID=America/Los_Angeles:20250721T143000
DTSTAMP:20260423T151650
CREATED:20250502T050349Z
LAST-MODIFIED:20250502T051630Z
UID:49916-1753097400-1753108200@paloaltobridge.org
SUMMARY:Swiss Team Club Game
DESCRIPTION:Swiss Team games are great fun to play and grant generous master point awards at sectional\, regional\, and national tournaments!  Now you have the chance to play at the club level in our monthly games hosted by John Schwartz and Will Watson. \nThese games are a wonderful opportunity to polish one’s Swiss Team skills throughout the year and especially prior to sectional\, regional\, and national tournaments. If you are less experienced or have never played in a Swiss Team game and would like to play Swiss Teams at future tournaments\, these Swiss Team club games are a perfect opportunity to gain experience in a more relaxed club game environment. For those less experienced Swiss Team players\, here are slides from a Swiss Team strategy lecture from a Swiss Team strategy lecture given in August 2023.. \nThese games will have an Open and a Limited section.  They will award 100% black points. \nNo lunch is provided.   Snacks aree available before and during the game. \nFor planning purposes\, we ask that players sign-up to play at: https://www.signup123.com/unit503bridge/Scripts/slogin.pl  \n\nThe game reservation system is designed for pairs games and not Swiss Teams. So\, to sign up your team\, sign up you and your partner in both the N/S and E/W boxes.\nHaving trouble signing up? Email Will Watson watsonbridge@gmail.com\n\nDon’t have a team of four? The Unit will help you find a team. Email Will Watson at watsonbridge@gmail.com. \nHave questions? Please contact Will or Marc Cervellino at marc.cervellino@hotmail.com.
URL:https://paloaltobridge.org/event/swiss-team-club-game-2025/2025-07-21/
LOCATION:Bridge Center\, 432A Stierlin Rd\, Mountain View\, CA\, 94043\, United States
CATEGORIES:Club Games,Special Events
GEO:37.4004098;-122.0788615
X-APPLE-STRUCTURED-LOCATION;VALUE=URI;X-ADDRESS=Bridge Center 432A Stierlin Rd Mountain View CA 94043 United States;X-APPLE-RADIUS=500;X-TITLE=432A Stierlin Rd:geo:-122.0788615,37.4004098
END:VEVENT
END:VCALENDAR