BEGIN:VCALENDAR
VERSION:2.0
PRODID:-//Palo Alto Bridge - ECPv6.15.20//NONSGML v1.0//EN
CALSCALE:GREGORIAN
METHOD:PUBLISH
X-ORIGINAL-URL:https://paloaltobridge.org
X-WR-CALDESC:Events for Palo Alto Bridge
REFRESH-INTERVAL;VALUE=DURATION:PT1H
X-Robots-Tag:noindex
X-PUBLISHED-TTL:PT1H
BEGIN:VTIMEZONE
TZID:America/Los_Angeles
BEGIN:DAYLIGHT
TZOFFSETFROM:-0800
TZOFFSETTO:-0700
TZNAME:PDT
DTSTART:20250309T100000
END:DAYLIGHT
BEGIN:STANDARD
TZOFFSETFROM:-0700
TZOFFSETTO:-0800
TZNAME:PST
DTSTART:20251102T090000
END:STANDARD
BEGIN:DAYLIGHT
TZOFFSETFROM:-0800
TZOFFSETTO:-0700
TZNAME:PDT
DTSTART:20260308T100000
END:DAYLIGHT
BEGIN:STANDARD
TZOFFSETFROM:-0700
TZOFFSETTO:-0800
TZNAME:PST
DTSTART:20261101T090000
END:STANDARD
BEGIN:DAYLIGHT
TZOFFSETFROM:-0800
TZOFFSETTO:-0700
TZNAME:PDT
DTSTART:20270314T100000
END:DAYLIGHT
BEGIN:STANDARD
TZOFFSETFROM:-0700
TZOFFSETTO:-0800
TZNAME:PST
DTSTART:20271107T090000
END:STANDARD
END:VTIMEZONE
BEGIN:VEVENT
DTSTART;TZID=America/Los_Angeles:20261116T111500
DTEND;TZID=America/Los_Angeles:20261116T131500
DTSTAMP:20260423T100608
CREATED:20260222T165043Z
LAST-MODIFIED:20260317T033717Z
UID:92226-1794827700-1794834900@paloaltobridge.org
SUMMARY:EZ Bridge
DESCRIPTION:Duplicate Bridge Made Easy\nNew to duplicate? Want a relaxed game designed to help you improve? This is for you. \n3 Mondays in March\nMarch 9\, 16\, and 23\nEvery Monday\n11am mini-lesson\n11:15am – 1:15pm game\n12-14 Boards\n$15 per person \nACBL-sanctioned game (0-49 MPs)\nMasterpoints awarded. \nAsk Questions and Have Fun\nNeed a partner?  We’ll match you up. \nSignup for this fun event | Flyer \nQuestions? Ask John\, Will or Alex: \nJohn Schwartz irpdy@yahoo.com\nWill Watson watsonbridge@gmail.com\nAlex Narasi anarasin@yahoo.com \n 
URL:https://paloaltobridge.org/event/ez-bridge/2026-11-16/
LOCATION:Bridge Center\, 432A Stierlin Rd\, Mountain View\, CA\, 94043\, United States
CATEGORIES:Club Games
GEO:37.4004098;-122.0788615
X-APPLE-STRUCTURED-LOCATION;VALUE=URI;X-ADDRESS=Bridge Center 432A Stierlin Rd Mountain View CA 94043 United States;X-APPLE-RADIUS=500;X-TITLE=432A Stierlin Rd:geo:-122.0788615,37.4004098
END:VEVENT
BEGIN:VEVENT
DTSTART;TZID=America/Los_Angeles:20261123T111500
DTEND;TZID=America/Los_Angeles:20261123T131500
DTSTAMP:20260423T100608
CREATED:20260222T165043Z
LAST-MODIFIED:20260317T033717Z
UID:92227-1795432500-1795439700@paloaltobridge.org
SUMMARY:EZ Bridge
DESCRIPTION:Duplicate Bridge Made Easy\nNew to duplicate? Want a relaxed game designed to help you improve? This is for you. \n3 Mondays in March\nMarch 9\, 16\, and 23\nEvery Monday\n11am mini-lesson\n11:15am – 1:15pm game\n12-14 Boards\n$15 per person \nACBL-sanctioned game (0-49 MPs)\nMasterpoints awarded. \nAsk Questions and Have Fun\nNeed a partner?  We’ll match you up. \nSignup for this fun event | Flyer \nQuestions? Ask John\, Will or Alex: \nJohn Schwartz irpdy@yahoo.com\nWill Watson watsonbridge@gmail.com\nAlex Narasi anarasin@yahoo.com \n 
URL:https://paloaltobridge.org/event/ez-bridge/2026-11-23/
LOCATION:Bridge Center\, 432A Stierlin Rd\, Mountain View\, CA\, 94043\, United States
CATEGORIES:Club Games
GEO:37.4004098;-122.0788615
X-APPLE-STRUCTURED-LOCATION;VALUE=URI;X-ADDRESS=Bridge Center 432A Stierlin Rd Mountain View CA 94043 United States;X-APPLE-RADIUS=500;X-TITLE=432A Stierlin Rd:geo:-122.0788615,37.4004098
END:VEVENT
BEGIN:VEVENT
DTSTART;TZID=America/Los_Angeles:20261130T111500
DTEND;TZID=America/Los_Angeles:20261130T131500
DTSTAMP:20260423T100608
CREATED:20260222T165043Z
LAST-MODIFIED:20260317T033718Z
UID:92228-1796037300-1796044500@paloaltobridge.org
SUMMARY:EZ Bridge
DESCRIPTION:Duplicate Bridge Made Easy\nNew to duplicate? Want a relaxed game designed to help you improve? This is for you. \n3 Mondays in March\nMarch 9\, 16\, and 23\nEvery Monday\n11am mini-lesson\n11:15am – 1:15pm game\n12-14 Boards\n$15 per person \nACBL-sanctioned game (0-49 MPs)\nMasterpoints awarded. \nAsk Questions and Have Fun\nNeed a partner?  We’ll match you up. \nSignup for this fun event | Flyer \nQuestions? Ask John\, Will or Alex: \nJohn Schwartz irpdy@yahoo.com\nWill Watson watsonbridge@gmail.com\nAlex Narasi anarasin@yahoo.com \n 
URL:https://paloaltobridge.org/event/ez-bridge/2026-11-30/
LOCATION:Bridge Center\, 432A Stierlin Rd\, Mountain View\, CA\, 94043\, United States
CATEGORIES:Club Games
GEO:37.4004098;-122.0788615
X-APPLE-STRUCTURED-LOCATION;VALUE=URI;X-ADDRESS=Bridge Center 432A Stierlin Rd Mountain View CA 94043 United States;X-APPLE-RADIUS=500;X-TITLE=432A Stierlin Rd:geo:-122.0788615,37.4004098
END:VEVENT
BEGIN:VEVENT
DTSTART;TZID=America/Los_Angeles:20261207T111500
DTEND;TZID=America/Los_Angeles:20261207T131500
DTSTAMP:20260423T100608
CREATED:20260222T165043Z
LAST-MODIFIED:20260317T033718Z
UID:92229-1796642100-1796649300@paloaltobridge.org
SUMMARY:EZ Bridge
DESCRIPTION:Duplicate Bridge Made Easy\nNew to duplicate? Want a relaxed game designed to help you improve? This is for you. \n3 Mondays in March\nMarch 9\, 16\, and 23\nEvery Monday\n11am mini-lesson\n11:15am – 1:15pm game\n12-14 Boards\n$15 per person \nACBL-sanctioned game (0-49 MPs)\nMasterpoints awarded. \nAsk Questions and Have Fun\nNeed a partner?  We’ll match you up. \nSignup for this fun event | Flyer \nQuestions? Ask John\, Will or Alex: \nJohn Schwartz irpdy@yahoo.com\nWill Watson watsonbridge@gmail.com\nAlex Narasi anarasin@yahoo.com \n 
URL:https://paloaltobridge.org/event/ez-bridge/2026-12-07/
LOCATION:Bridge Center\, 432A Stierlin Rd\, Mountain View\, CA\, 94043\, United States
CATEGORIES:Club Games
GEO:37.4004098;-122.0788615
X-APPLE-STRUCTURED-LOCATION;VALUE=URI;X-ADDRESS=Bridge Center 432A Stierlin Rd Mountain View CA 94043 United States;X-APPLE-RADIUS=500;X-TITLE=432A Stierlin Rd:geo:-122.0788615,37.4004098
END:VEVENT
BEGIN:VEVENT
DTSTART;TZID=America/Los_Angeles:20261214T111500
DTEND;TZID=America/Los_Angeles:20261214T131500
DTSTAMP:20260423T100608
CREATED:20260222T165043Z
LAST-MODIFIED:20260317T033718Z
UID:92230-1797246900-1797254100@paloaltobridge.org
SUMMARY:EZ Bridge
DESCRIPTION:Duplicate Bridge Made Easy\nNew to duplicate? Want a relaxed game designed to help you improve? This is for you. \n3 Mondays in March\nMarch 9\, 16\, and 23\nEvery Monday\n11am mini-lesson\n11:15am – 1:15pm game\n12-14 Boards\n$15 per person \nACBL-sanctioned game (0-49 MPs)\nMasterpoints awarded. \nAsk Questions and Have Fun\nNeed a partner?  We’ll match you up. \nSignup for this fun event | Flyer \nQuestions? Ask John\, Will or Alex: \nJohn Schwartz irpdy@yahoo.com\nWill Watson watsonbridge@gmail.com\nAlex Narasi anarasin@yahoo.com \n 
URL:https://paloaltobridge.org/event/ez-bridge/2026-12-14/
LOCATION:Bridge Center\, 432A Stierlin Rd\, Mountain View\, CA\, 94043\, United States
CATEGORIES:Club Games
GEO:37.4004098;-122.0788615
X-APPLE-STRUCTURED-LOCATION;VALUE=URI;X-ADDRESS=Bridge Center 432A Stierlin Rd Mountain View CA 94043 United States;X-APPLE-RADIUS=500;X-TITLE=432A Stierlin Rd:geo:-122.0788615,37.4004098
END:VEVENT
BEGIN:VEVENT
DTSTART;TZID=America/Los_Angeles:20261221T111500
DTEND;TZID=America/Los_Angeles:20261221T131500
DTSTAMP:20260423T100608
CREATED:20260222T165043Z
LAST-MODIFIED:20260317T033718Z
UID:92231-1797851700-1797858900@paloaltobridge.org
SUMMARY:EZ Bridge
DESCRIPTION:Duplicate Bridge Made Easy\nNew to duplicate? Want a relaxed game designed to help you improve? This is for you. \n3 Mondays in March\nMarch 9\, 16\, and 23\nEvery Monday\n11am mini-lesson\n11:15am – 1:15pm game\n12-14 Boards\n$15 per person \nACBL-sanctioned game (0-49 MPs)\nMasterpoints awarded. \nAsk Questions and Have Fun\nNeed a partner?  We’ll match you up. \nSignup for this fun event | Flyer \nQuestions? Ask John\, Will or Alex: \nJohn Schwartz irpdy@yahoo.com\nWill Watson watsonbridge@gmail.com\nAlex Narasi anarasin@yahoo.com \n 
URL:https://paloaltobridge.org/event/ez-bridge/2026-12-21/
LOCATION:Bridge Center\, 432A Stierlin Rd\, Mountain View\, CA\, 94043\, United States
CATEGORIES:Club Games
GEO:37.4004098;-122.0788615
X-APPLE-STRUCTURED-LOCATION;VALUE=URI;X-ADDRESS=Bridge Center 432A Stierlin Rd Mountain View CA 94043 United States;X-APPLE-RADIUS=500;X-TITLE=432A Stierlin Rd:geo:-122.0788615,37.4004098
END:VEVENT
BEGIN:VEVENT
DTSTART;TZID=America/Los_Angeles:20261228T111500
DTEND;TZID=America/Los_Angeles:20261228T131500
DTSTAMP:20260423T100608
CREATED:20260222T165043Z
LAST-MODIFIED:20260317T033718Z
UID:92232-1798456500-1798463700@paloaltobridge.org
SUMMARY:EZ Bridge
DESCRIPTION:Duplicate Bridge Made Easy\nNew to duplicate? Want a relaxed game designed to help you improve? This is for you. \n3 Mondays in March\nMarch 9\, 16\, and 23\nEvery Monday\n11am mini-lesson\n11:15am – 1:15pm game\n12-14 Boards\n$15 per person \nACBL-sanctioned game (0-49 MPs)\nMasterpoints awarded. \nAsk Questions and Have Fun\nNeed a partner?  We’ll match you up. \nSignup for this fun event | Flyer \nQuestions? Ask John\, Will or Alex: \nJohn Schwartz irpdy@yahoo.com\nWill Watson watsonbridge@gmail.com\nAlex Narasi anarasin@yahoo.com \n 
URL:https://paloaltobridge.org/event/ez-bridge/2026-12-28/
LOCATION:Bridge Center\, 432A Stierlin Rd\, Mountain View\, CA\, 94043\, United States
CATEGORIES:Club Games
GEO:37.4004098;-122.0788615
X-APPLE-STRUCTURED-LOCATION;VALUE=URI;X-ADDRESS=Bridge Center 432A Stierlin Rd Mountain View CA 94043 United States;X-APPLE-RADIUS=500;X-TITLE=432A Stierlin Rd:geo:-122.0788615,37.4004098
END:VEVENT
END:VCALENDAR