BEGIN:VCALENDAR
VERSION:2.0
PRODID:-//Palo Alto Bridge - ECPv6.15.20//NONSGML v1.0//EN
CALSCALE:GREGORIAN
METHOD:PUBLISH
X-WR-CALNAME:Palo Alto Bridge
X-ORIGINAL-URL:https://paloaltobridge.org
X-WR-CALDESC:Events for Palo Alto Bridge
REFRESH-INTERVAL;VALUE=DURATION:PT1H
X-Robots-Tag:noindex
X-PUBLISHED-TTL:PT1H
BEGIN:VTIMEZONE
TZID:America/Los_Angeles
BEGIN:DAYLIGHT
TZOFFSETFROM:-0800
TZOFFSETTO:-0700
TZNAME:PDT
DTSTART:20190310T100000
END:DAYLIGHT
BEGIN:STANDARD
TZOFFSETFROM:-0700
TZOFFSETTO:-0800
TZNAME:PST
DTSTART:20191103T090000
END:STANDARD
BEGIN:DAYLIGHT
TZOFFSETFROM:-0800
TZOFFSETTO:-0700
TZNAME:PDT
DTSTART:20200308T100000
END:DAYLIGHT
BEGIN:STANDARD
TZOFFSETFROM:-0700
TZOFFSETTO:-0800
TZNAME:PST
DTSTART:20201101T090000
END:STANDARD
BEGIN:DAYLIGHT
TZOFFSETFROM:-0800
TZOFFSETTO:-0700
TZNAME:PDT
DTSTART:20210314T100000
END:DAYLIGHT
BEGIN:STANDARD
TZOFFSETFROM:-0700
TZOFFSETTO:-0800
TZNAME:PST
DTSTART:20211107T090000
END:STANDARD
END:VTIMEZONE
BEGIN:VEVENT
DTSTART;VALUE=DATE:20200305
DTEND;VALUE=DATE:20200306
DTSTAMP:20260425T090826
CREATED:20200412T233448Z
LAST-MODIFIED:20200611T020142Z
UID:37475-1583366400-1583452799@paloaltobridge.org
SUMMARY:Unit Activities Suspended during COVID-19.  Restart is TBD.
DESCRIPTION:
URL:https://paloaltobridge.org/event/unit-activities-suspended-during-covid-19-restart-is-tbd/
LOCATION:Bridge Center\, 432A Stierlin Rd\, Mountain View\, CA\, 94043\, United States
CATEGORIES:Special Events
GEO:37.4004098;-122.0788615
X-APPLE-STRUCTURED-LOCATION;VALUE=URI;X-ADDRESS=Bridge Center 432A Stierlin Rd Mountain View CA 94043 United States;X-APPLE-RADIUS=500;X-TITLE=432A Stierlin Rd:geo:-122.0788615,37.4004098
END:VEVENT
BEGIN:VEVENT
DTSTART;TZID=America/Los_Angeles:20200301T113000
DTEND;TZID=America/Los_Angeles:20200301T153000
DTSTAMP:20260425T090826
CREATED:20200227T180559Z
LAST-MODIFIED:20200611T020009Z
UID:36977-1583062200-1583076600@paloaltobridge.org
SUMMARY:Unit Game (Swiss)  Includes Limited MP Section  Lunch at 11:30
DESCRIPTION:Open/Stratified and 499’er/Stratified (based on team average) section if enough players. \nLunch its served at 11:30 AM.  Game starts at noon. \n$12 per person.  Youth 25 and under half price. \nIf you need a partner\, try our Partnership Desk to find one. You can also indicate you need a partner on the signup form. \nWe often need help setting up before the game and/or cleaning up after the game. If you can help please let us know when you register for a game. \nIf you need to cancel please resubmit the form indicating such. For last minute cancellations please call the Bridge Center at (650) 940-1824. \nLoading…
URL:https://paloaltobridge.org/event/unit-game-swiss-2020/
LOCATION:Bridge Center\, 432A Stierlin Rd\, Mountain View\, CA\, 94043\, United States
CATEGORIES:Special Events
GEO:37.4004098;-122.0788615
X-APPLE-STRUCTURED-LOCATION;VALUE=URI;X-ADDRESS=Bridge Center 432A Stierlin Rd Mountain View CA 94043 United States;X-APPLE-RADIUS=500;X-TITLE=432A Stierlin Rd:geo:-122.0788615,37.4004098
END:VEVENT
BEGIN:VEVENT
DTSTART;TZID=America/Los_Angeles:20200226T190000
DTEND;TZID=America/Los_Angeles:20200226T220000
DTSTAMP:20260425T090826
CREATED:20191220T053624Z
LAST-MODIFIED:20191220T053624Z
UID:34379-1582743600-1582754400@paloaltobridge.org
SUMMARY:Doubleton Club Club Championship (Pairs) *Includes Limited MP Section*
DESCRIPTION:
URL:https://paloaltobridge.org/event/doubleton-club-club-championship-pairs-includes-limited-mp-section-3/
LOCATION:Bridge Center\, 432A Stierlin Rd\, Mountain View\, CA\, 94043\, United States
CATEGORIES:Special Events
GEO:37.4004098;-122.0788615
X-APPLE-STRUCTURED-LOCATION;VALUE=URI;X-ADDRESS=Bridge Center 432A Stierlin Rd Mountain View CA 94043 United States;X-APPLE-RADIUS=500;X-TITLE=432A Stierlin Rd:geo:-122.0788615,37.4004098
END:VEVENT
BEGIN:VEVENT
DTSTART;VALUE=DATE:20200222
DTEND;VALUE=DATE:20200224
DTSTAMP:20260425T090826
CREATED:20191211T044832Z
LAST-MODIFIED:20191211T044832Z
UID:34280-1582329600-1582502399@paloaltobridge.org
SUMMARY:San Mateo County Winter Sectional
DESCRIPTION:Cañada College\, Redwood City CA Info
URL:https://paloaltobridge.org/event/san-mateo-county-winter-sectional-4/
LOCATION:CA
CATEGORIES:Special Events
END:VEVENT
BEGIN:VEVENT
DTSTART;TZID=America/Los_Angeles:20200218T084500
DTEND;TZID=America/Los_Angeles:20200218T104500
DTSTAMP:20260425T090826
CREATED:20190305T073343Z
LAST-MODIFIED:20200611T022242Z
UID:31591-1582015500-1582022700@paloaltobridge.org
SUMMARY:Supervised Play Tuesday Mornings
DESCRIPTION:Kathy Harper\n(650) 207-1816\nSend Email \n\n\n\n 
URL:https://paloaltobridge.org/event/supervised-play-tuesday-mornings-feb-2020/2020-02-18/
LOCATION:Bridge Center\, 432A Stierlin Rd\, Mountain View\, CA\, 94043\, United States
CATEGORIES:Education Calendar
GEO:37.4004098;-122.0788615
X-APPLE-STRUCTURED-LOCATION;VALUE=URI;X-ADDRESS=Bridge Center 432A Stierlin Rd Mountain View CA 94043 United States;X-APPLE-RADIUS=500;X-TITLE=432A Stierlin Rd:geo:-122.0788615,37.4004098
END:VEVENT
BEGIN:VEVENT
DTSTART;VALUE=DATE:20200215
DTEND;VALUE=DATE:20200217
DTSTAMP:20260425T090826
CREATED:20191211T045434Z
LAST-MODIFIED:20191211T045434Z
UID:34285-1581724800-1581897599@paloaltobridge.org
SUMMARY:Grand National Teams Open Championship Flight District Final
DESCRIPTION:Palo Alto Bridge Center\, Mountain View CA Info
URL:https://paloaltobridge.org/event/grand-national-teams-open-championship-flight-district-final-4/
LOCATION:Bridge Center\, 432A Stierlin Rd\, Mountain View\, CA\, 94043\, United States
CATEGORIES:Special Events
GEO:37.4004098;-122.0788615
X-APPLE-STRUCTURED-LOCATION;VALUE=URI;X-ADDRESS=Bridge Center 432A Stierlin Rd Mountain View CA 94043 United States;X-APPLE-RADIUS=500;X-TITLE=432A Stierlin Rd:geo:-122.0788615,37.4004098
END:VEVENT
BEGIN:VEVENT
DTSTART;VALUE=DATE:20200215
DTEND;VALUE=DATE:20200217
DTSTAMP:20260425T090826
CREATED:20190921T161310Z
LAST-MODIFIED:20190921T161310Z
UID:33764-1581724800-1581897599@paloaltobridge.org
SUMMARY:Grand National Teams Flight B
DESCRIPTION:
URL:https://paloaltobridge.org/event/grand-national-teams-flight-b-14/
LOCATION:Bridge Center\, 432A Stierlin Rd\, Mountain View\, CA\, 94043\, United States
CATEGORIES:Special Events
GEO:37.4004098;-122.0788615
X-APPLE-STRUCTURED-LOCATION;VALUE=URI;X-ADDRESS=Bridge Center 432A Stierlin Rd Mountain View CA 94043 United States;X-APPLE-RADIUS=500;X-TITLE=432A Stierlin Rd:geo:-122.0788615,37.4004098
END:VEVENT
BEGIN:VEVENT
DTSTART;TZID=America/Los_Angeles:20200214T093000
DTEND;TZID=America/Los_Angeles:20200214T093000
DTSTAMP:20260425T090826
CREATED:20191224T022530Z
LAST-MODIFIED:20191224T023833Z
UID:35977-1581672600-1581672600@paloaltobridge.org
SUMMARY:23rd Annual Bridge Day & Luncheon
DESCRIPTION:From the Mission Hospice Auxiliary\nOn Friday\, February 14\, 2020 we will hold our 23nd Annual Bridge Day at the Peninsula Golf & Country Club in San Mateo benefitting Mission Hospice & Home Care. \nTournament registration is $80.00 per player\, for Tournament (Chicago) or Party Bridge. A delicious lunch is included\, there is complimentary valet parking and prizes are awarded for winners. A tempting raffle is an afternoon highlight. \nAll funds raised will benefit Mission Hospice & Home Care’s Woodside Hospice House\, which provides a peaceful\, caring and home-like setting for individuals whose end-of-life needs cannot be managed in their own homes. \nJoin us for a great day of bridge! We look forward to seeing you on February the 14th at the Peninsula Golf & Country Club in San Mateo! \nFor tournament registration or questions please contact me at 650-532-2562 or via email at cmcdermott@missionhospice.org. \nSincerely\, \nCathy McDermott\nAnnual Giving & Events Manager\nMission Hospice & Home Care\n1670 South Amphlett  Blvd.\, Suite 300\nSan Mateo\, CA  94402\nwww.missionhospice.org\nDirect: 650-532-2562\nOffice: 650-554-1000
URL:https://paloaltobridge.org/event/23nd-annual-bridge-day-luncheon/
LOCATION:CA
CATEGORIES:Special Events
END:VEVENT
BEGIN:VEVENT
DTSTART;VALUE=DATE:20200214
DTEND;VALUE=DATE:20200218
DTSTAMP:20260425T090826
CREATED:20191211T044702Z
LAST-MODIFIED:20191211T044702Z
UID:34274-1581638400-1581983999@paloaltobridge.org
SUMMARY:Fresno Winter Sectional
DESCRIPTION:Fresno Bridge Center\, Fresno CA Info
URL:https://paloaltobridge.org/event/fresno-winter-sectional-26/
LOCATION:CA
CATEGORIES:Special Events
END:VEVENT
BEGIN:VEVENT
DTSTART;TZID=America/Los_Angeles:20200212T190000
DTEND;TZID=America/Los_Angeles:20200212T220000
DTSTAMP:20260425T090826
CREATED:20191220T054014Z
LAST-MODIFIED:20191220T054014Z
UID:34381-1581534000-1581544800@paloaltobridge.org
SUMMARY:Doubleton Club Charity Game (Pairs) *Includes Limited MP Section*
DESCRIPTION:
URL:https://paloaltobridge.org/event/doubleton-club-charity-game-pairs-includes-limited-mp-section-2/
LOCATION:Bridge Center\, 432A Stierlin Rd\, Mountain View\, CA\, 94043\, United States
CATEGORIES:Special Events
GEO:37.4004098;-122.0788615
X-APPLE-STRUCTURED-LOCATION;VALUE=URI;X-ADDRESS=Bridge Center 432A Stierlin Rd Mountain View CA 94043 United States;X-APPLE-RADIUS=500;X-TITLE=432A Stierlin Rd:geo:-122.0788615,37.4004098
END:VEVENT
BEGIN:VEVENT
DTSTART;TZID=America/Los_Angeles:20200212T190000
DTEND;TZID=America/Los_Angeles:20200212T220000
DTSTAMP:20260425T090826
CREATED:20191220T053147Z
LAST-MODIFIED:20191220T053147Z
UID:34376-1581534000-1581544800@paloaltobridge.org
SUMMARY:Doubleton Club Charity Game (Pairs) *Includes Limited MP Section*
DESCRIPTION:
URL:https://paloaltobridge.org/event/doubleton-club-charity-game-pairs-includes-limited-mp-section/
LOCATION:Bridge Center\, 432A Stierlin Rd\, Mountain View\, CA\, 94043\, United States
CATEGORIES:Special Events
GEO:37.4004098;-122.0788615
X-APPLE-STRUCTURED-LOCATION;VALUE=URI;X-ADDRESS=Bridge Center 432A Stierlin Rd Mountain View CA 94043 United States;X-APPLE-RADIUS=500;X-TITLE=432A Stierlin Rd:geo:-122.0788615,37.4004098
END:VEVENT
BEGIN:VEVENT
DTSTART;TZID=America/Los_Angeles:20200210T190000
DTEND;TZID=America/Los_Angeles:20200210T210000
DTSTAMP:20260425T090826
CREATED:20190519T163929Z
LAST-MODIFIED:20200611T022135Z
UID:32868-1581361200-1581368400@paloaltobridge.org
SUMMARY:Beginning Bridge
DESCRIPTION:Kathy Harper\n(650) 207-1816\nSend Email \n\n\n\nLearn Bridge the modern way in this course designed by Pat Harrington! Each class includes both instruction and practice play. Start playing the very first day! Children & teens welcome. \nFor people who have never played bridge and those people who have played for years but want a refresher course or just to learn the basics. \nNotes will be emailed for all classes. No make-up classes are offered for missed classes. \nOur course instructor is ABTA Master Teacher Kathy Harper. Kathy and our wonderful volunteers give students individual attention which helps our students learn in a fun environment. \nUpcoming Dates \nPlease contact Kathy Harper for more information.
URL:https://paloaltobridge.org/event/beginning-bridge-8-feb-2020/2020-02-10/
LOCATION:Bridge Center\, 432A Stierlin Rd\, Mountain View\, CA\, 94043\, United States
CATEGORIES:Education Calendar
GEO:37.4004098;-122.0788615
X-APPLE-STRUCTURED-LOCATION;VALUE=URI;X-ADDRESS=Bridge Center 432A Stierlin Rd Mountain View CA 94043 United States;X-APPLE-RADIUS=500;X-TITLE=432A Stierlin Rd:geo:-122.0788615,37.4004098
END:VEVENT
BEGIN:VEVENT
DTSTART;TZID=America/Los_Angeles:20200210T184500
DTEND;TZID=America/Los_Angeles:20200210T204500
DTSTAMP:20260425T090826
CREATED:20190305T072706Z
LAST-MODIFIED:20200611T022059Z
UID:31581-1581360300-1581367500@paloaltobridge.org
SUMMARY:Supervised Play Monday Evenings
DESCRIPTION:Kathy Harper\n(650) 207-1816\nSend Email
URL:https://paloaltobridge.org/event/supervised-play-monday-evenings-feb-2020/2020-02-10/
LOCATION:Bridge Center\, 432A Stierlin Rd\, Mountain View\, CA\, 94043\, United States
CATEGORIES:Education Calendar
GEO:37.4004098;-122.0788615
X-APPLE-STRUCTURED-LOCATION;VALUE=URI;X-ADDRESS=Bridge Center 432A Stierlin Rd Mountain View CA 94043 United States;X-APPLE-RADIUS=500;X-TITLE=432A Stierlin Rd:geo:-122.0788615,37.4004098
END:VEVENT
BEGIN:VEVENT
DTSTART;VALUE=DATE:20200208
DTEND;VALUE=DATE:20200210
DTSTAMP:20260425T090826
CREATED:20191211T045343Z
LAST-MODIFIED:20191211T045343Z
UID:34283-1581120000-1581292799@paloaltobridge.org
SUMMARY:Grand National Teams Open Championship Flight District Final
DESCRIPTION:East Bay Community Bridge Center\, Oakland CA Info
URL:https://paloaltobridge.org/event/grand-national-teams-open-championship-flight-district-final-3/
LOCATION:CA
CATEGORIES:Special Events
END:VEVENT
BEGIN:VEVENT
DTSTART;VALUE=DATE:20200208
DTEND;VALUE=DATE:20200210
DTSTAMP:20260425T090826
CREATED:20190922T144513Z
LAST-MODIFIED:20190922T145838Z
UID:33775-1581120000-1581292799@paloaltobridge.org
SUMMARY:Non-Life Master Sectional *Limited MP Game*
DESCRIPTION:
URL:https://paloaltobridge.org/event/non-life-master-sectional-pairs/
LOCATION:Bridge Center\, 432A Stierlin Rd\, Mountain View\, CA\, 94043\, United States
CATEGORIES:Special Events
ORGANIZER;CN="Carl Baeuerlen":MAILTO:cullycarl@gmail.com
GEO:37.4004098;-122.0788615
X-APPLE-STRUCTURED-LOCATION;VALUE=URI;X-ADDRESS=Bridge Center 432A Stierlin Rd Mountain View CA 94043 United States;X-APPLE-RADIUS=500;X-TITLE=432A Stierlin Rd:geo:-122.0788615,37.4004098
END:VEVENT
BEGIN:VEVENT
DTSTART;VALUE=DATE:20200207
DTEND;VALUE=DATE:20200210
DTSTAMP:20260425T090826
CREATED:20191211T044450Z
LAST-MODIFIED:20191211T044450Z
UID:34269-1581033600-1581292799@paloaltobridge.org
SUMMARY:Sacramento NLM Spring Sectional
DESCRIPTION:Sacramento Bridge Center\, Sacramento CA Info
URL:https://paloaltobridge.org/event/sacramento-nlm-spring-sectional/
LOCATION:CA
CATEGORIES:Special Events
END:VEVENT
BEGIN:VEVENT
DTSTART;TZID=America/Los_Angeles:20200201T113000
DTEND;TZID=America/Los_Angeles:20200201T153000
DTSTAMP:20260425T090826
CREATED:20200227T174932Z
LAST-MODIFIED:20200611T015629Z
UID:36956-1580556600-1580571000@paloaltobridge.org
SUMMARY:Unit Game (Pairs)  Includes Limited MP Section  Lunch at 11:30
DESCRIPTION:Open/Stratified and 499’er/Stratified (based on pair average) section if enough players. \nLunch its served at 11:30 AM.  Game starts at noon. \n$12 per person.  Youth 25 and under half price. \nIf you need a partner\, try our Partnership Desk to find one. You can also indicate you need a partner on the signup form. \nWe often need help setting up before the game and/or cleaning up after the game. If you can help please let us know when you register for a game. \nIf you need to cancel please resubmit the form indicating such. For last minute cancellations please call the Bridge Center at (650) 940-1824. \nLoading…
URL:https://paloaltobridge.org/event/unit-game-pairs-2020/
LOCATION:Bridge Center\, 432A Stierlin Rd\, Mountain View\, CA\, 94043\, United States
CATEGORIES:Special Events
GEO:37.4004098;-122.0788615
X-APPLE-STRUCTURED-LOCATION;VALUE=URI;X-ADDRESS=Bridge Center 432A Stierlin Rd Mountain View CA 94043 United States;X-APPLE-RADIUS=500;X-TITLE=432A Stierlin Rd:geo:-122.0788615,37.4004098
END:VEVENT
BEGIN:VEVENT
DTSTART;TZID=America/Los_Angeles:20200129T190000
DTEND;TZID=America/Los_Angeles:20200129T220000
DTSTAMP:20260425T090826
CREATED:20191220T050054Z
LAST-MODIFIED:20191220T050649Z
UID:34359-1580324400-1580335200@paloaltobridge.org
SUMMARY:Doubleton Club Junior Fund Game (Pairs) *Includes Limited MP Section*
DESCRIPTION:
URL:https://paloaltobridge.org/event/doubleton-club-junior-fund-game-pairs-includes-limited-mp-section/
LOCATION:Bridge Center\, 432A Stierlin Rd\, Mountain View\, CA\, 94043\, United States
CATEGORIES:Special Events
GEO:37.4004098;-122.0788615
X-APPLE-STRUCTURED-LOCATION;VALUE=URI;X-ADDRESS=Bridge Center 432A Stierlin Rd Mountain View CA 94043 United States;X-APPLE-RADIUS=500;X-TITLE=432A Stierlin Rd:geo:-122.0788615,37.4004098
END:VEVENT
BEGIN:VEVENT
DTSTART;TZID=America/Los_Angeles:20200126T123000
DTEND;TZID=America/Los_Angeles:20200126T153000
DTSTAMP:20260425T090826
CREATED:20190930T031947Z
LAST-MODIFIED:20190930T032100Z
UID:33816-1580041800-1580052600@paloaltobridge.org
SUMMARY:Silicon Valley Youth Bridge Pizza Party
DESCRIPTION:Aspiring bridge players ages 10-25 are welcome – as long as they know just a little bit about bridge and want to learn more. Youth younger than 10 may be allowed to attend on a case-by-case basis with parental supervision. \nKids with all levels of experience are welcome. Bridge tournament players compete for prizes. Some kids play just for fun. New players will be taught the basics of the game. \nOptional intermediate lesson starting at 11;45 \nPizza and snacks provided. \nInformation and Signup
URL:https://paloaltobridge.org/event/silicon-valley-youth-bridge-pizza-party-7/
LOCATION:Bridge Center\, 432A Stierlin Rd\, Mountain View\, CA\, 94043\, United States
CATEGORIES:Special Events
GEO:37.4004098;-122.0788615
X-APPLE-STRUCTURED-LOCATION;VALUE=URI;X-ADDRESS=Bridge Center 432A Stierlin Rd Mountain View CA 94043 United States;X-APPLE-RADIUS=500;X-TITLE=432A Stierlin Rd:geo:-122.0788615,37.4004098
END:VEVENT
BEGIN:VEVENT
DTSTART;VALUE=DATE:20200125
DTEND;VALUE=DATE:20200127
DTSTAMP:20260425T090826
CREATED:20191211T044324Z
LAST-MODIFIED:20191211T044324Z
UID:34267-1579910400-1580083199@paloaltobridge.org
SUMMARY:Livermore Valley Sectional
DESCRIPTION:Christensen Middle School\, Livermore CA Info
URL:https://paloaltobridge.org/event/livermore-valley-sectional-14/
LOCATION:CA
CATEGORIES:Special Events
END:VEVENT
BEGIN:VEVENT
DTSTART;TZID=America/Los_Angeles:20200123T191500
DTEND;TZID=America/Los_Angeles:20200123T213000
DTSTAMP:20260425T090826
CREATED:20191123T215609Z
LAST-MODIFIED:20200611T022452Z
UID:34164-1579806900-1579815000@paloaltobridge.org
SUMMARY:Intermediate IV
DESCRIPTION:Frank Smoot\n(408) 732-5736\nSend Email \n\n\n\nThis new course goes beyond the topics from Intermediate Bridge II and Intermediate Bridge III. \nThis course is for bridge players who have a minimum of two years experience playing duplicate bridge. \nUsing materials from many sources (primarily Richard Pavlicek) you will learn powerful and practical bidding\, play and defense concepts\, do exercises in class (homework outside of class) and finish the evening by playing hands relating to the topic. Snacks are also provided. You will be amazed at what you willl learn\, even if you have played for years and years! \nThe in-class exercises are available in electronic format so students can play the hands at home and receive commentary on their bidding and play (requires Bridge Baron software). \nOur course lecturer is the very popular Frank Smoot who has taught bridge to beginners and beyond in Palo Alto for 15+ years. Frank and our wonderful volunteers give students individual attention which helps our students learn in a fun environment. \nFor more information contact Frank Smoot (408) 732-5736 email. \n\n\n\n\n\n\nThe 8-Week Course Covers\n\n\n\n\n\nDeclarer Play \n\nTrump Control\nTrick One Tips\nSuit Establishment\nTiming the Play\n\nWho has What? \n\nCounting as Declarer\nCounting on Defense\n\nDefense \n\nSignaling Methods\nTrump Tactics\n\n\n\n\n\n\n\n\n\n\n\nClass Downloads**\n\n\n\n\nLesson 1\nTrump Control\n\n\nLesson 2\nTrick One Tips\n\n\nLesson 3\nSuit Establishment\n\n\nLesson 4\nTiming the Play\n\n\nLesson 5\nCounting as Declarer\n\n\nLesson 6\nSignaling Methods\n\n\nLesson 7\nTrump Tactics\n\n\nLesson 8\nCounting on Defense\n\n\n\n\n\n\n**Downloads may change a couple of days prior to class.Instructions for downloading and playing files with Bridge Baron \nBridge Baron Support \nBridge Baron Website. We usually have copies of Bridge Baron at class which we sell at a discount. \n\n*After registering\, please send a check made out to Frank Smoot in the amount of $175 to hold your spot to:\nFrank Smoot\n528 S Taaffe St\nSunnyvale\, CA 94086
URL:https://paloaltobridge.org/event/intermediate-iv-january-2020/2020-01-23/
LOCATION:Bridge Center\, 432A Stierlin Rd\, Mountain View\, CA\, 94043\, United States
CATEGORIES:Education Calendar
GEO:37.4004098;-122.0788615
X-APPLE-STRUCTURED-LOCATION;VALUE=URI;X-ADDRESS=Bridge Center 432A Stierlin Rd Mountain View CA 94043 United States;X-APPLE-RADIUS=500;X-TITLE=432A Stierlin Rd:geo:-122.0788615,37.4004098
END:VEVENT
BEGIN:VEVENT
DTSTART;TZID=America/Los_Angeles:20200122T190000
DTEND;TZID=America/Los_Angeles:20200122T220000
DTSTAMP:20260425T090826
CREATED:20191220T051711Z
LAST-MODIFIED:20191220T051711Z
UID:34370-1579719600-1579730400@paloaltobridge.org
SUMMARY:Doubleton Club Junior Fund Game (Pairs) *Includes Limited MP Section*
DESCRIPTION:
URL:https://paloaltobridge.org/event/doubleton-club-junior-fund-game-pairs-includes-limited-mp-section-6/
LOCATION:Bridge Center\, 432A Stierlin Rd\, Mountain View\, CA\, 94043\, United States
CATEGORIES:Special Events
GEO:37.4004098;-122.0788615
X-APPLE-STRUCTURED-LOCATION;VALUE=URI;X-ADDRESS=Bridge Center 432A Stierlin Rd Mountain View CA 94043 United States;X-APPLE-RADIUS=500;X-TITLE=432A Stierlin Rd:geo:-122.0788615,37.4004098
END:VEVENT
BEGIN:VEVENT
DTSTART;VALUE=DATE:20200118
DTEND;VALUE=DATE:20200120
DTSTAMP:20260425T090826
CREATED:20191211T044306Z
LAST-MODIFIED:20191211T044306Z
UID:34265-1579305600-1579478399@paloaltobridge.org
SUMMARY:San Francisco Sectional
DESCRIPTION:Janet Pomeroy Center\, San Francisco CA Info
URL:https://paloaltobridge.org/event/san-francisco-sectional-26/
LOCATION:CA
CATEGORIES:Special Events
END:VEVENT
BEGIN:VEVENT
DTSTART;TZID=America/Los_Angeles:20200115T190000
DTEND;TZID=America/Los_Angeles:20200115T220000
DTSTAMP:20260425T090826
CREATED:20191220T051541Z
LAST-MODIFIED:20191220T051541Z
UID:34368-1579114800-1579125600@paloaltobridge.org
SUMMARY:Doubleton Club Junior Fund Game (Pairs) *Includes Limited MP Section*
DESCRIPTION:
URL:https://paloaltobridge.org/event/doubleton-club-junior-fund-game-pairs-includes-limited-mp-section-5/
LOCATION:Bridge Center\, 432A Stierlin Rd\, Mountain View\, CA\, 94043\, United States
CATEGORIES:Special Events
GEO:37.4004098;-122.0788615
X-APPLE-STRUCTURED-LOCATION;VALUE=URI;X-ADDRESS=Bridge Center 432A Stierlin Rd Mountain View CA 94043 United States;X-APPLE-RADIUS=500;X-TITLE=432A Stierlin Rd:geo:-122.0788615,37.4004098
END:VEVENT
BEGIN:VEVENT
DTSTART;TZID=America/Los_Angeles:20200114T093000
DTEND;TZID=America/Los_Angeles:20200114T110000
DTSTAMP:20260425T090826
CREATED:20190727T195603Z
LAST-MODIFIED:20200910T010140Z
UID:33474-1578994200-1578999600@paloaltobridge.org
SUMMARY:Lecture Series
DESCRIPTION:Our Unit provides a series of free lectures as part of our education program. These lectures cover areas of interest for new as well as intermediate players. Lectures are held on selected Tuesday mornings at 9:30 AM at our Bridge Center. \nDuring Stay-At-Home lectures are held on Zoom.  Sign-in information is sent via email to all Unit members.  Zoom access starts at 9 AM.  Sign-in early to reserve your spot\, and meet your friends and say hello before the lecture. If you have problems\, please text 408-858-2928. We have a limit of 100 attendees – if you are unable to join\, the video and handouts will be available later on the web site. \nUse the Lecture Series Information link\, below\, for subject and presenter of this lecture.  After the lecture you will also find any handout material provided in class. \nThis free series is funded by the Peninsula Bridge Education Foundation. Please consider a tax-deductible donation to continue the mission of our foundation.
URL:https://paloaltobridge.org/event/lecture-series-2019-2020-5/2020-01-14/
LOCATION:Bridge Center\, 432A Stierlin Rd\, Mountain View\, CA\, 94043\, United States
CATEGORIES:Education Calendar
GEO:37.4004098;-122.0788615
X-APPLE-STRUCTURED-LOCATION;VALUE=URI;X-ADDRESS=Bridge Center 432A Stierlin Rd Mountain View CA 94043 United States;X-APPLE-RADIUS=500;X-TITLE=432A Stierlin Rd:geo:-122.0788615,37.4004098
END:VEVENT
BEGIN:VEVENT
DTSTART;TZID=America/Los_Angeles:20200110T190000
DTEND;TZID=America/Los_Angeles:20200110T223000
DTSTAMP:20260425T090826
CREATED:20191220T035249Z
LAST-MODIFIED:20191223T063059Z
UID:34355-1578682800-1578695400@paloaltobridge.org
SUMMARY:Friday Night Barometer Club Closed Monterey
DESCRIPTION:
URL:https://paloaltobridge.org/event/friday-night-barometer-club-closed-momterey/
LOCATION:Bridge Center\, 432A Stierlin Rd\, Mountain View\, CA\, 94043\, United States
CATEGORIES:Special Events
GEO:37.4004098;-122.0788615
X-APPLE-STRUCTURED-LOCATION;VALUE=URI;X-ADDRESS=Bridge Center 432A Stierlin Rd Mountain View CA 94043 United States;X-APPLE-RADIUS=500;X-TITLE=432A Stierlin Rd:geo:-122.0788615,37.4004098
END:VEVENT
BEGIN:VEVENT
DTSTART;VALUE=DATE:20200106
DTEND;VALUE=DATE:20200113
DTSTAMP:20260425T090826
CREATED:20191211T044246Z
LAST-MODIFIED:20191211T044246Z
UID:34263-1578268800-1578873599@paloaltobridge.org
SUMMARY:Monterey Clambake Regional
DESCRIPTION:Hyatt Regency Monterey\, Monterey CA Info
URL:https://paloaltobridge.org/event/monterey-clambake-regional-43/
LOCATION:CA
CATEGORIES:Special Events
END:VEVENT
BEGIN:VEVENT
DTSTART;VALUE=DATE:20200105
DTEND;VALUE=DATE:20200106
DTSTAMP:20260425T090826
CREATED:20191211T044215Z
LAST-MODIFIED:20191211T044215Z
UID:34261-1578182400-1578268799@paloaltobridge.org
SUMMARY:North American Pairs Flight C District Finals
DESCRIPTION:Fattoria e Mare Restaurant\, Burlingame CA Info
URL:https://paloaltobridge.org/event/north-american-pairs-flight-c-district-finals-7/
LOCATION:CA
CATEGORIES:Special Events
END:VEVENT
BEGIN:VEVENT
DTSTART;VALUE=DATE:20200104
DTEND;VALUE=DATE:20200106
DTSTAMP:20260425T090826
CREATED:20191211T044143Z
LAST-MODIFIED:20191211T044143Z
UID:34259-1578096000-1578268799@paloaltobridge.org
SUMMARY:North American Pairs Flight A District Finals
DESCRIPTION:Fattoria e Mare Restaurant\, Burlingame CA Info
URL:https://paloaltobridge.org/event/north-american-pairs-flight-a-district-finals-12/
LOCATION:CA
CATEGORIES:Special Events
END:VEVENT
BEGIN:VEVENT
DTSTART;TZID=America/Los_Angeles:20200101T190000
DTEND;TZID=America/Los_Angeles:20200101T220000
DTSTAMP:20260425T090826
CREATED:20191220T051129Z
LAST-MODIFIED:20191220T051129Z
UID:34364-1577905200-1577916000@paloaltobridge.org
SUMMARY:Doubleton Club Junior Fund Game (Pairs) *Includes Limited MP Section*
DESCRIPTION:
URL:https://paloaltobridge.org/event/doubleton-club-junior-fund-game-pairs-includes-limited-mp-section-4/
LOCATION:Bridge Center\, 432A Stierlin Rd\, Mountain View\, CA\, 94043\, United States
CATEGORIES:Special Events
GEO:37.4004098;-122.0788615
X-APPLE-STRUCTURED-LOCATION;VALUE=URI;X-ADDRESS=Bridge Center 432A Stierlin Rd Mountain View CA 94043 United States;X-APPLE-RADIUS=500;X-TITLE=432A Stierlin Rd:geo:-122.0788615,37.4004098
END:VEVENT
END:VCALENDAR