BEGIN:VCALENDAR
VERSION:2.0
PRODID:-//Palo Alto Bridge - ECPv6.15.20//NONSGML v1.0//EN
CALSCALE:GREGORIAN
METHOD:PUBLISH
X-ORIGINAL-URL:https://paloaltobridge.org
X-WR-CALDESC:Events for Palo Alto Bridge
REFRESH-INTERVAL;VALUE=DURATION:PT1H
X-Robots-Tag:noindex
X-PUBLISHED-TTL:PT1H
BEGIN:VTIMEZONE
TZID:America/Los_Angeles
BEGIN:DAYLIGHT
TZOFFSETFROM:-0800
TZOFFSETTO:-0700
TZNAME:PDT
DTSTART:20250309T100000
END:DAYLIGHT
BEGIN:STANDARD
TZOFFSETFROM:-0700
TZOFFSETTO:-0800
TZNAME:PST
DTSTART:20251102T090000
END:STANDARD
BEGIN:DAYLIGHT
TZOFFSETFROM:-0800
TZOFFSETTO:-0700
TZNAME:PDT
DTSTART:20260308T100000
END:DAYLIGHT
BEGIN:STANDARD
TZOFFSETFROM:-0700
TZOFFSETTO:-0800
TZNAME:PST
DTSTART:20261101T090000
END:STANDARD
BEGIN:DAYLIGHT
TZOFFSETFROM:-0800
TZOFFSETTO:-0700
TZNAME:PDT
DTSTART:20270314T100000
END:DAYLIGHT
BEGIN:STANDARD
TZOFFSETFROM:-0700
TZOFFSETTO:-0800
TZNAME:PST
DTSTART:20271107T090000
END:STANDARD
END:VTIMEZONE
BEGIN:VEVENT
DTSTART;VALUE=DATE:20260321
DTEND;VALUE=DATE:20260323
DTSTAMP:20260423T151028
CREATED:20260115T041138Z
LAST-MODIFIED:20260210T221705Z
UID:91862-1774051200-1774223999@paloaltobridge.org
SUMMARY:Grand National Team Games
DESCRIPTION:District 21 Grand National Team Games are again coming to the Palo Alto Bridge Center\nSaturday\, March 21\, 2026\, and Sunday\, March 22\, 2026. Mark your calendar\, call your partners\, and form a team! \nFlight A – No Player Over 6\,000 Masterpoints\nRound 1 (Saturday 3/21) and Round 2 (Sunday 3/22)   10:00 AM start\nFinal Round (if necessary) – To Be Determined \nFlight B – No Player Over 3\,000 Masterpoints\nRound 1 (Saturday 3/21) and Final Round (Sunday 3/22)   10:00 AM start \nOpen Championship Flight – Final Round (Saturday 3/21)      10:00 AM start \nEach year the ACBL holds a Grand National Team (GNT) Championship\, in which teams who won their flights in their District GNTs compete with other districts in a team game at the Summer North American Bridge Championship (NABC). In 2026\, the Summer NABC will be held in July in Minneapolis. \nDistrict 21 GNT games will take place on February 7-8 in Oakland and March 21-22 at Palo Alto Bridge. \nTeam games are great fun\, and we encourage you to form a team and participate in this special event!  The winning team (and the top two teams in Flights B and C) in each of the four GNT flights will represent District 21 at the Summer NABC. District 21 will provide $2\,000 to the winning team in each flight to partially help defray travel costs. \nThe GNT flights are: \n\n\n\nFlight\nMasterpoint Limits\nLocation\nDates\n\n\nOpen Championship Flight\nUnlimited\n\n\nFirst two rounds in Oakland\nFinals at Palo Alto Bridge\n\n\n\n\nFeb. 7-8\n\n  \n\nMarch 21\n\n\n\n\nFlight A\nNo players over 6\,000\nAll rounds – Palo Alto Bridge\nMarch 21-22 & TBD\n\n\nFlight B\nNo players over 3\,000\nAll rounds – Palo Alto Bridge\nMarch 21-22\n\n\nFlight C\nNLMs under 750\nAll rounds – Oakland\nFebruary 7-8\n\n\n\nFlight A  \nRound 1 (Saturday) – If more than 4 teams there will be a qualification event\, to reduce the field to 4 teams. The game format depends on the number of teams – it could be knockout\, round robin\, or Swiss Team. The top 4 teams will play on Sunday. \nRound 2 (Sunday) – the top four teams from Round 1 will compete in a knockout game to reduce the field to 2 teams. \nFinal Round (Date to be determined) – the remaining two teams will play in a knockout match with the winner representing District 21 at the GNT Championship at the Summer NABC in Memphis. \nFlights B and C \nRound 1 (Saturday) – Flights with more than 4 entries will have a qualification event\, to reduce the field to 4 teams. The game format depends on the number of teams – it could be knockout\, round robin\, or Swiss Team. The top 4 teams will play on Sunday. \nFinal round (Sunday) – the top four teams from Round 1 will compete in a knockout game to determine 1st\, 2nd\, 3rd\, and 4th places. The 1st place finisher and 2nd place team in Flight B and Flight C will represent District 21 at the GNT Championship at the Summer NABC in Memphis. \nAll teams in the final round receive generous masterpoint awards (depending on the number of teams/rounds played) – gold in Open\, Flight A\, Flight B\, and gold/red in Flight C. \nIn Round 1\, red masterpoints are awarded for each match win. \nTo play in the District 21 Flight A and Flight B GNTs\, teams MUST register by March 15\, 2026\, at 2026 D21 GNT Registration \nFor more information – the District 21 2026 GNT Conditions of Contest is attached. Still have questions?  Please contact Grant Vance (grantvance1@gmail.com). \nIf you need help to form a team\, you can contact Marc Cervellino (marc.cervellino@hotmail.com; phone 650-269-2758).
URL:https://paloaltobridge.org/event/grand-national-team-games/
LOCATION:Bridge Center\, 432A Stierlin Rd\, Mountain View\, CA\, 94043\, United States
CATEGORIES:Special Events
GEO:37.4004098;-122.0788615
X-APPLE-STRUCTURED-LOCATION;VALUE=URI;X-ADDRESS=Bridge Center 432A Stierlin Rd Mountain View CA 94043 United States;X-APPLE-RADIUS=500;X-TITLE=432A Stierlin Rd:geo:-122.0788615,37.4004098
END:VEVENT
BEGIN:VEVENT
DTSTART;VALUE=DATE:20260328
DTEND;VALUE=DATE:20260330
DTSTAMP:20260423T151028
CREATED:20260124T201109Z
LAST-MODIFIED:20260124T201213Z
UID:91916-1774656000-1774828799@paloaltobridge.org
SUMMARY:Silicon Valley Spring Sectional
DESCRIPTION:  \nThe Silicon Valley Unit Spring Sectional will be held at our Bridge Center.
URL:https://paloaltobridge.org/event/silicon-valley-spring-sectional-april-2026/
LOCATION:Bridge Center\, 432A Stierlin Rd\, Mountain View\, CA\, 94043\, United States
CATEGORIES:Special Events
GEO:37.4004098;-122.0788615
X-APPLE-STRUCTURED-LOCATION;VALUE=URI;X-ADDRESS=Bridge Center 432A Stierlin Rd Mountain View CA 94043 United States;X-APPLE-RADIUS=500;X-TITLE=432A Stierlin Rd:geo:-122.0788615,37.4004098
END:VEVENT
BEGIN:VEVENT
DTSTART;VALUE=DATE:20260423
DTEND;VALUE=DATE:20260427
DTSTAMP:20260423T151028
CREATED:20250319T024446Z
LAST-MODIFIED:20260115T035533Z
UID:49474-1776902400-1777247999@paloaltobridge.org
SUMMARY:Palo Alto Bridge Silver Sectional
DESCRIPTION:Save the date.
URL:https://paloaltobridge.org/event/palo-alto-bridge-silver-sectional/2026-04-23/
LOCATION:Bridge Center\, 432A Stierlin Rd\, Mountain View\, CA\, 94043\, United States
CATEGORIES:Special Events
GEO:37.4004098;-122.0788615
X-APPLE-STRUCTURED-LOCATION;VALUE=URI;X-ADDRESS=Bridge Center 432A Stierlin Rd Mountain View CA 94043 United States;X-APPLE-RADIUS=500;X-TITLE=432A Stierlin Rd:geo:-122.0788615,37.4004098
END:VEVENT
BEGIN:VEVENT
DTSTART;TZID=America/Los_Angeles:20260607T130000
DTEND;TZID=America/Los_Angeles:20260607T170000
DTSTAMP:20260423T151028
CREATED:20260409T043058Z
LAST-MODIFIED:20260409T043709Z
UID:92430-1780837200-1780851600@paloaltobridge.org
SUMMARY:Silicon Valley Youth Bridge Battle of the Bay
DESCRIPTION:SiVY Battle of the Bay with San Francisco’s CBE youth.
URL:https://paloaltobridge.org/event/silicon-valley-youth-bridge-battle-of-the-bay/
LOCATION:Bridge Center\, 432A Stierlin Rd\, Mountain View\, CA\, 94043\, United States
CATEGORIES:Special Events
GEO:37.4004098;-122.0788615
X-APPLE-STRUCTURED-LOCATION;VALUE=URI;X-ADDRESS=Bridge Center 432A Stierlin Rd Mountain View CA 94043 United States;X-APPLE-RADIUS=500;X-TITLE=432A Stierlin Rd:geo:-122.0788615,37.4004098
END:VEVENT
BEGIN:VEVENT
DTSTART;TZID=America/Los_Angeles:20260613T130000
DTEND;TZID=America/Los_Angeles:20260613T170000
DTSTAMP:20260423T151028
CREATED:20260409T043352Z
LAST-MODIFIED:20260409T043640Z
UID:92432-1781355600-1781370000@paloaltobridge.org
SUMMARY:Silicon Valley Youth Bridge Summer Camp
DESCRIPTION:June 13-14:  Week 1 \nJune 20-21:  Week 2
URL:https://paloaltobridge.org/event/silicon-valley-youth-bridge-sivy-summer-camp/2026-06-13/
LOCATION:Bridge Center\, 432A Stierlin Rd\, Mountain View\, CA\, 94043\, United States
CATEGORIES:Special Events
GEO:37.4004098;-122.0788615
X-APPLE-STRUCTURED-LOCATION;VALUE=URI;X-ADDRESS=Bridge Center 432A Stierlin Rd Mountain View CA 94043 United States;X-APPLE-RADIUS=500;X-TITLE=432A Stierlin Rd:geo:-122.0788615,37.4004098
END:VEVENT
BEGIN:VEVENT
DTSTART;TZID=America/Los_Angeles:20260614T130000
DTEND;TZID=America/Los_Angeles:20260614T170000
DTSTAMP:20260423T151028
CREATED:20260409T043352Z
LAST-MODIFIED:20260409T043640Z
UID:92433-1781442000-1781456400@paloaltobridge.org
SUMMARY:Silicon Valley Youth Bridge Summer Camp
DESCRIPTION:June 13-14:  Week 1 \nJune 20-21:  Week 2
URL:https://paloaltobridge.org/event/silicon-valley-youth-bridge-sivy-summer-camp/2026-06-14/
LOCATION:Bridge Center\, 432A Stierlin Rd\, Mountain View\, CA\, 94043\, United States
CATEGORIES:Special Events
GEO:37.4004098;-122.0788615
X-APPLE-STRUCTURED-LOCATION;VALUE=URI;X-ADDRESS=Bridge Center 432A Stierlin Rd Mountain View CA 94043 United States;X-APPLE-RADIUS=500;X-TITLE=432A Stierlin Rd:geo:-122.0788615,37.4004098
END:VEVENT
BEGIN:VEVENT
DTSTART;TZID=America/Los_Angeles:20260620T130000
DTEND;TZID=America/Los_Angeles:20260620T170000
DTSTAMP:20260423T151028
CREATED:20260409T043352Z
LAST-MODIFIED:20260409T043640Z
UID:92434-1781960400-1781974800@paloaltobridge.org
SUMMARY:Silicon Valley Youth Bridge Summer Camp
DESCRIPTION:June 13-14:  Week 1 \nJune 20-21:  Week 2
URL:https://paloaltobridge.org/event/silicon-valley-youth-bridge-sivy-summer-camp/2026-06-20/
LOCATION:Bridge Center\, 432A Stierlin Rd\, Mountain View\, CA\, 94043\, United States
CATEGORIES:Special Events
GEO:37.4004098;-122.0788615
X-APPLE-STRUCTURED-LOCATION;VALUE=URI;X-ADDRESS=Bridge Center 432A Stierlin Rd Mountain View CA 94043 United States;X-APPLE-RADIUS=500;X-TITLE=432A Stierlin Rd:geo:-122.0788615,37.4004098
END:VEVENT
BEGIN:VEVENT
DTSTART;TZID=America/Los_Angeles:20260621T130000
DTEND;TZID=America/Los_Angeles:20260621T170000
DTSTAMP:20260423T151028
CREATED:20260409T043352Z
LAST-MODIFIED:20260409T043640Z
UID:92435-1782046800-1782061200@paloaltobridge.org
SUMMARY:Silicon Valley Youth Bridge Summer Camp
DESCRIPTION:June 13-14:  Week 1 \nJune 20-21:  Week 2
URL:https://paloaltobridge.org/event/silicon-valley-youth-bridge-sivy-summer-camp/2026-06-21/
LOCATION:Bridge Center\, 432A Stierlin Rd\, Mountain View\, CA\, 94043\, United States
CATEGORIES:Special Events
GEO:37.4004098;-122.0788615
X-APPLE-STRUCTURED-LOCATION;VALUE=URI;X-ADDRESS=Bridge Center 432A Stierlin Rd Mountain View CA 94043 United States;X-APPLE-RADIUS=500;X-TITLE=432A Stierlin Rd:geo:-122.0788615,37.4004098
END:VEVENT
BEGIN:VEVENT
DTSTART;VALUE=DATE:20260624
DTEND;VALUE=DATE:20260629
DTSTAMP:20260423T151028
CREATED:20250319T024619Z
LAST-MODIFIED:20260328T222507Z
UID:49476-1782259200-1782691199@paloaltobridge.org
SUMMARY:Firecracker Sectional
DESCRIPTION:Open Sectional\n4 days of Open and 3 days of Mid-Flight Pairs\n2 days of A/X Swiss (two sessions)\n2 days of Bracketed Teams (two sessions)\n100% Silver Points \n\n\n\n\n\n\n\n\n\n\nNon-Life Master Regional\nNon-Life Masters with fewer than 750 points\n4 days of Gold Rush Pairs\n2 days 0-99 Pairs\n1 day Gold Rush Bracketed Teams\nDouble-session games award Gold/Red points\nSingle-session games award Red points \nDue to space limitations pre-registration is required. Information and Registration
URL:https://paloaltobridge.org/event/firecracker-sectional-2026/
LOCATION:Bridge Center\, 432A Stierlin Rd\, Mountain View\, CA\, 94043\, United States
CATEGORIES:Special Events
GEO:37.4004098;-122.0788615
X-APPLE-STRUCTURED-LOCATION;VALUE=URI;X-ADDRESS=Bridge Center 432A Stierlin Rd Mountain View CA 94043 United States;X-APPLE-RADIUS=500;X-TITLE=432A Stierlin Rd:geo:-122.0788615,37.4004098
END:VEVENT
BEGIN:VEVENT
DTSTART;VALUE=DATE:20260806
DTEND;VALUE=DATE:20260810
DTSTAMP:20260423T151028
CREATED:20260419T170133Z
LAST-MODIFIED:20260419T170133Z
UID:92479-1785974400-1786319999@paloaltobridge.org
SUMMARY:Palo Alto Unit Sectional
DESCRIPTION:Save the date.  More information to follow.
URL:https://paloaltobridge.org/event/palo-alto-unit-sectional/
LOCATION:Bridge Center\, 432A Stierlin Rd\, Mountain View\, CA\, 94043\, United States
CATEGORIES:Special Events
GEO:37.4004098;-122.0788615
X-APPLE-STRUCTURED-LOCATION;VALUE=URI;X-ADDRESS=Bridge Center 432A Stierlin Rd Mountain View CA 94043 United States;X-APPLE-RADIUS=500;X-TITLE=432A Stierlin Rd:geo:-122.0788615,37.4004098
END:VEVENT
BEGIN:VEVENT
DTSTART;VALUE=DATE:20260926
DTEND;VALUE=DATE:20260928
DTSTAMP:20260423T151028
CREATED:20240812T022403Z
LAST-MODIFIED:20250505T002550Z
UID:49478-1790380800-1790553599@paloaltobridge.org
SUMMARY:San Mateo - Redwood City Sectional
DESCRIPTION:The San Mateo / Redwood City Unit Sectional held at our Bridge Center.
URL:https://paloaltobridge.org/event/san-mateo-redwood-city-sectional-march-2025/2026-09-26/
LOCATION:Bridge Center\, 432A Stierlin Rd\, Mountain View\, CA\, 94043\, United States
CATEGORIES:Special Events
GEO:37.4004098;-122.0788615
X-APPLE-STRUCTURED-LOCATION;VALUE=URI;X-ADDRESS=Bridge Center 432A Stierlin Rd Mountain View CA 94043 United States;X-APPLE-RADIUS=500;X-TITLE=432A Stierlin Rd:geo:-122.0788615,37.4004098
END:VEVENT
BEGIN:VEVENT
DTSTART;VALUE=DATE:20261022
DTEND;VALUE=DATE:20261026
DTSTAMP:20260423T151028
CREATED:20250319T024446Z
LAST-MODIFIED:20260115T035533Z
UID:49480-1792627200-1792972799@paloaltobridge.org
SUMMARY:Palo Alto Bridge Silver Sectional
DESCRIPTION:Save the date.
URL:https://paloaltobridge.org/event/palo-alto-bridge-silver-sectional/2026-10-22/
LOCATION:Bridge Center\, 432A Stierlin Rd\, Mountain View\, CA\, 94043\, United States
CATEGORIES:Special Events
GEO:37.4004098;-122.0788615
X-APPLE-STRUCTURED-LOCATION;VALUE=URI;X-ADDRESS=Bridge Center 432A Stierlin Rd Mountain View CA 94043 United States;X-APPLE-RADIUS=500;X-TITLE=432A Stierlin Rd:geo:-122.0788615,37.4004098
END:VEVENT
END:VCALENDAR