BEGIN:VCALENDAR
VERSION:2.0
PRODID:-//Palo Alto Bridge - ECPv6.15.20//NONSGML v1.0//EN
CALSCALE:GREGORIAN
METHOD:PUBLISH
X-WR-CALNAME:Palo Alto Bridge
X-ORIGINAL-URL:https://paloaltobridge.org
X-WR-CALDESC:Events for Palo Alto Bridge
REFRESH-INTERVAL;VALUE=DURATION:PT1H
X-Robots-Tag:noindex
X-PUBLISHED-TTL:PT1H
BEGIN:VTIMEZONE
TZID:America/Los_Angeles
BEGIN:DAYLIGHT
TZOFFSETFROM:-0800
TZOFFSETTO:-0700
TZNAME:PDT
DTSTART:20180311T100000
END:DAYLIGHT
BEGIN:STANDARD
TZOFFSETFROM:-0700
TZOFFSETTO:-0800
TZNAME:PST
DTSTART:20181104T090000
END:STANDARD
BEGIN:DAYLIGHT
TZOFFSETFROM:-0800
TZOFFSETTO:-0700
TZNAME:PDT
DTSTART:20190310T100000
END:DAYLIGHT
BEGIN:STANDARD
TZOFFSETFROM:-0700
TZOFFSETTO:-0800
TZNAME:PST
DTSTART:20191103T090000
END:STANDARD
BEGIN:DAYLIGHT
TZOFFSETFROM:-0800
TZOFFSETTO:-0700
TZNAME:PDT
DTSTART:20200308T100000
END:DAYLIGHT
BEGIN:STANDARD
TZOFFSETFROM:-0700
TZOFFSETTO:-0800
TZNAME:PST
DTSTART:20201101T090000
END:STANDARD
END:VTIMEZONE
BEGIN:VEVENT
DTSTART;TZID=America/Los_Angeles:20190708T113000
DTEND;TZID=America/Los_Angeles:20190708T150000
DTSTAMP:20260424T160625
CREATED:20190625T182732Z
LAST-MODIFIED:20190625T182732Z
UID:33273-1562585400-1562598000@paloaltobridge.org
SUMMARY:Monday Morning BC North American Pairs (NAP) (Pairs) *Includes Limited MP Section*
DESCRIPTION:
URL:https://paloaltobridge.org/event/monday-morning-bc-north-american-pairs-nap-pairs-includes-limited-mp-section/
LOCATION:Bridge Center\, 432A Stierlin Rd\, Mountain View\, CA\, 94043\, United States
CATEGORIES:Special Events
GEO:37.4004098;-122.0788615
X-APPLE-STRUCTURED-LOCATION;VALUE=URI;X-ADDRESS=Bridge Center 432A Stierlin Rd Mountain View CA 94043 United States;X-APPLE-RADIUS=500;X-TITLE=432A Stierlin Rd:geo:-122.0788615,37.4004098
END:VEVENT
BEGIN:VEVENT
DTSTART;VALUE=DATE:20190703
DTEND;VALUE=DATE:20190708
DTSTAMP:20260424T160625
CREATED:20180716T234856Z
LAST-MODIFIED:20200707T210100Z
UID:25253-1562112000-1562543999@paloaltobridge.org
SUMMARY:Firecracker Sectional
DESCRIPTION:Make your plans to attend this year’s Firecracker which will be held again at our Bridge Center and the adjacent IFES Hall. \nInformation\, results\, hand records and more
URL:https://paloaltobridge.org/event/firecracker-sectional-2019/
LOCATION:Bridge Center\, 432A Stierlin Rd\, Mountain View\, CA\, 94043\, United States
CATEGORIES:Special Events
GEO:37.4004098;-122.0788615
X-APPLE-STRUCTURED-LOCATION;VALUE=URI;X-ADDRESS=Bridge Center 432A Stierlin Rd Mountain View CA 94043 United States;X-APPLE-RADIUS=500;X-TITLE=432A Stierlin Rd:geo:-122.0788615,37.4004098
END:VEVENT
BEGIN:VEVENT
DTSTART;VALUE=DATE:20190629
DTEND;VALUE=DATE:20190701
DTSTAMP:20260424T160625
CREATED:20190108T035534Z
LAST-MODIFIED:20190108T035534Z
UID:30033-1561766400-1561939199@paloaltobridge.org
SUMMARY:Diablo Valley Summer Sectional
DESCRIPTION:Rossmoor Event Center\, Walnut Creek CA Info
URL:https://paloaltobridge.org/event/diablo-valley-summer-sectional/
CATEGORIES:Special Events
END:VEVENT
BEGIN:VEVENT
DTSTART;VALUE=DATE:20190622
DTEND;VALUE=DATE:20190624
DTSTAMP:20260424T160625
CREATED:20190108T035506Z
LAST-MODIFIED:20190108T035506Z
UID:30031-1561161600-1561334399@paloaltobridge.org
SUMMARY:East Bay Summer Sectional
DESCRIPTION:Masonic Center\, Oakland CA Info
URL:https://paloaltobridge.org/event/east-bay-summer-sectional-6/
CATEGORIES:Special Events
END:VEVENT
BEGIN:VEVENT
DTSTART;VALUE=DATE:20190621
DTEND;VALUE=DATE:20190622
DTSTAMP:20260424T160625
CREATED:20190611T170424Z
LAST-MODIFIED:20190612T005555Z
UID:33141-1561075200-1561161599@paloaltobridge.org
SUMMARY:The Longest Day
DESCRIPTION:
URL:https://paloaltobridge.org/event/tgif-charity-longest-day-game/
LOCATION:Bridge Center\, 432A Stierlin Rd\, Mountain View\, CA\, 94043\, United States
CATEGORIES:Special Events
GEO:37.4004098;-122.0788615
X-APPLE-STRUCTURED-LOCATION;VALUE=URI;X-ADDRESS=Bridge Center 432A Stierlin Rd Mountain View CA 94043 United States;X-APPLE-RADIUS=500;X-TITLE=432A Stierlin Rd:geo:-122.0788615,37.4004098
END:VEVENT
BEGIN:VEVENT
DTSTART;TZID=America/Los_Angeles:20190620T113000
DTEND;TZID=America/Los_Angeles:20190620T150000
DTSTAMP:20260424T160625
CREATED:20190611T195718Z
LAST-MODIFIED:20190612T010328Z
UID:33148-1561030200-1561042800@paloaltobridge.org
SUMMARY:Thursday Bridge Club Championship (Pairs) *Limited MP Game*
DESCRIPTION:
URL:https://paloaltobridge.org/event/thursday-afternoon-bc-club-championship-pairs-limited-mp-game/
LOCATION:Bridge Center\, 432A Stierlin Rd\, Mountain View\, CA\, 94043\, United States
CATEGORIES:Special Events
GEO:37.4004098;-122.0788615
X-APPLE-STRUCTURED-LOCATION;VALUE=URI;X-ADDRESS=Bridge Center 432A Stierlin Rd Mountain View CA 94043 United States;X-APPLE-RADIUS=500;X-TITLE=432A Stierlin Rd:geo:-122.0788615,37.4004098
END:VEVENT
BEGIN:VEVENT
DTSTART;TZID=America/Los_Angeles:20190619T190000
DTEND;TZID=America/Los_Angeles:20190619T220000
DTSTAMP:20260424T160625
CREATED:20190109T045321Z
LAST-MODIFIED:20190109T045321Z
UID:30060-1560970800-1560981600@paloaltobridge.org
SUMMARY:Doubleton Club North American Pairs (NAP) (Pairs) *Includes Limited MP Section*
DESCRIPTION:
URL:https://paloaltobridge.org/event/doubleton-club-north-american-pairs-nap-pairs-includes-limited-mp-section/2019-06-19/
LOCATION:Bridge Center\, 432A Stierlin Rd\, Mountain View\, CA\, 94043\, United States
CATEGORIES:Special Events
GEO:37.4004098;-122.0788615
X-APPLE-STRUCTURED-LOCATION;VALUE=URI;X-ADDRESS=Bridge Center 432A Stierlin Rd Mountain View CA 94043 United States;X-APPLE-RADIUS=500;X-TITLE=432A Stierlin Rd:geo:-122.0788615,37.4004098
END:VEVENT
BEGIN:VEVENT
DTSTART;TZID=America/Los_Angeles:20190619T120000
DTEND;TZID=America/Los_Angeles:20190619T160000
DTSTAMP:20260424T160625
CREATED:20190616T231115Z
LAST-MODIFIED:20190727T194243Z
UID:33199-1560945600-1560960000@paloaltobridge.org
SUMMARY:Wednesday Afternoon 199er Club Championship (Pairs) *Limited MP Game*
DESCRIPTION:
URL:https://paloaltobridge.org/event/wednesday-afternoon-199er-club-championship-pairs-limited-mp-game/
LOCATION:Unity Church\, 3391 Middlefield Road\, Palo Alto\, CA\, 94306\, United States
CATEGORIES:Special Events
ORGANIZER;CN="Gabi Bowling":MAILTO:gabibowling@gmail.com
GEO:37.4268984;-122.1181093
X-APPLE-STRUCTURED-LOCATION;VALUE=URI;X-ADDRESS=Unity Church 3391 Middlefield Road Palo Alto CA 94306 United States;X-APPLE-RADIUS=500;X-TITLE=3391 Middlefield Road:geo:-122.1181093,37.4268984
END:VEVENT
BEGIN:VEVENT
DTSTART;TZID=America/Los_Angeles:20190618T113000
DTEND;TZID=America/Los_Angeles:20190618T153000
DTSTAMP:20260424T160625
CREATED:20190616T230825Z
LAST-MODIFIED:20190727T194414Z
UID:33195-1560857400-1560871800@paloaltobridge.org
SUMMARY:Tuesday Noon BC Club Championship (Pairs)
DESCRIPTION:
URL:https://paloaltobridge.org/event/tuesday-noon-bc-club-championship-pairs/
LOCATION:Unity Church\, 3391 Middlefield Road\, Palo Alto\, CA\, 94306\, United States
CATEGORIES:Special Events
ORGANIZER;CN="Gabi Bowling":MAILTO:gabibowling@gmail.com
GEO:37.4268984;-122.1181093
X-APPLE-STRUCTURED-LOCATION;VALUE=URI;X-ADDRESS=Unity Church 3391 Middlefield Road Palo Alto CA 94306 United States;X-APPLE-RADIUS=500;X-TITLE=3391 Middlefield Road:geo:-122.1181093,37.4268984
END:VEVENT
BEGIN:VEVENT
DTSTART;TZID=America/Los_Angeles:20190616T123000
DTEND;TZID=America/Los_Angeles:20190616T160000
DTSTAMP:20260424T160625
CREATED:20190505T200152Z
LAST-MODIFIED:20190505T200244Z
UID:32732-1560688200-1560700800@paloaltobridge.org
SUMMARY:Fathers Day Parent-Child Duplicate
DESCRIPTION:Light lunch at 12:30 PM.  Duplicate game 1-4 PM. \nOpen to Parents (or Grandparents) and Children of any age. \nInformation and signup
URL:https://paloaltobridge.org/event/fathers-day-parent-child-duplicate/
LOCATION:Bridge Center\, 432A Stierlin Rd\, Mountain View\, CA\, 94043\, United States
CATEGORIES:Special Events
GEO:37.4004098;-122.0788615
X-APPLE-STRUCTURED-LOCATION;VALUE=URI;X-ADDRESS=Bridge Center 432A Stierlin Rd Mountain View CA 94043 United States;X-APPLE-RADIUS=500;X-TITLE=432A Stierlin Rd:geo:-122.0788615,37.4004098
END:VEVENT
BEGIN:VEVENT
DTSTART;TZID=America/Los_Angeles:20190611T170000
DTEND;TZID=America/Los_Angeles:20190611T190000
DTSTAMP:20260424T160625
CREATED:20190330T193040Z
LAST-MODIFIED:20190419T153509Z
UID:32542-1560272400-1560279600@paloaltobridge.org
SUMMARY:Artist Reception
DESCRIPTION:
URL:https://paloaltobridge.org/event/artist-reception/
LOCATION:Bridge Center\, 432A Stierlin Rd\, Mountain View\, CA\, 94043\, United States
CATEGORIES:Special Events
GEO:37.4004098;-122.0788615
X-APPLE-STRUCTURED-LOCATION;VALUE=URI;X-ADDRESS=Bridge Center 432A Stierlin Rd Mountain View CA 94043 United States;X-APPLE-RADIUS=500;X-TITLE=432A Stierlin Rd:geo:-122.0788615,37.4004098
END:VEVENT
BEGIN:VEVENT
DTSTART;VALUE=DATE:20190608
DTEND;VALUE=DATE:20190610
DTSTAMP:20260424T160625
CREATED:20190108T035442Z
LAST-MODIFIED:20190108T035442Z
UID:30029-1559952000-1560124799@paloaltobridge.org
SUMMARY:San Francisco Sectional
DESCRIPTION:Pomeroy Center\, San Francisco CA Info
URL:https://paloaltobridge.org/event/san-francisco-sectional-25/
CATEGORIES:Special Events
END:VEVENT
BEGIN:VEVENT
DTSTART;TZID=America/Los_Angeles:20190603T113000
DTEND;TZID=America/Los_Angeles:20190603T150000
DTSTAMP:20260424T160625
CREATED:20190531T211639Z
LAST-MODIFIED:20190612T005730Z
UID:33068-1559561400-1559574000@paloaltobridge.org
SUMMARY:Monday Morning BC Upgraded Club Championship (Pairs) *Includes Limited MP Section*
DESCRIPTION:
URL:https://paloaltobridge.org/event/monday-morning-bc-upgraded-club-championship-pairs-includes-limited-mp-section/
LOCATION:Bridge Center\, 432A Stierlin Rd\, Mountain View\, CA\, 94043\, United States
CATEGORIES:Special Events
ORGANIZER;CN="John Schwartz":MAILTO:jrpdy@aol.com
GEO:37.4004098;-122.0788615
X-APPLE-STRUCTURED-LOCATION;VALUE=URI;X-ADDRESS=Bridge Center 432A Stierlin Rd Mountain View CA 94043 United States;X-APPLE-RADIUS=500;X-TITLE=432A Stierlin Rd:geo:-122.0788615,37.4004098
END:VEVENT
BEGIN:VEVENT
DTSTART;VALUE=DATE:20190527
DTEND;VALUE=DATE:20190603
DTSTAMP:20260424T160625
CREATED:20190108T035357Z
LAST-MODIFIED:20190108T035357Z
UID:30027-1558915200-1559519999@paloaltobridge.org
SUMMARY:California Capital Regional
DESCRIPTION:DoubleTree by Hilton Hotel\, Sacramento CA Info
URL:https://paloaltobridge.org/event/california-capital-regional-43/
CATEGORIES:Special Events
END:VEVENT
BEGIN:VEVENT
DTSTART;TZID=America/Los_Angeles:20190525T123000
DTEND;TZID=America/Los_Angeles:20190525T153000
DTSTAMP:20260424T160625
CREATED:20190322T181443Z
LAST-MODIFIED:20190322T181727Z
UID:32444-1558787400-1558798200@paloaltobridge.org
SUMMARY:Silicon Valley Youth Bridge Pizza Party
DESCRIPTION:Aspiring bridge players ages 10-25 are welcome – as long as they know just a little bit about bridge and want to learn more. Youth younger than 10 may be allowed to attend on a case-by-case basis with parental supervision. \nKids with all levels of experience are welcome. Bridge tournament players compete for prizes. Some kids play just for fun. New players will be taught the basics of the game. \nOptional intermediate lesson starting at 11;45 \nPizza and snacks provided. \nInformation and Signup
URL:https://paloaltobridge.org/event/silicon-valley-youth-bridge-pizza-party-6/
LOCATION:Bridge Center\, 432A Stierlin Rd\, Mountain View\, CA\, 94043\, United States
CATEGORIES:Special Events
GEO:37.4004098;-122.0788615
X-APPLE-STRUCTURED-LOCATION;VALUE=URI;X-ADDRESS=Bridge Center 432A Stierlin Rd Mountain View CA 94043 United States;X-APPLE-RADIUS=500;X-TITLE=432A Stierlin Rd:geo:-122.0788615,37.4004098
END:VEVENT
BEGIN:VEVENT
DTSTART;TZID=America/Los_Angeles:20190522T190000
DTEND;TZID=America/Los_Angeles:20190522T220000
DTSTAMP:20260424T160625
CREATED:20190109T045416Z
LAST-MODIFIED:20190109T050228Z
UID:30064-1558551600-1558562400@paloaltobridge.org
SUMMARY:Doubleton Club Grass Roots FUNd (Pairs) *Includes Limited MP Section*
DESCRIPTION:
URL:https://paloaltobridge.org/event/doubleton-club-2/
LOCATION:Bridge Center\, 432A Stierlin Rd\, Mountain View\, CA\, 94043\, United States
CATEGORIES:Special Events
GEO:37.4004098;-122.0788615
X-APPLE-STRUCTURED-LOCATION;VALUE=URI;X-ADDRESS=Bridge Center 432A Stierlin Rd Mountain View CA 94043 United States;X-APPLE-RADIUS=500;X-TITLE=432A Stierlin Rd:geo:-122.0788615,37.4004098
END:VEVENT
BEGIN:VEVENT
DTSTART;VALUE=DATE:20190518
DTEND;VALUE=DATE:20190520
DTSTAMP:20260424T160625
CREATED:20190201T005452Z
LAST-MODIFIED:20190506T214352Z
UID:30709-1558137600-1558310399@paloaltobridge.org
SUMMARY:Palo Alto Non-Life Master Sectional
DESCRIPTION:For Non-Life Masters with fewer than 750 Master points. At our Bridge Center!
URL:https://paloaltobridge.org/event/non-life-master-sectional-2/
LOCATION:Bridge Center\, 432A Stierlin Rd\, Mountain View\, CA\, 94043\, United States
CATEGORIES:Special Events
ORGANIZER;CN="Carl Baeuerlen":MAILTO:cullycarl@gmail.com
GEO:37.4004098;-122.0788615
X-APPLE-STRUCTURED-LOCATION;VALUE=URI;X-ADDRESS=Bridge Center 432A Stierlin Rd Mountain View CA 94043 United States;X-APPLE-RADIUS=500;X-TITLE=432A Stierlin Rd:geo:-122.0788615,37.4004098
END:VEVENT
BEGIN:VEVENT
DTSTART;VALUE=DATE:20190517
DTEND;VALUE=DATE:20190520
DTSTAMP:20260424T160625
CREATED:20190108T035331Z
LAST-MODIFIED:20190108T035331Z
UID:30025-1558051200-1558310399@paloaltobridge.org
SUMMARY:47th Lone Cypress - Monterey Sectional
DESCRIPTION:Unit 530\, Monterey Bridge Center\, Marina CA Info
URL:https://paloaltobridge.org/event/47th-lone-cypress-monterey-sectional/
CATEGORIES:Special Events
END:VEVENT
BEGIN:VEVENT
DTSTART;TZID=America/Los_Angeles:20190510T103000
DTEND;TZID=America/Los_Angeles:20190510T143000
DTSTAMP:20260424T160625
CREATED:20190609T044942Z
LAST-MODIFIED:20190610T231533Z
UID:33106-1557484200-1557498600@paloaltobridge.org
SUMMARY:TGIF AM Bridge STAC (Pairs) *Includes Limited MP Section* Extra $2  Copy
DESCRIPTION:
URL:https://paloaltobridge.org/event/tgif-am-bridge-stac-pairs-includes-limited-mp-section-extra-2-copy/2019-05-10/
LOCATION:Bridge Center\, 432A Stierlin Rd\, Mountain View\, CA\, 94043\, United States
CATEGORIES:Special Events
GEO:37.4004098;-122.0788615
X-APPLE-STRUCTURED-LOCATION;VALUE=URI;X-ADDRESS=Bridge Center 432A Stierlin Rd Mountain View CA 94043 United States;X-APPLE-RADIUS=500;X-TITLE=432A Stierlin Rd:geo:-122.0788615,37.4004098
END:VEVENT
BEGIN:VEVENT
DTSTART;TZID=America/Los_Angeles:20190510T103000
DTEND;TZID=America/Los_Angeles:20190510T143000
DTSTAMP:20260424T160625
CREATED:20190207T235509Z
LAST-MODIFIED:20190207T235509Z
UID:30766-1557484200-1557498600@paloaltobridge.org
SUMMARY:TGIF AM Bridge STAC (Pairs) *Includes Limited MP Section* Extra $2
DESCRIPTION:
URL:https://paloaltobridge.org/event/tgif-am-bridge-stac-pairs-includes-limited-mp-section-extra-2/
LOCATION:Bridge Center\, 432A Stierlin Rd\, Mountain View\, CA\, 94043\, United States
CATEGORIES:Special Events
GEO:37.4004098;-122.0788615
X-APPLE-STRUCTURED-LOCATION;VALUE=URI;X-ADDRESS=Bridge Center 432A Stierlin Rd Mountain View CA 94043 United States;X-APPLE-RADIUS=500;X-TITLE=432A Stierlin Rd:geo:-122.0788615,37.4004098
END:VEVENT
BEGIN:VEVENT
DTSTART;TZID=America/Los_Angeles:20190508T190000
DTEND;TZID=America/Los_Angeles:20190508T220000
DTSTAMP:20260424T160625
CREATED:20190109T045059Z
LAST-MODIFIED:20190109T045059Z
UID:30056-1557342000-1557352800@paloaltobridge.org
SUMMARY:Doubleton Club STAC (Pairs) *Includes Limited MP Section*
DESCRIPTION:
URL:https://paloaltobridge.org/event/doubleton-club-stac-pairs-includes-limited-mp-section/2019-05-08/
LOCATION:Bridge Center\, 432A Stierlin Rd\, Mountain View\, CA\, 94043\, United States
CATEGORIES:Special Events
GEO:37.4004098;-122.0788615
X-APPLE-STRUCTURED-LOCATION;VALUE=URI;X-ADDRESS=Bridge Center 432A Stierlin Rd Mountain View CA 94043 United States;X-APPLE-RADIUS=500;X-TITLE=432A Stierlin Rd:geo:-122.0788615,37.4004098
END:VEVENT
BEGIN:VEVENT
DTSTART;VALUE=DATE:20190506
DTEND;VALUE=DATE:20190513
DTSTAMP:20260424T160625
CREATED:20190108T035303Z
LAST-MODIFIED:20190503T225341Z
UID:30023-1557100800-1557705599@paloaltobridge.org
SUMMARY:Western Conference Spring Fling STaC
DESCRIPTION:Check local clubs for participation.  Additional fees (typically $2 per person) apply. \n 
URL:https://paloaltobridge.org/event/western-conference-spring-fling-stac/
LOCATION:Bridge Center\, 432A Stierlin Rd\, Mountain View\, CA\, 94043\, United States
CATEGORIES:Special Events
GEO:37.4004098;-122.0788615
X-APPLE-STRUCTURED-LOCATION;VALUE=URI;X-ADDRESS=Bridge Center 432A Stierlin Rd Mountain View CA 94043 United States;X-APPLE-RADIUS=500;X-TITLE=432A Stierlin Rd:geo:-122.0788615,37.4004098
END:VEVENT
BEGIN:VEVENT
DTSTART;TZID=America/Los_Angeles:20190504T100000
DTEND;TZID=America/Los_Angeles:20190504T130000
DTSTAMP:20260424T160625
CREATED:20190327T232106Z
LAST-MODIFIED:20190419T161937Z
UID:32470-1556964000-1556974800@paloaltobridge.org
SUMMARY:Bridge Center Cleaning - Cancelled.  To Be Rescheduled
DESCRIPTION:
URL:https://paloaltobridge.org/event/bridge-center-cleaning/
LOCATION:Bridge Center\, 432A Stierlin Rd\, Mountain View\, CA\, 94043\, United States
CATEGORIES:Special Events
GEO:37.4004098;-122.0788615
X-APPLE-STRUCTURED-LOCATION;VALUE=URI;X-ADDRESS=Bridge Center 432A Stierlin Rd Mountain View CA 94043 United States;X-APPLE-RADIUS=500;X-TITLE=432A Stierlin Rd:geo:-122.0788615,37.4004098
END:VEVENT
BEGIN:VEVENT
DTSTART;VALUE=DATE:20190504
DTEND;VALUE=DATE:20190506
DTSTAMP:20260424T160625
CREATED:20190108T035154Z
LAST-MODIFIED:20190108T035154Z
UID:30021-1556928000-1557100799@paloaltobridge.org
SUMMARY:SM Intermediate/Newcomer Spring Sectional
DESCRIPTION:Fattoria e Mare\, Burlingame CA Info
URL:https://paloaltobridge.org/event/sm-intermediate-newcomer-spring-sectional/
CATEGORIES:Special Events
END:VEVENT
BEGIN:VEVENT
DTSTART;VALUE=DATE:20190503
DTEND;VALUE=DATE:20190506
DTSTAMP:20260424T160625
CREATED:20190108T035131Z
LAST-MODIFIED:20190108T035131Z
UID:30019-1556841600-1557100799@paloaltobridge.org
SUMMARY:Sacramento Spring Sectional
DESCRIPTION:Orangevale Community Center\, Orangevale CA Info
URL:https://paloaltobridge.org/event/sacramento-spring-sectional-4/
CATEGORIES:Special Events
END:VEVENT
BEGIN:VEVENT
DTSTART;TZID=America/Los_Angeles:20190502T150000
DTEND;TZID=America/Los_Angeles:20190502T170000
DTSTAMP:20260424T160625
CREATED:20190330T192938Z
LAST-MODIFIED:20190330T192938Z
UID:32540-1556809200-1556816400@paloaltobridge.org
SUMMARY:Art Installation
DESCRIPTION:
URL:https://paloaltobridge.org/event/art-installation/
LOCATION:Bridge Center\, 432A Stierlin Rd\, Mountain View\, CA\, 94043\, United States
CATEGORIES:Special Events
GEO:37.4004098;-122.0788615
X-APPLE-STRUCTURED-LOCATION;VALUE=URI;X-ADDRESS=Bridge Center 432A Stierlin Rd Mountain View CA 94043 United States;X-APPLE-RADIUS=500;X-TITLE=432A Stierlin Rd:geo:-122.0788615,37.4004098
END:VEVENT
BEGIN:VEVENT
DTSTART;TZID=America/Los_Angeles:20190428T090000
DTEND;TZID=America/Los_Angeles:20190428T180000
DTSTAMP:20260424T160625
CREATED:20190108T035033Z
LAST-MODIFIED:20190921T213647Z
UID:30017-1556442000-1556474400@paloaltobridge.org
SUMMARY:Bay Area High School Bridge Championship
DESCRIPTION:Students in grades 9 through 12. Each team must consist of exactly four players affiliated with the same high school. \nSide pair games. \nInformation and Registration
URL:https://paloaltobridge.org/event/bay-area-high-school-bridge-championship/2019-04-28/
LOCATION:Bridge Center\, 432A Stierlin Rd\, Mountain View\, CA\, 94043\, United States
CATEGORIES:Special Events
GEO:37.4004098;-122.0788615
X-APPLE-STRUCTURED-LOCATION;VALUE=URI;X-ADDRESS=Bridge Center 432A Stierlin Rd Mountain View CA 94043 United States;X-APPLE-RADIUS=500;X-TITLE=432A Stierlin Rd:geo:-122.0788615,37.4004098
END:VEVENT
BEGIN:VEVENT
DTSTART;VALUE=DATE:20190427
DTEND;VALUE=DATE:20190429
DTSTAMP:20260424T160625
CREATED:20190108T035009Z
LAST-MODIFIED:20190108T035009Z
UID:30015-1556323200-1556495999@paloaltobridge.org
SUMMARY:Wine Valley Sectional
DESCRIPTION:Vintage House Senior Center\, Sonoma CA Info
URL:https://paloaltobridge.org/event/wine-valley-sectional-5/
CATEGORIES:Special Events
END:VEVENT
BEGIN:VEVENT
DTSTART;TZID=America/Los_Angeles:20190420T130000
DTEND;TZID=America/Los_Angeles:20190420T170000
DTSTAMP:20260424T160625
CREATED:20190305T045558Z
LAST-MODIFIED:20190305T045705Z
UID:31514-1555765200-1555779600@paloaltobridge.org
SUMMARY:Silicon Valley Youth Bridge HS Bridge Championship Training
DESCRIPTION:
URL:https://paloaltobridge.org/event/silicon-valley-youth-bridge-hs-bridge-championship-training/
LOCATION:Bridge Center\, 432A Stierlin Rd\, Mountain View\, CA\, 94043\, United States
CATEGORIES:Special Events
GEO:37.4004098;-122.0788615
X-APPLE-STRUCTURED-LOCATION;VALUE=URI;X-ADDRESS=Bridge Center 432A Stierlin Rd Mountain View CA 94043 United States;X-APPLE-RADIUS=500;X-TITLE=432A Stierlin Rd:geo:-122.0788615,37.4004098
END:VEVENT
BEGIN:VEVENT
DTSTART;TZID=America/Los_Angeles:20190414T123000
DTEND;TZID=America/Los_Angeles:20190414T153000
DTSTAMP:20260424T160625
CREATED:20190203T041615Z
LAST-MODIFIED:20190203T042041Z
UID:30728-1555245000-1555255800@paloaltobridge.org
SUMMARY:Silicon Valley Youth Bridge Pizza Party
DESCRIPTION:[vc_row][vc_column][vc_column_text]Aspiring bridge players ages 10-25 are welcome – as long as they know just a little bit about bridge and want to learn more. Youth younger than 10 may be allowed to attend on a case-by-case basis with parental supervision. \nKids with all levels of experience are welcome. Bridge tournament players compete for prizes. Some kids play just for fun. New players will be taught the basics of the game. \nOptional intermediate lesson starting at 11;30 \nPizza and snacks provided. \nInformation and Signup[/vc_column_text][/vc_column][/vc_row]
URL:https://paloaltobridge.org/event/silicon-valley-youth-bridge-pizza-party-5/
LOCATION:Bridge Center\, 432A Stierlin Rd\, Mountain View\, CA\, 94043\, United States
CATEGORIES:Special Events
GEO:37.4004098;-122.0788615
X-APPLE-STRUCTURED-LOCATION;VALUE=URI;X-ADDRESS=Bridge Center 432A Stierlin Rd Mountain View CA 94043 United States;X-APPLE-RADIUS=500;X-TITLE=432A Stierlin Rd:geo:-122.0788615,37.4004098
END:VEVENT
END:VCALENDAR