BEGIN:VCALENDAR
VERSION:2.0
PRODID:-//Palo Alto Bridge - ECPv6.15.20//NONSGML v1.0//EN
CALSCALE:GREGORIAN
METHOD:PUBLISH
X-WR-CALNAME:Palo Alto Bridge
X-ORIGINAL-URL:https://paloaltobridge.org
X-WR-CALDESC:Events for Palo Alto Bridge
REFRESH-INTERVAL;VALUE=DURATION:PT1H
X-Robots-Tag:noindex
X-PUBLISHED-TTL:PT1H
BEGIN:VTIMEZONE
TZID:America/Los_Angeles
BEGIN:DAYLIGHT
TZOFFSETFROM:-0800
TZOFFSETTO:-0700
TZNAME:PDT
DTSTART:20180311T100000
END:DAYLIGHT
BEGIN:STANDARD
TZOFFSETFROM:-0700
TZOFFSETTO:-0800
TZNAME:PST
DTSTART:20181104T090000
END:STANDARD
BEGIN:DAYLIGHT
TZOFFSETFROM:-0800
TZOFFSETTO:-0700
TZNAME:PDT
DTSTART:20190310T100000
END:DAYLIGHT
BEGIN:STANDARD
TZOFFSETFROM:-0700
TZOFFSETTO:-0800
TZNAME:PST
DTSTART:20191103T090000
END:STANDARD
BEGIN:DAYLIGHT
TZOFFSETFROM:-0800
TZOFFSETTO:-0700
TZNAME:PDT
DTSTART:20200308T100000
END:DAYLIGHT
BEGIN:STANDARD
TZOFFSETFROM:-0700
TZOFFSETTO:-0800
TZNAME:PST
DTSTART:20201101T090000
END:STANDARD
END:VTIMEZONE
BEGIN:VEVENT
DTSTART;VALUE=DATE:20191102
DTEND;VALUE=DATE:20191104
DTSTAMP:20260424T104205
CREATED:20190801T034142Z
LAST-MODIFIED:20190801T034142Z
UID:33521-1572652800-1572825599@paloaltobridge.org
SUMMARY:Castro Valley Sectional
DESCRIPTION:Transfiguration Catholic Church\, Castro Valley CA Info
URL:https://paloaltobridge.org/event/castro-valley-sectional-14/
LOCATION:CA
CATEGORIES:Special Events
END:VEVENT
BEGIN:VEVENT
DTSTART;TZID=America/Los_Angeles:20191031T113000
DTEND;TZID=America/Los_Angeles:20191031T150000
DTSTAMP:20260424T104205
CREATED:20190831T184145Z
LAST-MODIFIED:20190910T211513Z
UID:33632-1572521400-1572534000@paloaltobridge.org
SUMMARY:Thursday Bridge Club Appreciation (Swiss) *Includes Limited MP Section*
DESCRIPTION:
URL:https://paloaltobridge.org/event/thursday-bridge-club-appreciation-swiss-includes-limited-mp-section-2/
LOCATION:Bridge Center\, 432A Stierlin Rd\, Mountain View\, CA\, 94043\, United States
CATEGORIES:Special Events
GEO:37.4004098;-122.0788615
X-APPLE-STRUCTURED-LOCATION;VALUE=URI;X-ADDRESS=Bridge Center 432A Stierlin Rd Mountain View CA 94043 United States;X-APPLE-RADIUS=500;X-TITLE=432A Stierlin Rd:geo:-122.0788615,37.4004098
END:VEVENT
BEGIN:VEVENT
DTSTART;TZID=America/Los_Angeles:20191030T190000
DTEND;TZID=America/Los_Angeles:20191030T223000
DTSTAMP:20260424T104205
CREATED:20190910T180609Z
LAST-MODIFIED:20190910T211550Z
UID:33679-1572462000-1572474600@paloaltobridge.org
SUMMARY:Doubleton Club Club Appreciation (Pairs) *Includes Limited MP Section*
DESCRIPTION:
URL:https://paloaltobridge.org/event/doubleton-club-club-appreciation-pairs-includes-limited-mp-section-2/
LOCATION:Bridge Center\, 432A Stierlin Rd\, Mountain View\, CA\, 94043\, United States
CATEGORIES:Special Events
GEO:37.4004098;-122.0788615
X-APPLE-STRUCTURED-LOCATION;VALUE=URI;X-ADDRESS=Bridge Center 432A Stierlin Rd Mountain View CA 94043 United States;X-APPLE-RADIUS=500;X-TITLE=432A Stierlin Rd:geo:-122.0788615,37.4004098
END:VEVENT
BEGIN:VEVENT
DTSTART;TZID=America/Los_Angeles:20191023T110000
DTEND;TZID=America/Los_Angeles:20191023T150000
DTSTAMP:20260424T104205
CREATED:20190831T184609Z
LAST-MODIFIED:20190910T211436Z
UID:33636-1571828400-1571842800@paloaltobridge.org
SUMMARY:Bridge 'n Brunch Club Appreciation (Pairs)
DESCRIPTION:
URL:https://paloaltobridge.org/event/bridge-n-brunch-club-appreciation-pairs/
LOCATION:Bridge Center\, 432A Stierlin Rd\, Mountain View\, CA\, 94043\, United States
CATEGORIES:Special Events
GEO:37.4004098;-122.0788615
X-APPLE-STRUCTURED-LOCATION;VALUE=URI;X-ADDRESS=Bridge Center 432A Stierlin Rd Mountain View CA 94043 United States;X-APPLE-RADIUS=500;X-TITLE=432A Stierlin Rd:geo:-122.0788615,37.4004098
END:VEVENT
BEGIN:VEVENT
DTSTART;VALUE=DATE:20191021
DTEND;VALUE=DATE:20191022
DTSTAMP:20260424T104205
CREATED:20190908T014247Z
LAST-MODIFIED:20190910T211356Z
UID:33659-1571616000-1571702399@paloaltobridge.org
SUMMARY:Monday Morning BC Club Appreciation (Pairs) *Limited MP Game*
DESCRIPTION:
URL:https://paloaltobridge.org/event/monday-morning-bc-club-appreciation-pairs-limited-mp-game/
LOCATION:Bridge Center\, 432A Stierlin Rd\, Mountain View\, CA\, 94043\, United States
CATEGORIES:Special Events
GEO:37.4004098;-122.0788615
X-APPLE-STRUCTURED-LOCATION;VALUE=URI;X-ADDRESS=Bridge Center 432A Stierlin Rd Mountain View CA 94043 United States;X-APPLE-RADIUS=500;X-TITLE=432A Stierlin Rd:geo:-122.0788615,37.4004098
END:VEVENT
BEGIN:VEVENT
DTSTART;VALUE=DATE:20191019
DTEND;VALUE=DATE:20191021
DTSTAMP:20260424T104205
CREATED:20190801T033848Z
LAST-MODIFIED:20190801T033848Z
UID:33519-1571443200-1571615999@paloaltobridge.org
SUMMARY:Silicon Valley Fall Sectional 2019
DESCRIPTION:Wilcox High School\, Santa Clara CA Info
URL:https://paloaltobridge.org/event/silicon-valley-fall-sectional-2019/
LOCATION:CA
CATEGORIES:Special Events
END:VEVENT
BEGIN:VEVENT
DTSTART;TZID=America/Los_Angeles:20191017T113000
DTEND;TZID=America/Los_Angeles:20191017T150000
DTSTAMP:20260424T104205
CREATED:20190831T183937Z
LAST-MODIFIED:20190910T211300Z
UID:33630-1571311800-1571324400@paloaltobridge.org
SUMMARY:Thursday Bridge Club Appreciation (Pairs) *Limited MP Game*
DESCRIPTION:
URL:https://paloaltobridge.org/event/thursday-bridge-club-appreciation-pairs-limited-mp-game/
LOCATION:Bridge Center\, 432A Stierlin Rd\, Mountain View\, CA\, 94043\, United States
CATEGORIES:Special Events
GEO:37.4004098;-122.0788615
X-APPLE-STRUCTURED-LOCATION;VALUE=URI;X-ADDRESS=Bridge Center 432A Stierlin Rd Mountain View CA 94043 United States;X-APPLE-RADIUS=500;X-TITLE=432A Stierlin Rd:geo:-122.0788615,37.4004098
END:VEVENT
BEGIN:VEVENT
DTSTART;TZID=America/Los_Angeles:20191016T190000
DTEND;TZID=America/Los_Angeles:20191016T220000
DTSTAMP:20260424T104205
CREATED:20190109T050540Z
LAST-MODIFIED:20190109T050540Z
UID:30071-1571252400-1571263200@paloaltobridge.org
SUMMARY:Doubleton Club Club Appreciation (Pairs) *Includes Limited MP Section*
DESCRIPTION:
URL:https://paloaltobridge.org/event/doubleton-club-club-appreciation-pairs-includes-limited-mp-section/
LOCATION:Bridge Center\, 432A Stierlin Rd\, Mountain View\, CA\, 94043\, United States
CATEGORIES:Special Events
GEO:37.4004098;-122.0788615
X-APPLE-STRUCTURED-LOCATION;VALUE=URI;X-ADDRESS=Bridge Center 432A Stierlin Rd Mountain View CA 94043 United States;X-APPLE-RADIUS=500;X-TITLE=432A Stierlin Rd:geo:-122.0788615,37.4004098
END:VEVENT
BEGIN:VEVENT
DTSTART;TZID=America/Los_Angeles:20191016T110000
DTEND;TZID=America/Los_Angeles:20191016T150000
DTSTAMP:20260424T104205
CREATED:20190831T184406Z
LAST-MODIFIED:20190910T210913Z
UID:33634-1571223600-1571238000@paloaltobridge.org
SUMMARY:Bridge 'n Brunch Club Appreciation (Swiss)
DESCRIPTION:
URL:https://paloaltobridge.org/event/bridge-n-brunch-club-appreciation-swiss-2/
LOCATION:Bridge Center\, 432A Stierlin Rd\, Mountain View\, CA\, 94043\, United States
CATEGORIES:Special Events
GEO:37.4004098;-122.0788615
X-APPLE-STRUCTURED-LOCATION;VALUE=URI;X-ADDRESS=Bridge Center 432A Stierlin Rd Mountain View CA 94043 United States;X-APPLE-RADIUS=500;X-TITLE=432A Stierlin Rd:geo:-122.0788615,37.4004098
END:VEVENT
BEGIN:VEVENT
DTSTART;TZID=America/Los_Angeles:20191010T113000
DTEND;TZID=America/Los_Angeles:20191010T150000
DTSTAMP:20260424T104205
CREATED:20190831T183727Z
LAST-MODIFIED:20190910T210836Z
UID:33628-1570707000-1570719600@paloaltobridge.org
SUMMARY:--Thursday-- Club Appreciation (Pairs) *Includes Limited MP Section*
DESCRIPTION:
URL:https://paloaltobridge.org/event/thursday-club-appreciation-pairs-includes-limited-mp-section/
LOCATION:Bridge Center\, 432A Stierlin Rd\, Mountain View\, CA\, 94043\, United States
CATEGORIES:Special Events
GEO:37.4004098;-122.0788615
X-APPLE-STRUCTURED-LOCATION;VALUE=URI;X-ADDRESS=Bridge Center 432A Stierlin Rd Mountain View CA 94043 United States;X-APPLE-RADIUS=500;X-TITLE=432A Stierlin Rd:geo:-122.0788615,37.4004098
END:VEVENT
BEGIN:VEVENT
DTSTART;VALUE=DATE:20191007
DTEND;VALUE=DATE:20191014
DTSTAMP:20260424T104205
CREATED:20190801T033823Z
LAST-MODIFIED:20190921T055538Z
UID:33517-1570406400-1571011199@paloaltobridge.org
SUMMARY:Reno Regional
DESCRIPTION:Nugget Casino Resort\, Sparks NV Info
URL:https://paloaltobridge.org/event/reno-sparks-regional-2/
LOCATION:CA
CATEGORIES:Special Events
END:VEVENT
BEGIN:VEVENT
DTSTART;VALUE=DATE:20191005
DTEND;VALUE=DATE:20191007
DTSTAMP:20260424T104205
CREATED:20190801T033804Z
LAST-MODIFIED:20190801T033804Z
UID:33515-1570233600-1570406399@paloaltobridge.org
SUMMARY:Non-Life Master Sectional
DESCRIPTION:Fattoria e Mare\, Burlingame CA Info
URL:https://paloaltobridge.org/event/non-life-master-sectional-3/
LOCATION:CA
CATEGORIES:Special Events
END:VEVENT
BEGIN:VEVENT
DTSTART;VALUE=DATE:20191004
DTEND;VALUE=DATE:20191007
DTSTAMP:20260424T104205
CREATED:20190801T033739Z
LAST-MODIFIED:20190801T033739Z
UID:33513-1570147200-1570406399@paloaltobridge.org
SUMMARY:Fresno Fall Sectional
DESCRIPTION:Fresno Bridge Center\, Fresno CA Info
URL:https://paloaltobridge.org/event/fresno-fall-sectional-17/
LOCATION:CA
CATEGORIES:Special Events
END:VEVENT
BEGIN:VEVENT
DTSTART;TZID=America/Los_Angeles:20191003T113000
DTEND;TZID=America/Los_Angeles:20191003T150000
DTSTAMP:20260424T104205
CREATED:20190831T183601Z
LAST-MODIFIED:20190910T210546Z
UID:33626-1570102200-1570114800@paloaltobridge.org
SUMMARY:Thursday Bridge Club Appreciation (Swiss) *Includes Limited MP Section*
DESCRIPTION:
URL:https://paloaltobridge.org/event/thursday-bridge-club-appreciation-swiss-includes-limited-mp-section/
LOCATION:Bridge Center\, 432A Stierlin Rd\, Mountain View\, CA\, 94043\, United States
CATEGORIES:Special Events
GEO:37.4004098;-122.0788615
X-APPLE-STRUCTURED-LOCATION;VALUE=URI;X-ADDRESS=Bridge Center 432A Stierlin Rd Mountain View CA 94043 United States;X-APPLE-RADIUS=500;X-TITLE=432A Stierlin Rd:geo:-122.0788615,37.4004098
END:VEVENT
BEGIN:VEVENT
DTSTART;TZID=America/Los_Angeles:20190928T120000
DTEND;TZID=America/Los_Angeles:20190928T170000
DTSTAMP:20260424T104205
CREATED:20190913T015340Z
LAST-MODIFIED:20190913T015340Z
UID:33715-1569672000-1569690000@paloaltobridge.org
SUMMARY:North American Pairs (NAP) Unit Qualifier
DESCRIPTION:Players must qualify at the club level to be eligible to enter a unit-level qualifying game\, and must qualify at the unit level in order to advance to the District finals.  Information \n1st session at Noon.  2nd session at 4:30 PM.
URL:https://paloaltobridge.org/event/north-american-pairs-nap-unit-qualifier-2/
LOCATION:Bridge Center\, 432A Stierlin Rd\, Mountain View\, CA\, 94043\, United States
CATEGORIES:Special Events
GEO:37.4004098;-122.0788615
X-APPLE-STRUCTURED-LOCATION;VALUE=URI;X-ADDRESS=Bridge Center 432A Stierlin Rd Mountain View CA 94043 United States;X-APPLE-RADIUS=500;X-TITLE=432A Stierlin Rd:geo:-122.0788615,37.4004098
END:VEVENT
BEGIN:VEVENT
DTSTART;VALUE=DATE:20190928
DTEND;VALUE=DATE:20190930
DTSTAMP:20260424T104205
CREATED:20190506T215054Z
LAST-MODIFIED:20190506T215054Z
UID:32752-1569628800-1569801599@paloaltobridge.org
SUMMARY:Earthquake Sectional
DESCRIPTION:Gilroy Senior Center\, Gilroy CA Info
URL:https://paloaltobridge.org/event/earthquake-sectional-10/
LOCATION:CA
CATEGORIES:Special Events
END:VEVENT
BEGIN:VEVENT
DTSTART;VALUE=DATE:20190927
DTEND;VALUE=DATE:20190930
DTSTAMP:20260424T104205
CREATED:20190506T215036Z
LAST-MODIFIED:20190506T215036Z
UID:32750-1569542400-1569801599@paloaltobridge.org
SUMMARY:Sacramento Fall NLM Sectional
DESCRIPTION:Sacramento Bridge Center\, Sacramento CA Info
URL:https://paloaltobridge.org/event/sacramento-fall-nlm-sectional-2/
LOCATION:CA
CATEGORIES:Special Events
END:VEVENT
BEGIN:VEVENT
DTSTART;TZID=America/Los_Angeles:20190926T113000
DTEND;TZID=America/Los_Angeles:20190926T150000
DTSTAMP:20260424T104205
CREATED:20190831T185353Z
LAST-MODIFIED:20190910T210512Z
UID:33638-1569497400-1569510000@paloaltobridge.org
SUMMARY:Thursday Bridge Club Championship (Pairs) *Includes Limited MP Section*
DESCRIPTION:
URL:https://paloaltobridge.org/event/thursday-bridge-club-championship-pairs-includes-limited-mp-section/
LOCATION:Bridge Center\, 432A Stierlin Rd\, Mountain View\, CA\, 94043\, United States
CATEGORIES:Special Events
ORGANIZER;CN="John Schwartz":MAILTO:jrpdy@aol.com
GEO:37.4004098;-122.0788615
X-APPLE-STRUCTURED-LOCATION;VALUE=URI;X-ADDRESS=Bridge Center 432A Stierlin Rd Mountain View CA 94043 United States;X-APPLE-RADIUS=500;X-TITLE=432A Stierlin Rd:geo:-122.0788615,37.4004098
END:VEVENT
BEGIN:VEVENT
DTSTART;TZID=America/Los_Angeles:20190925T190000
DTEND;TZID=America/Los_Angeles:20190925T220000
DTSTAMP:20260424T104205
CREATED:20190109T050402Z
LAST-MODIFIED:20190109T050402Z
UID:30069-1569438000-1569448800@paloaltobridge.org
SUMMARY:Doubleton Club International Fund Game (Pairs) *Includes Limited MP Section*
DESCRIPTION:
URL:https://paloaltobridge.org/event/doubleton-club-international-fund-game-pairs-includes-limited-mp-section/
LOCATION:Bridge Center\, 432A Stierlin Rd\, Mountain View\, CA\, 94043\, United States
CATEGORIES:Special Events
GEO:37.4004098;-122.0788615
X-APPLE-STRUCTURED-LOCATION;VALUE=URI;X-ADDRESS=Bridge Center 432A Stierlin Rd Mountain View CA 94043 United States;X-APPLE-RADIUS=500;X-TITLE=432A Stierlin Rd:geo:-122.0788615,37.4004098
END:VEVENT
BEGIN:VEVENT
DTSTART;VALUE=DATE:20190921
DTEND;VALUE=DATE:20190923
DTSTAMP:20260424T104205
CREATED:20190506T215007Z
LAST-MODIFIED:20190506T215007Z
UID:32748-1569024000-1569196799@paloaltobridge.org
SUMMARY:Unit 509 Santa Rosa/Petaluma Sectional
DESCRIPTION:Santa Rosa CA Info
URL:https://paloaltobridge.org/event/unit-509-santa-rosa-petaluma-sectional-2/
LOCATION:CA
CATEGORIES:Special Events
END:VEVENT
BEGIN:VEVENT
DTSTART;VALUE=DATE:20190921
DTEND;VALUE=DATE:20190923
DTSTAMP:20260424T104205
CREATED:20190201T010912Z
LAST-MODIFIED:20190405T231623Z
UID:30720-1569024000-1569196799@paloaltobridge.org
SUMMARY:Non-Life Master Sectional
DESCRIPTION:For Non-Life Masters with fewer than 750 Master points. At our Bridge Center!
URL:https://paloaltobridge.org/event/non-life-master-sectional-7/
LOCATION:Bridge Center\, 432A Stierlin Rd\, Mountain View\, CA\, 94043\, United States
CATEGORIES:Special Events
ORGANIZER;CN="Carl Baeuerlen":MAILTO:cullycarl@gmail.com
GEO:37.4004098;-122.0788615
X-APPLE-STRUCTURED-LOCATION;VALUE=URI;X-ADDRESS=Bridge Center 432A Stierlin Rd Mountain View CA 94043 United States;X-APPLE-RADIUS=500;X-TITLE=432A Stierlin Rd:geo:-122.0788615,37.4004098
END:VEVENT
BEGIN:VEVENT
DTSTART;VALUE=DATE:20190919
DTEND;VALUE=DATE:20190923
DTSTAMP:20260424T104205
CREATED:20190506T214944Z
LAST-MODIFIED:20190921T055358Z
UID:32746-1568851200-1569196799@paloaltobridge.org
SUMMARY:Carson/Tahoe Fall Sectional
DESCRIPTION:Plaza Conference Center\, Carson City NV Info
URL:https://paloaltobridge.org/event/carson-tahoe-fall-sectional-14/
LOCATION:CA
CATEGORIES:Special Events
END:VEVENT
BEGIN:VEVENT
DTSTART;VALUE=DATE:20190916
DTEND;VALUE=DATE:20190917
DTSTAMP:20260424T104205
CREATED:20190908T013458Z
LAST-MODIFIED:20190910T210304Z
UID:33657-1568592000-1568678399@paloaltobridge.org
SUMMARY:Monday Morning BC Club Championship (Pairs) *Includes Limited MP Section*
DESCRIPTION:
URL:https://paloaltobridge.org/event/monday-morning-bc-club-championship-pairs-includes-limited-mp-section-2/
LOCATION:Bridge Center\, 432A Stierlin Rd\, Mountain View\, CA\, 94043\, United States
CATEGORIES:Special Events
GEO:37.4004098;-122.0788615
X-APPLE-STRUCTURED-LOCATION;VALUE=URI;X-ADDRESS=Bridge Center 432A Stierlin Rd Mountain View CA 94043 United States;X-APPLE-RADIUS=500;X-TITLE=432A Stierlin Rd:geo:-122.0788615,37.4004098
END:VEVENT
BEGIN:VEVENT
DTSTART;VALUE=DATE:20190914
DTEND;VALUE=DATE:20190916
DTSTAMP:20260424T104205
CREATED:20190506T214916Z
LAST-MODIFIED:20190506T214916Z
UID:32744-1568419200-1568591999@paloaltobridge.org
SUMMARY:Santa Cruz Surfs Up Sectional
DESCRIPTION:Mid-County Senior Center\, Capitola CA Info
URL:https://paloaltobridge.org/event/santa-cruz-surfs-up-sectional-3/
LOCATION:CA
CATEGORIES:Special Events
END:VEVENT
BEGIN:VEVENT
DTSTART;VALUE=DATE:20190906
DTEND;VALUE=DATE:20190909
DTSTAMP:20260424T104205
CREATED:20190506T214850Z
LAST-MODIFIED:20190506T214850Z
UID:32742-1567728000-1567987199@paloaltobridge.org
SUMMARY:Sacramento Fall Sectional
DESCRIPTION:Orangevale Community Center\, Orangevale CA Info
URL:https://paloaltobridge.org/event/sacramento-fall-sectional-8/
LOCATION:CA
CATEGORIES:Special Events
END:VEVENT
BEGIN:VEVENT
DTSTART;VALUE=DATE:20190827
DTEND;VALUE=DATE:20190903
DTSTAMP:20260424T104205
CREATED:20190820T004517Z
LAST-MODIFIED:20190820T004806Z
UID:33581-1566864000-1567468799@paloaltobridge.org
SUMMARY:Game Status during Regional
DESCRIPTION:All games at the Bridge Center will be closed. \nUnity Church games will be held as usual on Tuesday and Wednesday. \nLAGCC game will be held as usual on Tuesday.
URL:https://paloaltobridge.org/event/game-status-during-regional-2/
LOCATION:Bridge Center\, 432A Stierlin Rd\, Mountain View\, CA\, 94043\, United States
CATEGORIES:Special Events
GEO:37.4004098;-122.0788615
X-APPLE-STRUCTURED-LOCATION;VALUE=URI;X-ADDRESS=Bridge Center 432A Stierlin Rd Mountain View CA 94043 United States;X-APPLE-RADIUS=500;X-TITLE=432A Stierlin Rd:geo:-122.0788615,37.4004098
END:VEVENT
BEGIN:VEVENT
DTSTART;VALUE=DATE:20190827
DTEND;VALUE=DATE:20190903
DTSTAMP:20260424T104205
CREATED:20190801T033430Z
LAST-MODIFIED:20190801T033430Z
UID:33511-1566864000-1567468799@paloaltobridge.org
SUMMARY:85th All Western Championships
DESCRIPTION:Hyatt Regency Santa Clara\, Santa Clara CA Info
URL:https://paloaltobridge.org/event/85th-all-western-championships/
LOCATION:CA
CATEGORIES:Special Events
END:VEVENT
BEGIN:VEVENT
DTSTART;TZID=America/Los_Angeles:20190823T190000
DTEND;TZID=America/Los_Angeles:20190823T221500
DTSTAMP:20260424T104205
CREATED:20190821T235409Z
LAST-MODIFIED:20190821T235409Z
UID:33597-1566586800-1566598500@paloaltobridge.org
SUMMARY:Friday Night Barometer North American Pairs (NAP) (Pairs)
DESCRIPTION:
URL:https://paloaltobridge.org/event/friday-night-barometer-north-american-pairs-nap-pairs/
LOCATION:Bridge Center\, 432A Stierlin Rd\, Mountain View\, CA\, 94043\, United States
CATEGORIES:Special Events
GEO:37.4004098;-122.0788615
X-APPLE-STRUCTURED-LOCATION;VALUE=URI;X-ADDRESS=Bridge Center 432A Stierlin Rd Mountain View CA 94043 United States;X-APPLE-RADIUS=500;X-TITLE=432A Stierlin Rd:geo:-122.0788615,37.4004098
END:VEVENT
BEGIN:VEVENT
DTSTART;VALUE=DATE:20190819
DTEND;VALUE=DATE:20190826
DTSTAMP:20260424T104205
CREATED:20190318T204005Z
LAST-MODIFIED:20190318T204005Z
UID:32352-1566172800-1566777599@paloaltobridge.org
SUMMARY:Western Conference Summer Fun         STaC
DESCRIPTION:Local clubs Info
URL:https://paloaltobridge.org/event/western-conference-summer-fun-stac/
LOCATION:Bridge Center\, 432A Stierlin Rd\, Mountain View\, CA\, 94043\, United States
CATEGORIES:Special Events
GEO:37.4004098;-122.0788615
X-APPLE-STRUCTURED-LOCATION;VALUE=URI;X-ADDRESS=Bridge Center 432A Stierlin Rd Mountain View CA 94043 United States;X-APPLE-RADIUS=500;X-TITLE=432A Stierlin Rd:geo:-122.0788615,37.4004098
END:VEVENT
BEGIN:VEVENT
DTSTART;VALUE=DATE:20190814
DTEND;VALUE=DATE:20190818
DTSTAMP:20260424T104205
CREATED:20190318T203914Z
LAST-MODIFIED:20190318T203914Z
UID:32348-1565740800-1566086399@paloaltobridge.org
SUMMARY:Reno 2019 August Sectional
DESCRIPTION:Nugget Casino Resort\, Sparks NV Info
URL:https://paloaltobridge.org/event/reno-2019-august-sectional/
LOCATION:CA
CATEGORIES:Special Events
END:VEVENT
END:VCALENDAR