BEGIN:VCALENDAR
VERSION:2.0
PRODID:-//Palo Alto Bridge - ECPv6.15.20//NONSGML v1.0//EN
CALSCALE:GREGORIAN
METHOD:PUBLISH
X-WR-CALNAME:Palo Alto Bridge
X-ORIGINAL-URL:https://paloaltobridge.org
X-WR-CALDESC:Events for Palo Alto Bridge
REFRESH-INTERVAL;VALUE=DURATION:PT1H
X-Robots-Tag:noindex
X-PUBLISHED-TTL:PT1H
BEGIN:VTIMEZONE
TZID:America/Los_Angeles
BEGIN:DAYLIGHT
TZOFFSETFROM:-0800
TZOFFSETTO:-0700
TZNAME:PDT
DTSTART:20190310T100000
END:DAYLIGHT
BEGIN:STANDARD
TZOFFSETFROM:-0700
TZOFFSETTO:-0800
TZNAME:PST
DTSTART:20191103T090000
END:STANDARD
BEGIN:DAYLIGHT
TZOFFSETFROM:-0800
TZOFFSETTO:-0700
TZNAME:PDT
DTSTART:20200308T100000
END:DAYLIGHT
BEGIN:STANDARD
TZOFFSETFROM:-0700
TZOFFSETTO:-0800
TZNAME:PST
DTSTART:20201101T090000
END:STANDARD
BEGIN:DAYLIGHT
TZOFFSETFROM:-0800
TZOFFSETTO:-0700
TZNAME:PDT
DTSTART:20210314T100000
END:DAYLIGHT
BEGIN:STANDARD
TZOFFSETFROM:-0700
TZOFFSETTO:-0800
TZNAME:PST
DTSTART:20211107T090000
END:STANDARD
BEGIN:DAYLIGHT
TZOFFSETFROM:-0800
TZOFFSETTO:-0700
TZNAME:PDT
DTSTART:20220313T100000
END:DAYLIGHT
BEGIN:STANDARD
TZOFFSETFROM:-0700
TZOFFSETTO:-0800
TZNAME:PST
DTSTART:20221106T090000
END:STANDARD
BEGIN:DAYLIGHT
TZOFFSETFROM:-0800
TZOFFSETTO:-0700
TZNAME:PDT
DTSTART:20230312T100000
END:DAYLIGHT
BEGIN:STANDARD
TZOFFSETFROM:-0700
TZOFFSETTO:-0800
TZNAME:PST
DTSTART:20231105T090000
END:STANDARD
END:VTIMEZONE
BEGIN:VEVENT
DTSTART;TZID=America/Los_Angeles:20220129T093000
DTEND;TZID=America/Los_Angeles:20220129T110000
DTSTAMP:20260424T015834
CREATED:20211209T214158Z
LAST-MODIFIED:20220625T001123Z
UID:41017-1643448600-1643454000@paloaltobridge.org
SUMMARY:Celebrity Bridge Seminar with Gavin Wolpert
DESCRIPTION:Dealing With Overcalls by Gavin Wolpert\nModern overcalls are getting lighter and lighter every day. It is critical that we have a firm understanding of what our bids mean in order not to let overcalls push us around. These seminars take a step-by-step approach to discussing the various positions we find ourselves in after the opponent’s overcall.  \nThese seminars will benefit the low intermediate level and work their way up.  They cover those pesky situations when opponent’s overcall leaves you scratching your head as to what to bid.  They review some common negative double situations\, as well as responders 2-level bids in competition.  They then shift to discuss opener’s rebid in competition including what is forcing and what isn’t\, how to express a fit\, when to drive for game. \nDetails: \n\nJanuary 29 – Dealing With Overcalls 1\nFebruary 12 – Dealing With Overcalls 2\n\nInformation & Registration
URL:https://paloaltobridge.org/event/celebrity-seminar-with-gavin-wolpert/2022-01-29/
LOCATION:Online Webinar\, Link to be provided to registrants
CATEGORIES:Special Events
END:VEVENT
BEGIN:VEVENT
DTSTART;VALUE=DATE:20220123
DTEND;VALUE=DATE:20220124
DTSTAMP:20260424T015834
CREATED:20211216T180123Z
LAST-MODIFIED:20221113T000230Z
UID:41068-1642896000-1642982399@paloaltobridge.org
SUMMARY:Unit Game - Swiss Teams
DESCRIPTION:Stratified Swiss Teams Game which may be held at our Bridge Center\, online or both. \n\nBridge Center games start at 12 noon and we ask that players sign up so we can plan accordingly.  COVID restrictions may apply (proof of vaccination and masks).\nOnline games usually start at 1pm and do not require advance signup\, although we recommend you log into BBO 10 minutes before the game.  Players who have not previously played in our online games should contact the director in advance.\n\nPlease check our Unit Game page for specific information about this game.
URL:https://paloaltobridge.org/event/unit-game-swiss-teams-2022/2022-01-23/
CATEGORIES:Special Events
END:VEVENT
BEGIN:VEVENT
DTSTART;VALUE=DATE:20220103
DTEND;VALUE=DATE:20220110
DTSTAMP:20260424T015834
CREATED:20210827T000942Z
LAST-MODIFIED:20210827T000942Z
UID:40774-1641168000-1641772799@paloaltobridge.org
SUMMARY:Monterey Clambake Regional
DESCRIPTION:Learn. more about this event at the District 21 website (link to follow). \nFlyer 
URL:https://paloaltobridge.org/event/monterey-clambake-regional-44/
CATEGORIES:Special Events
END:VEVENT
BEGIN:VEVENT
DTSTART;VALUE=DATE:20220102
DTEND;VALUE=DATE:20220103
DTSTAMP:20260424T015834
CREATED:20211216T180000Z
LAST-MODIFIED:20221113T000409Z
UID:41066-1641081600-1641167999@paloaltobridge.org
SUMMARY:Unit Game - Pairs
DESCRIPTION:Stratified Pair Game which may be held at our Bridge Center\, online or both. \n\nBridge Center games start at 12 noon and we ask that players sign up so we can plan accordingly.  COVID restrictions may apply (proof of vaccination and masks).\nOnline games usually start at 1pm and do not require advance signup\, although we recommend you log into BBO 10 minutes before the game.  Players who have not previously played in our online games should contact the director in advance.\n\nPlease check our Unit Game page for specific about this specific game.
URL:https://paloaltobridge.org/event/unit-game-pairs-2022/2022-01-02/
CATEGORIES:Special Events
END:VEVENT
BEGIN:VEVENT
DTSTART;TZID=America/Los_Angeles:20211218T121500
DTEND;TZID=America/Los_Angeles:20211218T130000
DTSTAMP:20260424T015834
CREATED:20211115T012727Z
LAST-MODIFIED:20211210T211409Z
UID:40951-1639829700-1639832400@paloaltobridge.org
SUMMARY:Holiday Party and Game
DESCRIPTION:The event you have all been waiting for! On December 18\, we will be holding our annual Holiday Party virtually and an online Game.   The Holiday Party will start at 12:15pm on  Zoom (link sent by email); we can’t wait to see all of you!  The game will be at 1:00pm on BBO and will have a 499er and open section\, and the cost will be a bargain 3 BB$!  Thank you Will Watson for Directing. \nFrank Smoot will be the emcee as we play games and present awards: \n\nPlay “Two Truths\, and a Lie” and learn about 3 of our members and Bridge Trivia\nYou have a chance to win prizes\nPresentation of annual Awards\n\nNo need to preregister\, just sign up on BBO as usual.  If you haven’t played on BBO before and need some help signing up\, contact Stephanie Youngquist at yoyo2000@pacbell.net or 650-862-3467. \nThis is the Unit’s annual holiday charity game. Usually\, members and friends play for free but are asked to contribute gift cards or cash to local charity holiday sharing programs. This year we are providing an online alternative at the lowest price we can to still award masterpoints. Please consider a generous gift to Community Services Agency (CSA) using this link: https://forms.diamondmindinc.com/csacares/unit503?token=1738347040 or to Second Harvest of Silicon Valley at https://impact.shfb.org/fundraiser/3599223.  For more information about these organizations\, you can go to their websites at https://www.csacares.org/ and https://www.shfb.org/. \nIf you join in the holiday party and make a donation\, you will get one free in-person play at the PABC during Q1 of 2022. \nCSA is delivering critical services to homebound seniors and those who are housing or food insecure. CSA also partners with Second Harvest Food Bank. \nIf you would prefer to send a check or gift card to one of these organizations\, please mail it to: Palo Alto Bridge Club\, PO Box 391206\, Mountain View\, CA 94039 \nWe would like to thank Stephanie Youngquist\, Kathy Wheeler\, Paul Davis and Frank Smoot in advance for making this Virtual Party a success.
URL:https://paloaltobridge.org/event/unit-holiday-party-2021/
LOCATION:Online
CATEGORIES:Special Events
END:VEVENT
BEGIN:VEVENT
DTSTART;VALUE=DATE:20210918
DTEND;VALUE=DATE:20210920
DTSTAMP:20260424T015834
CREATED:20201202T234410Z
LAST-MODIFIED:20210706T180809Z
UID:39713-1631923200-1632095999@paloaltobridge.org
SUMMARY:Non-Life Master Sectional
DESCRIPTION:Unit 503 hosts a Non-Life Master Sectional for Unit members and friends who are not yet Life Masters and who have fewer than 750 masterpoints each.  All events award silver points. Hand records will be available after the events each day. \nSaturday\, September 18\, 2021\n9:30 AM and 2 PM – Single session stratified pairs\n49er\, 299er and 749er Sections \nSunday\, September 19\n9:30 AM – Single session stratified pairs\n9:30 AM & 2 PM -Single session stratified SWISS \nSign up to reserve your spot.  Information & Sign-up
URL:https://paloaltobridge.org/event/non-life-master-sectional-4/
LOCATION:Bridge Center\, 432A Stierlin Rd\, Mountain View\, CA\, 94043\, United States
CATEGORIES:Special Events
GEO:37.4004098;-122.0788615
X-APPLE-STRUCTURED-LOCATION;VALUE=URI;X-ADDRESS=Bridge Center 432A Stierlin Rd Mountain View CA 94043 United States;X-APPLE-RADIUS=500;X-TITLE=432A Stierlin Rd:geo:-122.0788615,37.4004098
END:VEVENT
BEGIN:VEVENT
DTSTART;VALUE=DATE:20210707
DTEND;VALUE=DATE:20210712
DTSTAMP:20260424T015834
CREATED:20200707T205436Z
LAST-MODIFIED:20210613T182911Z
UID:39205-1625616000-1626047999@paloaltobridge.org
SUMMARY:Firecracker Sectional CANCELLED
DESCRIPTION:Unfortunately\, we will not hold our Firecracker Sectional this year.  Come back next year and enjoy the largest Sectional in Northern California.
URL:https://paloaltobridge.org/event/firecracker-sectional-2021/
LOCATION:Bridge Center\, 432A Stierlin Rd\, Mountain View\, CA\, 94043\, United States
CATEGORIES:Special Events
GEO:37.4004098;-122.0788615
X-APPLE-STRUCTURED-LOCATION;VALUE=URI;X-ADDRESS=Bridge Center 432A Stierlin Rd Mountain View CA 94043 United States;X-APPLE-RADIUS=500;X-TITLE=432A Stierlin Rd:geo:-122.0788615,37.4004098
END:VEVENT
BEGIN:VEVENT
DTSTART;TZID=America/Los_Angeles:20210321T130000
DTEND;TZID=America/Los_Angeles:20210321T150000
DTSTAMP:20260424T015834
CREATED:20210212T054007Z
LAST-MODIFIED:20210212T054113Z
UID:39903-1616331600-1616338800@paloaltobridge.org
SUMMARY:Online Unit Game Swiss Teams
DESCRIPTION:Open and 499’er Stratified Pairs \nLog in to BBO and search for PABC under Competitive>ACBL Virtual Clubs. \n\nPlease sign up with your partner at least 10 minutes before the game to avoid problems.\n\n\nPeople who have not played before or are guests who have started recently: please log on and register 30 minutes before the game or email watsonbridge@gmail.com with their usernames to avoid registration problem.\n\nCost of game:  $8.00 BBO Dollars. \nFor questions\, please contact Will Watson at watsonbridge@gmail.com
URL:https://paloaltobridge.org/event/online-unit-game-swiss-teams/2021-03-21/
LOCATION:Bridge Center\, 432A Stierlin Rd\, Mountain View\, CA\, 94043\, United States
CATEGORIES:Special Events
GEO:37.4004098;-122.0788615
X-APPLE-STRUCTURED-LOCATION;VALUE=URI;X-ADDRESS=Bridge Center 432A Stierlin Rd Mountain View CA 94043 United States;X-APPLE-RADIUS=500;X-TITLE=432A Stierlin Rd:geo:-122.0788615,37.4004098
END:VEVENT
BEGIN:VEVENT
DTSTART;TZID=America/Los_Angeles:20201213T113000
DTEND;TZID=America/Los_Angeles:20201213T160000
DTSTAMP:20260424T015834
CREATED:20200126T180209Z
LAST-MODIFIED:20201127T191807Z
UID:36278-1607859000-1607875200@paloaltobridge.org
SUMMARY:Holiday Party and Unit Game
DESCRIPTION:Join us for some much missed time seeing everyone. We will be holding our annual Holiday Party virtually and Unit Game on Zoom and BBO.   The Holiday Party will start at 12:15pm\, and the Unit Game at 1:00pm. The game will have a 499er section\, and the cost will be a bargain 3 BB$!  Thank you Will Watson for Directing. \nMore
URL:https://paloaltobridge.org/event/unit-holiday-party-2020/
LOCATION:Bridge Center\, 432A Stierlin Rd\, Mountain View\, CA\, 94043\, United States
CATEGORIES:Special Events
GEO:37.4004098;-122.0788615
X-APPLE-STRUCTURED-LOCATION;VALUE=URI;X-ADDRESS=Bridge Center 432A Stierlin Rd Mountain View CA 94043 United States;X-APPLE-RADIUS=500;X-TITLE=432A Stierlin Rd:geo:-122.0788615,37.4004098
END:VEVENT
BEGIN:VEVENT
DTSTART;TZID=America/Los_Angeles:20201008T150000
DTEND;TZID=America/Los_Angeles:20201008T160000
DTSTAMP:20260424T015834
CREATED:20201004T145120Z
LAST-MODIFIED:20201004T180738Z
UID:39528-1602169200-1602172800@paloaltobridge.org
SUMMARY:2020 Annual Membership Meeting
DESCRIPTION:Annual meeting for Unit Members with report from the Board of Directors.  The agenda is: \n\nBridge Center Update\nUpcoming Board Elections\nDiscussion and Questions\n\nHeld via Zoom: \nJoin Zoom Meeting\nhttps://us02web.zoom.us/j/82821984846?pwd=Y05YN1FMVnFUckJSWmZSR1V3MTVIQT09\nMeeting ID: 828 2198 4846\nPasscode: PABC \nor One tap mobile\n+16699006833\,\,82821984846#\,\,\,\,\,\,0#\,\,475461# US (San Jose) \nor Dial by your location\n       +1 669 900 6833 US (San Jose)\nMeeting ID: 828 2198 4846\nPasscode: 475461 \n 
URL:https://paloaltobridge.org/event/2018-annual-membership-meeting-copy/
LOCATION:Bridge Center\, 432A Stierlin Rd\, Mountain View\, CA\, 94043\, United States
CATEGORIES:Special Events
GEO:37.4004098;-122.0788615
X-APPLE-STRUCTURED-LOCATION;VALUE=URI;X-ADDRESS=Bridge Center 432A Stierlin Rd Mountain View CA 94043 United States;X-APPLE-RADIUS=500;X-TITLE=432A Stierlin Rd:geo:-122.0788615,37.4004098
END:VEVENT
BEGIN:VEVENT
DTSTART;VALUE=DATE:20200919
DTEND;VALUE=DATE:20200921
DTSTAMP:20260424T015834
CREATED:20190918T225903Z
LAST-MODIFIED:20200618T222500Z
UID:33735-1600473600-1600646399@paloaltobridge.org
SUMMARY:Non-Life Master Sectional- CANCELLED
DESCRIPTION:For Non-Life Masters with fewer than 750 Master points. At our Bridge Center!
URL:https://paloaltobridge.org/event/non-life-master-sectional-5/
LOCATION:Bridge Center\, 432A Stierlin Rd\, Mountain View\, CA\, 94043\, United States
CATEGORIES:Special Events
ORGANIZER;CN="Carl Baeuerlen":MAILTO:cullycarl@gmail.com
GEO:37.4004098;-122.0788615
X-APPLE-STRUCTURED-LOCATION;VALUE=URI;X-ADDRESS=Bridge Center 432A Stierlin Rd Mountain View CA 94043 United States;X-APPLE-RADIUS=500;X-TITLE=432A Stierlin Rd:geo:-122.0788615,37.4004098
END:VEVENT
BEGIN:VEVENT
DTSTART;VALUE=DATE:20200907
DTEND;VALUE=DATE:20200908
DTSTAMP:20260424T015834
CREATED:20200902T224047Z
LAST-MODIFIED:20200902T224254Z
UID:39379-1599436800-1599523199@paloaltobridge.org
SUMMARY:Double Points Day
DESCRIPTION:On Monday\, September 7\, all PABC games will be awarding double points in both Open and Limited point games.
URL:https://paloaltobridge.org/event/double-points-day/
LOCATION:Bridge Center\, 432A Stierlin Rd\, Mountain View\, CA\, 94043\, United States
CATEGORIES:Special Events
GEO:37.4004098;-122.0788615
X-APPLE-STRUCTURED-LOCATION;VALUE=URI;X-ADDRESS=Bridge Center 432A Stierlin Rd Mountain View CA 94043 United States;X-APPLE-RADIUS=500;X-TITLE=432A Stierlin Rd:geo:-122.0788615,37.4004098
END:VEVENT
BEGIN:VEVENT
DTSTART;TZID=America/Los_Angeles:20200712T130000
DTEND;TZID=America/Los_Angeles:20200712T150000
DTSTAMP:20260424T015834
CREATED:20200910T162037Z
LAST-MODIFIED:20201202T233617Z
UID:39437-1594558800-1594566000@paloaltobridge.org
SUMMARY:Online Unit Game
DESCRIPTION:Open and 499’er Stratified Pairs \nLog in to BBO and search for PABC under Competitive>ACBL Virtual Clubs. \n\nPlease sign up with your partner at least 10 minutes before the game to avoid problems.\n\n\nPeople who have not played before or are guests who have started recently: please log on and register 30 minutes before the game or email watsonbridge@gmail.com with their usernames to avoid registration problem.\n\nCost of game:  $8.00 BBO Dollars. \nFor questions\, please contact Will Watson at watsonbridge@gmail.com \nMore
URL:https://paloaltobridge.org/event/online-unit-game/2020-07-12/
LOCATION:Bridge Center\, 432A Stierlin Rd\, Mountain View\, CA\, 94043\, United States
CATEGORIES:Special Events
GEO:37.4004098;-122.0788615
X-APPLE-STRUCTURED-LOCATION;VALUE=URI;X-ADDRESS=Bridge Center 432A Stierlin Rd Mountain View CA 94043 United States;X-APPLE-RADIUS=500;X-TITLE=432A Stierlin Rd:geo:-122.0788615,37.4004098
END:VEVENT
BEGIN:VEVENT
DTSTART;VALUE=DATE:20200708
DTEND;VALUE=DATE:20200713
DTSTAMP:20260424T015834
CREATED:20180716T121259Z
LAST-MODIFIED:20200615T214407Z
UID:25133-1594166400-1594598399@paloaltobridge.org
SUMMARY:Firecracker Sectional - Cancelled
DESCRIPTION:Due to COVID-19.  Stay safe.
URL:https://paloaltobridge.org/event/firecracker-sectional-2020/
LOCATION:Bridge Center\, 432A Stierlin Rd\, Mountain View\, CA\, 94043\, United States
CATEGORIES:Special Events
GEO:37.4004098;-122.0788615
X-APPLE-STRUCTURED-LOCATION;VALUE=URI;X-ADDRESS=Bridge Center 432A Stierlin Rd Mountain View CA 94043 United States;X-APPLE-RADIUS=500;X-TITLE=432A Stierlin Rd:geo:-122.0788615,37.4004098
END:VEVENT
BEGIN:VEVENT
DTSTART;VALUE=DATE:20200516
DTEND;VALUE=DATE:20200518
DTSTAMP:20260424T015834
CREATED:20190201T010705Z
LAST-MODIFIED:20200317T052018Z
UID:30718-1589587200-1589759999@paloaltobridge.org
SUMMARY:Non-Life Master Sectional - CANCELLED
DESCRIPTION:Cancelled\nFor Non-Life Masters with fewer than 750 Master points. At our Bridge Center!
URL:https://paloaltobridge.org/event/non-life-master-sectional-6/
LOCATION:Bridge Center\, 432A Stierlin Rd\, Mountain View\, CA\, 94043\, United States
CATEGORIES:Special Events
ORGANIZER;CN="Carl Baeuerlen":MAILTO:cullycarl@gmail.com
GEO:37.4004098;-122.0788615
X-APPLE-STRUCTURED-LOCATION;VALUE=URI;X-ADDRESS=Bridge Center 432A Stierlin Rd Mountain View CA 94043 United States;X-APPLE-RADIUS=500;X-TITLE=432A Stierlin Rd:geo:-122.0788615,37.4004098
END:VEVENT
BEGIN:VEVENT
DTSTART;VALUE=DATE:20200411
DTEND;VALUE=DATE:20200413
DTSTAMP:20260424T015834
CREATED:20191211T050427Z
LAST-MODIFIED:20191211T050427Z
UID:34301-1586563200-1586735999@paloaltobridge.org
SUMMARY:Grand National Teams Flight A District Final
DESCRIPTION:San Jose Bridge Center\, San Jose CA Info
URL:https://paloaltobridge.org/event/grand-national-teams-flight-a-district-final/
CATEGORIES:Special Events
END:VEVENT
BEGIN:VEVENT
DTSTART;VALUE=DATE:20200314
DTEND;VALUE=DATE:20200316
DTSTAMP:20260424T015834
CREATED:20190131T064735Z
LAST-MODIFIED:20200611T020907Z
UID:30705-1584144000-1584316799@paloaltobridge.org
SUMMARY:Non-Life Master Regional - Cancelled due to COVID
DESCRIPTION:For Non-Life Master Players With\nFewer Than 750 Masterpoints\nUnit 503 will host District 21’s inaugural Non-Life Master Regional for players who are not yet Life Masters and who have fewer than 750 masterpoints each. \nTwo-session Pair game on Saturday.  Two-session Pair game and two-session Swiss game on Sunday. \nAll events award red and gold points. Hand records will be available after the events each day. \nInformation and signup
URL:https://paloaltobridge.org/event/non-life-master-regional/
LOCATION:Bridge Center\, 432A Stierlin Rd\, Mountain View\, CA\, 94043\, United States
CATEGORIES:Special Events
GEO:37.4004098;-122.0788615
X-APPLE-STRUCTURED-LOCATION;VALUE=URI;X-ADDRESS=Bridge Center 432A Stierlin Rd Mountain View CA 94043 United States;X-APPLE-RADIUS=500;X-TITLE=432A Stierlin Rd:geo:-122.0788615,37.4004098
END:VEVENT
BEGIN:VEVENT
DTSTART;VALUE=DATE:20200307
DTEND;VALUE=DATE:20200309
DTSTAMP:20260424T015834
CREATED:20191211T045904Z
LAST-MODIFIED:20191211T045904Z
UID:34289-1583539200-1583711999@paloaltobridge.org
SUMMARY:Unit 509 Santa Rosa/Petaluma Sectional
DESCRIPTION:Odd Fellows Hall\, Santa Rosa CA Info
URL:https://paloaltobridge.org/event/unit-509-santa-rosa-petaluma-sectional-3/
CATEGORIES:Special Events
END:VEVENT
BEGIN:VEVENT
DTSTART;VALUE=DATE:20200305
DTEND;VALUE=DATE:20200306
DTSTAMP:20260424T015834
CREATED:20200412T233448Z
LAST-MODIFIED:20200611T020142Z
UID:37475-1583366400-1583452799@paloaltobridge.org
SUMMARY:Unit Activities Suspended during COVID-19.  Restart is TBD.
DESCRIPTION:
URL:https://paloaltobridge.org/event/unit-activities-suspended-during-covid-19-restart-is-tbd/
LOCATION:Bridge Center\, 432A Stierlin Rd\, Mountain View\, CA\, 94043\, United States
CATEGORIES:Special Events
GEO:37.4004098;-122.0788615
X-APPLE-STRUCTURED-LOCATION;VALUE=URI;X-ADDRESS=Bridge Center 432A Stierlin Rd Mountain View CA 94043 United States;X-APPLE-RADIUS=500;X-TITLE=432A Stierlin Rd:geo:-122.0788615,37.4004098
END:VEVENT
BEGIN:VEVENT
DTSTART;TZID=America/Los_Angeles:20200301T113000
DTEND;TZID=America/Los_Angeles:20200301T153000
DTSTAMP:20260424T015834
CREATED:20200227T180559Z
LAST-MODIFIED:20200611T020009Z
UID:36977-1583062200-1583076600@paloaltobridge.org
SUMMARY:Unit Game (Swiss)  Includes Limited MP Section  Lunch at 11:30
DESCRIPTION:Open/Stratified and 499’er/Stratified (based on team average) section if enough players. \nLunch its served at 11:30 AM.  Game starts at noon. \n$12 per person.  Youth 25 and under half price. \nIf you need a partner\, try our Partnership Desk to find one. You can also indicate you need a partner on the signup form. \nWe often need help setting up before the game and/or cleaning up after the game. If you can help please let us know when you register for a game. \nIf you need to cancel please resubmit the form indicating such. For last minute cancellations please call the Bridge Center at (650) 940-1824. \nLoading…
URL:https://paloaltobridge.org/event/unit-game-swiss-2020/
LOCATION:Bridge Center\, 432A Stierlin Rd\, Mountain View\, CA\, 94043\, United States
CATEGORIES:Special Events
GEO:37.4004098;-122.0788615
X-APPLE-STRUCTURED-LOCATION;VALUE=URI;X-ADDRESS=Bridge Center 432A Stierlin Rd Mountain View CA 94043 United States;X-APPLE-RADIUS=500;X-TITLE=432A Stierlin Rd:geo:-122.0788615,37.4004098
END:VEVENT
BEGIN:VEVENT
DTSTART;TZID=America/Los_Angeles:20200226T190000
DTEND;TZID=America/Los_Angeles:20200226T220000
DTSTAMP:20260424T015834
CREATED:20191220T053624Z
LAST-MODIFIED:20191220T053624Z
UID:34379-1582743600-1582754400@paloaltobridge.org
SUMMARY:Doubleton Club Club Championship (Pairs) *Includes Limited MP Section*
DESCRIPTION:
URL:https://paloaltobridge.org/event/doubleton-club-club-championship-pairs-includes-limited-mp-section-3/
LOCATION:Bridge Center\, 432A Stierlin Rd\, Mountain View\, CA\, 94043\, United States
CATEGORIES:Special Events
GEO:37.4004098;-122.0788615
X-APPLE-STRUCTURED-LOCATION;VALUE=URI;X-ADDRESS=Bridge Center 432A Stierlin Rd Mountain View CA 94043 United States;X-APPLE-RADIUS=500;X-TITLE=432A Stierlin Rd:geo:-122.0788615,37.4004098
END:VEVENT
BEGIN:VEVENT
DTSTART;VALUE=DATE:20200222
DTEND;VALUE=DATE:20200224
DTSTAMP:20260424T015834
CREATED:20191211T044832Z
LAST-MODIFIED:20191211T044832Z
UID:34280-1582329600-1582502399@paloaltobridge.org
SUMMARY:San Mateo County Winter Sectional
DESCRIPTION:Cañada College\, Redwood City CA Info
URL:https://paloaltobridge.org/event/san-mateo-county-winter-sectional-4/
CATEGORIES:Special Events
END:VEVENT
BEGIN:VEVENT
DTSTART;VALUE=DATE:20200215
DTEND;VALUE=DATE:20200217
DTSTAMP:20260424T015834
CREATED:20191211T045434Z
LAST-MODIFIED:20191211T045434Z
UID:34285-1581724800-1581897599@paloaltobridge.org
SUMMARY:Grand National Teams Open Championship Flight District Final
DESCRIPTION:Palo Alto Bridge Center\, Mountain View CA Info
URL:https://paloaltobridge.org/event/grand-national-teams-open-championship-flight-district-final-4/
LOCATION:Bridge Center\, 432A Stierlin Rd\, Mountain View\, CA\, 94043\, United States
CATEGORIES:Special Events
GEO:37.4004098;-122.0788615
X-APPLE-STRUCTURED-LOCATION;VALUE=URI;X-ADDRESS=Bridge Center 432A Stierlin Rd Mountain View CA 94043 United States;X-APPLE-RADIUS=500;X-TITLE=432A Stierlin Rd:geo:-122.0788615,37.4004098
END:VEVENT
BEGIN:VEVENT
DTSTART;VALUE=DATE:20200215
DTEND;VALUE=DATE:20200217
DTSTAMP:20260424T015834
CREATED:20190921T161310Z
LAST-MODIFIED:20190921T161310Z
UID:33764-1581724800-1581897599@paloaltobridge.org
SUMMARY:Grand National Teams Flight B
DESCRIPTION:
URL:https://paloaltobridge.org/event/grand-national-teams-flight-b-14/
LOCATION:Bridge Center\, 432A Stierlin Rd\, Mountain View\, CA\, 94043\, United States
CATEGORIES:Special Events
GEO:37.4004098;-122.0788615
X-APPLE-STRUCTURED-LOCATION;VALUE=URI;X-ADDRESS=Bridge Center 432A Stierlin Rd Mountain View CA 94043 United States;X-APPLE-RADIUS=500;X-TITLE=432A Stierlin Rd:geo:-122.0788615,37.4004098
END:VEVENT
BEGIN:VEVENT
DTSTART;TZID=America/Los_Angeles:20200214T093000
DTEND;TZID=America/Los_Angeles:20200214T093000
DTSTAMP:20260424T015834
CREATED:20191224T022530Z
LAST-MODIFIED:20191224T023833Z
UID:35977-1581672600-1581672600@paloaltobridge.org
SUMMARY:23rd Annual Bridge Day & Luncheon
DESCRIPTION:From the Mission Hospice Auxiliary\nOn Friday\, February 14\, 2020 we will hold our 23nd Annual Bridge Day at the Peninsula Golf & Country Club in San Mateo benefitting Mission Hospice & Home Care. \nTournament registration is $80.00 per player\, for Tournament (Chicago) or Party Bridge. A delicious lunch is included\, there is complimentary valet parking and prizes are awarded for winners. A tempting raffle is an afternoon highlight. \nAll funds raised will benefit Mission Hospice & Home Care’s Woodside Hospice House\, which provides a peaceful\, caring and home-like setting for individuals whose end-of-life needs cannot be managed in their own homes. \nJoin us for a great day of bridge! We look forward to seeing you on February the 14th at the Peninsula Golf & Country Club in San Mateo! \nFor tournament registration or questions please contact me at 650-532-2562 or via email at cmcdermott@missionhospice.org. \nSincerely\, \nCathy McDermott\nAnnual Giving & Events Manager\nMission Hospice & Home Care\n1670 South Amphlett  Blvd.\, Suite 300\nSan Mateo\, CA  94402\nwww.missionhospice.org\nDirect: 650-532-2562\nOffice: 650-554-1000
URL:https://paloaltobridge.org/event/23nd-annual-bridge-day-luncheon/
CATEGORIES:Special Events
END:VEVENT
BEGIN:VEVENT
DTSTART;VALUE=DATE:20200214
DTEND;VALUE=DATE:20200218
DTSTAMP:20260424T015834
CREATED:20191211T044702Z
LAST-MODIFIED:20191211T044702Z
UID:34274-1581638400-1581983999@paloaltobridge.org
SUMMARY:Fresno Winter Sectional
DESCRIPTION:Fresno Bridge Center\, Fresno CA Info
URL:https://paloaltobridge.org/event/fresno-winter-sectional-26/
CATEGORIES:Special Events
END:VEVENT
BEGIN:VEVENT
DTSTART;TZID=America/Los_Angeles:20200212T190000
DTEND;TZID=America/Los_Angeles:20200212T220000
DTSTAMP:20260424T015834
CREATED:20191220T054014Z
LAST-MODIFIED:20191220T054014Z
UID:34381-1581534000-1581544800@paloaltobridge.org
SUMMARY:Doubleton Club Charity Game (Pairs) *Includes Limited MP Section*
DESCRIPTION:
URL:https://paloaltobridge.org/event/doubleton-club-charity-game-pairs-includes-limited-mp-section-2/
LOCATION:Bridge Center\, 432A Stierlin Rd\, Mountain View\, CA\, 94043\, United States
CATEGORIES:Special Events
GEO:37.4004098;-122.0788615
X-APPLE-STRUCTURED-LOCATION;VALUE=URI;X-ADDRESS=Bridge Center 432A Stierlin Rd Mountain View CA 94043 United States;X-APPLE-RADIUS=500;X-TITLE=432A Stierlin Rd:geo:-122.0788615,37.4004098
END:VEVENT
BEGIN:VEVENT
DTSTART;TZID=America/Los_Angeles:20200212T190000
DTEND;TZID=America/Los_Angeles:20200212T220000
DTSTAMP:20260424T015834
CREATED:20191220T053147Z
LAST-MODIFIED:20191220T053147Z
UID:34376-1581534000-1581544800@paloaltobridge.org
SUMMARY:Doubleton Club Charity Game (Pairs) *Includes Limited MP Section*
DESCRIPTION:
URL:https://paloaltobridge.org/event/doubleton-club-charity-game-pairs-includes-limited-mp-section/
LOCATION:Bridge Center\, 432A Stierlin Rd\, Mountain View\, CA\, 94043\, United States
CATEGORIES:Special Events
GEO:37.4004098;-122.0788615
X-APPLE-STRUCTURED-LOCATION;VALUE=URI;X-ADDRESS=Bridge Center 432A Stierlin Rd Mountain View CA 94043 United States;X-APPLE-RADIUS=500;X-TITLE=432A Stierlin Rd:geo:-122.0788615,37.4004098
END:VEVENT
BEGIN:VEVENT
DTSTART;VALUE=DATE:20200208
DTEND;VALUE=DATE:20200210
DTSTAMP:20260424T015834
CREATED:20191211T045343Z
LAST-MODIFIED:20191211T045343Z
UID:34283-1581120000-1581292799@paloaltobridge.org
SUMMARY:Grand National Teams Open Championship Flight District Final
DESCRIPTION:East Bay Community Bridge Center\, Oakland CA Info
URL:https://paloaltobridge.org/event/grand-national-teams-open-championship-flight-district-final-3/
CATEGORIES:Special Events
END:VEVENT
BEGIN:VEVENT
DTSTART;VALUE=DATE:20200208
DTEND;VALUE=DATE:20200210
DTSTAMP:20260424T015834
CREATED:20190922T144513Z
LAST-MODIFIED:20190922T145838Z
UID:33775-1581120000-1581292799@paloaltobridge.org
SUMMARY:Non-Life Master Sectional *Limited MP Game*
DESCRIPTION:
URL:https://paloaltobridge.org/event/non-life-master-sectional-pairs/
LOCATION:Bridge Center\, 432A Stierlin Rd\, Mountain View\, CA\, 94043\, United States
CATEGORIES:Special Events
ORGANIZER;CN="Carl Baeuerlen":MAILTO:cullycarl@gmail.com
GEO:37.4004098;-122.0788615
X-APPLE-STRUCTURED-LOCATION;VALUE=URI;X-ADDRESS=Bridge Center 432A Stierlin Rd Mountain View CA 94043 United States;X-APPLE-RADIUS=500;X-TITLE=432A Stierlin Rd:geo:-122.0788615,37.4004098
END:VEVENT
END:VCALENDAR