BEGIN:VCALENDAR
VERSION:2.0
PRODID:-//Palo Alto Bridge - ECPv6.15.20//NONSGML v1.0//EN
CALSCALE:GREGORIAN
METHOD:PUBLISH
X-ORIGINAL-URL:https://paloaltobridge.org
X-WR-CALDESC:Events for Palo Alto Bridge
REFRESH-INTERVAL;VALUE=DURATION:PT1H
X-Robots-Tag:noindex
X-PUBLISHED-TTL:PT1H
BEGIN:VTIMEZONE
TZID:America/Los_Angeles
BEGIN:DAYLIGHT
TZOFFSETFROM:-0800
TZOFFSETTO:-0700
TZNAME:PDT
DTSTART:20240310T100000
END:DAYLIGHT
BEGIN:STANDARD
TZOFFSETFROM:-0700
TZOFFSETTO:-0800
TZNAME:PST
DTSTART:20241103T090000
END:STANDARD
BEGIN:DAYLIGHT
TZOFFSETFROM:-0800
TZOFFSETTO:-0700
TZNAME:PDT
DTSTART:20250309T100000
END:DAYLIGHT
BEGIN:STANDARD
TZOFFSETFROM:-0700
TZOFFSETTO:-0800
TZNAME:PST
DTSTART:20251102T090000
END:STANDARD
BEGIN:DAYLIGHT
TZOFFSETFROM:-0800
TZOFFSETTO:-0700
TZNAME:PDT
DTSTART:20260308T100000
END:DAYLIGHT
BEGIN:STANDARD
TZOFFSETFROM:-0700
TZOFFSETTO:-0800
TZNAME:PST
DTSTART:20261101T090000
END:STANDARD
END:VTIMEZONE
BEGIN:VEVENT
DTSTART;VALUE=DATE:20251101
DTEND;VALUE=DATE:20251103
DTSTAMP:20260423T081800
CREATED:20240812T022403Z
LAST-MODIFIED:20240812T022403Z
UID:50008-1761955200-1762127999@paloaltobridge.org
SUMMARY:San Mateo - Redwood City Sectional
DESCRIPTION:The San Mateo / Redwood City Unit Sectional held at our Bridge Center.
URL:https://paloaltobridge.org/event/san-mateo-redwood-city-sectional-march-2025/2025-11-01/
LOCATION:Bridge Center\, 432A Stierlin Rd\, Mountain View\, CA\, 94043\, United States
CATEGORIES:Special Events
GEO:37.4004098;-122.0788615
X-APPLE-STRUCTURED-LOCATION;VALUE=URI;X-ADDRESS=Bridge Center 432A Stierlin Rd Mountain View CA 94043 United States;X-APPLE-RADIUS=500;X-TITLE=432A Stierlin Rd:geo:-122.0788615,37.4004098
END:VEVENT
BEGIN:VEVENT
DTSTART;TZID=America/Los_Angeles:20251108T150000
DTEND;TZID=America/Los_Angeles:20251108T180000
DTSTAMP:20260423T081800
CREATED:20251111T202904Z
LAST-MODIFIED:20251111T203757Z
UID:67757-1762614000-1762624800@paloaltobridge.org
SUMMARY:SiVY Fall/Winter Pizza Party Tournament
DESCRIPTION:View SiVY Pizza Party calendar for more information.
URL:https://paloaltobridge.org/event/sivy-fall-winter-pizza-party-tournament/2025-11-08/
LOCATION:Bridge Center\, 432A Stierlin Rd\, Mountain View\, CA\, 94043\, United States
CATEGORIES:Special Events
GEO:37.4004098;-122.0788615
X-APPLE-STRUCTURED-LOCATION;VALUE=URI;X-ADDRESS=Bridge Center 432A Stierlin Rd Mountain View CA 94043 United States;X-APPLE-RADIUS=500;X-TITLE=432A Stierlin Rd:geo:-122.0788615,37.4004098
END:VEVENT
BEGIN:VEVENT
DTSTART;TZID=America/Los_Angeles:20251110T113000
DTEND;TZID=America/Los_Angeles:20251110T143000
DTSTAMP:20260423T081800
CREATED:20250502T050349Z
LAST-MODIFIED:20250502T051631Z
UID:49920-1762774200-1762785000@paloaltobridge.org
SUMMARY:Swiss Team Club Game
DESCRIPTION:Swiss Team games are great fun to play and grant generous master point awards at sectional\, regional\, and national tournaments!  Now you have the chance to play at the club level in our monthly games hosted by John Schwartz and Will Watson. \nThese games are a wonderful opportunity to polish one’s Swiss Team skills throughout the year and especially prior to sectional\, regional\, and national tournaments. If you are less experienced or have never played in a Swiss Team game and would like to play Swiss Teams at future tournaments\, these Swiss Team club games are a perfect opportunity to gain experience in a more relaxed club game environment. For those less experienced Swiss Team players\, here are slides from a Swiss Team strategy lecture from a Swiss Team strategy lecture given in August 2023.. \nThese games will have an Open and a Limited section.  They will award 100% black points. \nNo lunch is provided.   Snacks aree available before and during the game. \nFor planning purposes\, we ask that players sign-up to play at: https://www.signup123.com/unit503bridge/Scripts/slogin.pl  \n\nThe game reservation system is designed for pairs games and not Swiss Teams. So\, to sign up your team\, sign up you and your partner in both the N/S and E/W boxes.\nHaving trouble signing up? Email Will Watson watsonbridge@gmail.com\n\nDon’t have a team of four? The Unit will help you find a team. Email Will Watson at watsonbridge@gmail.com. \nHave questions? Please contact Will or Marc Cervellino at marc.cervellino@hotmail.com.
URL:https://paloaltobridge.org/event/swiss-team-club-game-2025/2025-11-10/
LOCATION:Bridge Center\, 432A Stierlin Rd\, Mountain View\, CA\, 94043\, United States
CATEGORIES:Club Games,Special Events
GEO:37.4004098;-122.0788615
X-APPLE-STRUCTURED-LOCATION;VALUE=URI;X-ADDRESS=Bridge Center 432A Stierlin Rd Mountain View CA 94043 United States;X-APPLE-RADIUS=500;X-TITLE=432A Stierlin Rd:geo:-122.0788615,37.4004098
END:VEVENT
BEGIN:VEVENT
DTSTART;TZID=America/Los_Angeles:20251111T160000
DTEND;TZID=America/Los_Angeles:20251111T173000
DTSTAMP:20260423T081800
CREATED:20240117T013011Z
LAST-MODIFIED:20240117T013011Z
UID:67368-1762876800-1762882200@paloaltobridge.org
SUMMARY:Board of Directors Meeting
DESCRIPTION:Usually held on the second Tuesday of every month at 4pm.  Meetings are via Zoom.  Please see our Event Calendar for possible changes. \nMembers are welcome to attend.  Please contact the board if you would like a subject added to the Agenda. \nPlease see our Governance page for information about the board\, the agenda for this meeting and the agenda and minutes of past meetings.
URL:https://paloaltobridge.org/event/board-of-directors-2024/2025-11-11/
LOCATION:Bridge Center\, 432A Stierlin Rd\, Mountain View\, CA\, 94043\, United States
CATEGORIES:Special Events
GEO:37.4004098;-122.0788615
X-APPLE-STRUCTURED-LOCATION;VALUE=URI;X-ADDRESS=Bridge Center 432A Stierlin Rd Mountain View CA 94043 United States;X-APPLE-RADIUS=500;X-TITLE=432A Stierlin Rd:geo:-122.0788615,37.4004098
END:VEVENT
BEGIN:VEVENT
DTSTART;TZID=America/Los_Angeles:20251111T170000
DTEND;TZID=America/Los_Angeles:20251111T190000
DTSTAMP:20260423T081800
CREATED:20251007T034253Z
LAST-MODIFIED:20251007T034831Z
UID:67540-1762880400-1762887600@paloaltobridge.org
SUMMARY:Bridge Center Closed for Liberty Forum
DESCRIPTION:The Liberty Forum will be using our Bridge Center.  Requires all onsite parking.
URL:https://paloaltobridge.org/event/the-liberty-forum-of-silicon-valley-copy/
LOCATION:Bridge Center\, 432A Stierlin Rd\, Mountain View\, CA\, 94043\, United States
CATEGORIES:IFES Conflicts,Special Events
GEO:37.4004098;-122.0788615
X-APPLE-STRUCTURED-LOCATION;VALUE=URI;X-ADDRESS=Bridge Center 432A Stierlin Rd Mountain View CA 94043 United States;X-APPLE-RADIUS=500;X-TITLE=432A Stierlin Rd:geo:-122.0788615,37.4004098
END:VEVENT
BEGIN:VEVENT
DTSTART;TZID=America/Los_Angeles:20251113T110000
DTEND;TZID=America/Los_Angeles:20251113T140000
DTSTAMP:20260423T081800
CREATED:20251015T022802Z
LAST-MODIFIED:20251022T191017Z
UID:67564-1763031600-1763042400@paloaltobridge.org
SUMMARY:Pro-Am Swiss Team Game
DESCRIPTION:Enjoy our first Pro-Am Swiss Team game. \nOur Pro-Am pair games have been very popular and now is your chance to play in a Swiss Team version. ‘Amateurs’\, players with less than 500 masterpoints\, will be paired with more experienced ‘Pros’. After the game your ‘Pro’ will be able to provide feedback and answer questions you might have about the game. \nInformation and Signup
URL:https://paloaltobridge.org/event/pro-am-swiss-team-game/
LOCATION:Bridge Center\, 432A Stierlin Rd\, Mountain View\, CA\, 94043\, United States
CATEGORIES:Special Events
GEO:37.4004098;-122.0788615
X-APPLE-STRUCTURED-LOCATION;VALUE=URI;X-ADDRESS=Bridge Center 432A Stierlin Rd Mountain View CA 94043 United States;X-APPLE-RADIUS=500;X-TITLE=432A Stierlin Rd:geo:-122.0788615,37.4004098
END:VEVENT
BEGIN:VEVENT
DTSTART;TZID=America/Los_Angeles:20251115T110000
DTEND;TZID=America/Los_Angeles:20251115T143000
DTSTAMP:20260423T081800
CREATED:20251111T183740Z
LAST-MODIFIED:20251111T185804Z
UID:67709-1763204400-1763217000@paloaltobridge.org
SUMMARY:Josephine Ventura Memorial Game
DESCRIPTION:Josephine Ventura\, who played at Palo Alto Bridge Center almost every day\, and volunteered at our tournaments and special events\, passed away after a long illness.  From her nephew Derek Sato: “Bridge was one of her passions and she cherished her many friendships within the bridge community.”  In lieu of flowers\, donations may be made to Mission Hospice & Home Care (Mission House) or Peninsula Bridge Education Foundation (PBEF website).  A memorial bridge game to remember and celebrate Josephine will be held at Palo Alto Bridge Center on Saturday\, November 15 at 11:00AM.  All are welcome – including young players. SignUp  J Ventura obituary
URL:https://paloaltobridge.org/event/josephine-ventura-memorial-game/
LOCATION:Bridge Center\, 432A Stierlin Rd\, Mountain View\, CA\, 94043\, United States
CATEGORIES:Special Events
GEO:37.4004098;-122.0788615
X-APPLE-STRUCTURED-LOCATION;VALUE=URI;X-ADDRESS=Bridge Center 432A Stierlin Rd Mountain View CA 94043 United States;X-APPLE-RADIUS=500;X-TITLE=432A Stierlin Rd:geo:-122.0788615,37.4004098
END:VEVENT
BEGIN:VEVENT
DTSTART;VALUE=DATE:20251127
DTEND;VALUE=DATE:20251208
DTSTAMP:20260423T081800
CREATED:20251021T013844Z
LAST-MODIFIED:20251021T013844Z
UID:67590-1764201600-1765151999@paloaltobridge.org
SUMMARY:Bridge Center Closed during the NABC in San Francisco
DESCRIPTION:Games at our Bridge Center will not be held during the North American Bridge Championships.
URL:https://paloaltobridge.org/event/bridge-center-closed-during-the-nabc-in-san-francisco/
LOCATION:Bridge Center\, 432A Stierlin Rd\, Mountain View\, CA\, 94043\, United States
CATEGORIES:Special Events
GEO:37.4004098;-122.0788615
X-APPLE-STRUCTURED-LOCATION;VALUE=URI;X-ADDRESS=Bridge Center 432A Stierlin Rd Mountain View CA 94043 United States;X-APPLE-RADIUS=500;X-TITLE=432A Stierlin Rd:geo:-122.0788615,37.4004098
END:VEVENT
END:VCALENDAR