BEGIN:VCALENDAR
VERSION:2.0
PRODID:-//Palo Alto Bridge - ECPv6.15.20//NONSGML v1.0//EN
CALSCALE:GREGORIAN
METHOD:PUBLISH
X-WR-CALNAME:Palo Alto Bridge
X-ORIGINAL-URL:https://paloaltobridge.org
X-WR-CALDESC:Events for Palo Alto Bridge
REFRESH-INTERVAL;VALUE=DURATION:PT1H
X-Robots-Tag:noindex
X-PUBLISHED-TTL:PT1H
BEGIN:VTIMEZONE
TZID:America/Los_Angeles
BEGIN:DAYLIGHT
TZOFFSETFROM:-0800
TZOFFSETTO:-0700
TZNAME:PDT
DTSTART:20240310T100000
END:DAYLIGHT
BEGIN:STANDARD
TZOFFSETFROM:-0700
TZOFFSETTO:-0800
TZNAME:PST
DTSTART:20241103T090000
END:STANDARD
BEGIN:DAYLIGHT
TZOFFSETFROM:-0800
TZOFFSETTO:-0700
TZNAME:PDT
DTSTART:20250309T100000
END:DAYLIGHT
BEGIN:STANDARD
TZOFFSETFROM:-0700
TZOFFSETTO:-0800
TZNAME:PST
DTSTART:20251102T090000
END:STANDARD
BEGIN:DAYLIGHT
TZOFFSETFROM:-0800
TZOFFSETTO:-0700
TZNAME:PDT
DTSTART:20260308T100000
END:DAYLIGHT
BEGIN:STANDARD
TZOFFSETFROM:-0700
TZOFFSETTO:-0800
TZNAME:PST
DTSTART:20261101T090000
END:STANDARD
END:VTIMEZONE
BEGIN:VEVENT
DTSTART;VALUE=DATE:20251003
DTEND;VALUE=DATE:20251006
DTSTAMP:20260423T100815
CREATED:20240327T212648Z
LAST-MODIFIED:20240327T212648Z
UID:50007-1759449600-1759708799@paloaltobridge.org
SUMMARY:Silicon Valley Fall Sectional
DESCRIPTION:The Silicon Valley Unit Fall Sectional will be held at our Bridge Center.
URL:https://paloaltobridge.org/event/silicon-valley-fall-sectional-10/2025-10-03/
LOCATION:Bridge Center\, 432A Stierlin Rd\, Mountain View\, CA\, 94043\, United States
CATEGORIES:Special Events
GEO:37.4004098;-122.0788615
X-APPLE-STRUCTURED-LOCATION;VALUE=URI;X-ADDRESS=Bridge Center 432A Stierlin Rd Mountain View CA 94043 United States;X-APPLE-RADIUS=500;X-TITLE=432A Stierlin Rd:geo:-122.0788615,37.4004098
END:VEVENT
BEGIN:VEVENT
DTSTART;TZID=America/Los_Angeles:20251013T113000
DTEND;TZID=America/Los_Angeles:20251013T143000
DTSTAMP:20260423T100815
CREATED:20250502T050349Z
LAST-MODIFIED:20250502T051631Z
UID:49919-1760355000-1760365800@paloaltobridge.org
SUMMARY:Swiss Team Club Game
DESCRIPTION:Swiss Team games are great fun to play and grant generous master point awards at sectional\, regional\, and national tournaments!  Now you have the chance to play at the club level in our monthly games hosted by John Schwartz and Will Watson. \nThese games are a wonderful opportunity to polish one’s Swiss Team skills throughout the year and especially prior to sectional\, regional\, and national tournaments. If you are less experienced or have never played in a Swiss Team game and would like to play Swiss Teams at future tournaments\, these Swiss Team club games are a perfect opportunity to gain experience in a more relaxed club game environment. For those less experienced Swiss Team players\, here are slides from a Swiss Team strategy lecture from a Swiss Team strategy lecture given in August 2023.. \nThese games will have an Open and a Limited section.  They will award 100% black points. \nNo lunch is provided.   Snacks aree available before and during the game. \nFor planning purposes\, we ask that players sign-up to play at: https://www.signup123.com/unit503bridge/Scripts/slogin.pl  \n\nThe game reservation system is designed for pairs games and not Swiss Teams. So\, to sign up your team\, sign up you and your partner in both the N/S and E/W boxes.\nHaving trouble signing up? Email Will Watson watsonbridge@gmail.com\n\nDon’t have a team of four? The Unit will help you find a team. Email Will Watson at watsonbridge@gmail.com. \nHave questions? Please contact Will or Marc Cervellino at marc.cervellino@hotmail.com.
URL:https://paloaltobridge.org/event/swiss-team-club-game-2025/2025-10-13/
LOCATION:Bridge Center\, 432A Stierlin Rd\, Mountain View\, CA\, 94043\, United States
CATEGORIES:Club Games,Special Events
GEO:37.4004098;-122.0788615
X-APPLE-STRUCTURED-LOCATION;VALUE=URI;X-ADDRESS=Bridge Center 432A Stierlin Rd Mountain View CA 94043 United States;X-APPLE-RADIUS=500;X-TITLE=432A Stierlin Rd:geo:-122.0788615,37.4004098
END:VEVENT
BEGIN:VEVENT
DTSTART;TZID=America/Los_Angeles:20251014T160000
DTEND;TZID=America/Los_Angeles:20251014T173000
DTSTAMP:20260423T100815
CREATED:20240117T013011Z
LAST-MODIFIED:20240117T013011Z
UID:67367-1760457600-1760463000@paloaltobridge.org
SUMMARY:Board of Directors Meeting
DESCRIPTION:Usually held on the second Tuesday of every month at 4pm.  Meetings are via Zoom.  Please see our Event Calendar for possible changes. \nMembers are welcome to attend.  Please contact the board if you would like a subject added to the Agenda. \nPlease see our Governance page for information about the board\, the agenda for this meeting and the agenda and minutes of past meetings.
URL:https://paloaltobridge.org/event/board-of-directors-2024/2025-10-14/
LOCATION:Bridge Center\, 432A Stierlin Rd\, Mountain View\, CA\, 94043\, United States
CATEGORIES:Special Events
GEO:37.4004098;-122.0788615
X-APPLE-STRUCTURED-LOCATION;VALUE=URI;X-ADDRESS=Bridge Center 432A Stierlin Rd Mountain View CA 94043 United States;X-APPLE-RADIUS=500;X-TITLE=432A Stierlin Rd:geo:-122.0788615,37.4004098
END:VEVENT
BEGIN:VEVENT
DTSTART;TZID=America/Los_Angeles:20251018T093000
DTEND;TZID=America/Los_Angeles:20251018T150000
DTSTAMP:20260423T100815
CREATED:20251007T033105Z
LAST-MODIFIED:20251007T034026Z
UID:67536-1760779800-1760799600@paloaltobridge.org
SUMMARY:Celebrity Bridge Seminar with Robert Todd LIVE
DESCRIPTION:Compete when they Open\nDefensive Strategies & Tools \nRobert Todd will be presenting a LIVE seminar at our Bridge Center. Competitive bidding is key in bridge.  When opponents open\, you have tools to enter the auction.  We’ll explore these and help you sharpen your judgement to compete effectively. \n$100 registration fee \nInformation and registration
URL:https://paloaltobridge.org/event/celebrity-bridge-seminar-with-robert-todd-live/
LOCATION:Online Webinar\, Link to be provided to registrants
CATEGORIES:Special Events
ATTACH;FMTTYPE=image/jpeg:https://paloaltobridge.org/wp-content/uploads/2018/07/todd.jpg
END:VEVENT
BEGIN:VEVENT
DTSTART;VALUE=DATE:20251023
DTEND;VALUE=DATE:20251027
DTSTAMP:20260423T100815
CREATED:20240730T141007Z
LAST-MODIFIED:20250826T155724Z
UID:47398-1761177600-1761523199@paloaltobridge.org
SUMMARY:Palo Alto Bridge Super Silver Sectional
DESCRIPTION:Open\, Midflight\, Silver Rush (0-750) and 0-99 Pairs games\nAll Games are Stratified \nBracketed Team Games\nOnly play teams at your own level \nAll games award 100% Silver points\n76% of players won silver points at the last ten Palo Alto Bridge tournaments \nSchedule of events and more
URL:https://paloaltobridge.org/event/palo-alto-open-super-silver-sectional/
LOCATION:Bridge Center\, 432A Stierlin Rd\, Mountain View\, CA\, 94043\, United States
CATEGORIES:Special Events
GEO:37.4004098;-122.0788615
X-APPLE-STRUCTURED-LOCATION;VALUE=URI;X-ADDRESS=Bridge Center 432A Stierlin Rd Mountain View CA 94043 United States;X-APPLE-RADIUS=500;X-TITLE=432A Stierlin Rd:geo:-122.0788615,37.4004098
END:VEVENT
BEGIN:VEVENT
DTSTART;TZID=America/Los_Angeles:20251031T104500
DTEND;TZID=America/Los_Angeles:20251031T144500
DTSTAMP:20260423T100815
CREATED:20250206T201440Z
LAST-MODIFIED:20251020T002618Z
UID:48640-1761907500-1761921900@paloaltobridge.org
SUMMARY:Halloween Game
DESCRIPTION:Wear a Halloween costume – prizes awarded for best costumes!  Loads of Halloween themed snacks.  The Bridge Center will be decorated in Frightening fashion! \nThink your kids and grandkids are the only ones who can wear a costume on Halloween? Guess again! Each year’s Halloween game has a large turnout and is scary fun\, with most players wearing costumes. So\, dust off that costume\, mark your calendar\, call your partner\, and plan to play in our Halloween game. \n0 – 750 masterpoint players – here is an opportunity to attend Will Watson’s free bridge lecture and then play in a special stratified\, 0-750 limited section. \nOpen and 0-750 sections start at 10:45am: \n\nClub Appreciation Game will award greater masterpoints\nWill Watson will present a free lecture ‘End Plays’ at 10am\nEnjoy the fun.\n\nFor planning purposes\, we strongly encourage reservations\, with or without a partner. \nLast year’s Halloween game had a large turnout and was scary fun\, with most players wearing a costume (see photo). So\, dust off that costume\, mark your calendar\, call your partner\, and plan to play in the Halloween game.
URL:https://paloaltobridge.org/event/halloween-party-3/
LOCATION:Bridge Center\, 432A Stierlin Rd\, Mountain View\, CA\, 94043\, United States
CATEGORIES:Special Events
GEO:37.4004098;-122.0788615
X-APPLE-STRUCTURED-LOCATION;VALUE=URI;X-ADDRESS=Bridge Center 432A Stierlin Rd Mountain View CA 94043 United States;X-APPLE-RADIUS=500;X-TITLE=432A Stierlin Rd:geo:-122.0788615,37.4004098
END:VEVENT
END:VCALENDAR