BEGIN:VCALENDAR
VERSION:2.0
PRODID:-//Palo Alto Bridge - ECPv6.15.20//NONSGML v1.0//EN
CALSCALE:GREGORIAN
METHOD:PUBLISH
X-ORIGINAL-URL:https://paloaltobridge.org
X-WR-CALDESC:Events for Palo Alto Bridge
REFRESH-INTERVAL;VALUE=DURATION:PT1H
X-Robots-Tag:noindex
X-PUBLISHED-TTL:PT1H
BEGIN:VTIMEZONE
TZID:America/Los_Angeles
BEGIN:DAYLIGHT
TZOFFSETFROM:-0800
TZOFFSETTO:-0700
TZNAME:PDT
DTSTART:20240310T100000
END:DAYLIGHT
BEGIN:STANDARD
TZOFFSETFROM:-0700
TZOFFSETTO:-0800
TZNAME:PST
DTSTART:20241103T090000
END:STANDARD
BEGIN:DAYLIGHT
TZOFFSETFROM:-0800
TZOFFSETTO:-0700
TZNAME:PDT
DTSTART:20250309T100000
END:DAYLIGHT
BEGIN:STANDARD
TZOFFSETFROM:-0700
TZOFFSETTO:-0800
TZNAME:PST
DTSTART:20251102T090000
END:STANDARD
BEGIN:DAYLIGHT
TZOFFSETFROM:-0800
TZOFFSETTO:-0700
TZNAME:PDT
DTSTART:20260308T100000
END:DAYLIGHT
BEGIN:STANDARD
TZOFFSETFROM:-0700
TZOFFSETTO:-0800
TZNAME:PST
DTSTART:20261101T090000
END:STANDARD
END:VTIMEZONE
BEGIN:VEVENT
DTSTART;TZID=America/Los_Angeles:20250607T130000
DTEND;TZID=America/Los_Angeles:20250607T180000
DTSTAMP:20260423T172458
CREATED:20250511T051905Z
LAST-MODIFIED:20250511T051905Z
UID:50071-1749301200-1749319200@paloaltobridge.org
SUMMARY:SiVY Weekend Summer Camp
DESCRIPTION:Learn the best card game ever!  Meet new friends!\nFor Kids entering 5th through 10th grade in the Fall. Beginners and those with some bridge experience. Camp is not intended for those who compete on a regular basis in ACBL games open to all ages. \nLocation:   IFES Hall next to the Bridge Center \nInformation and registration
URL:https://paloaltobridge.org/event/sivy-weekend-summer-camp-2/2025-06-07/
LOCATION:Bridge Center\, 432A Stierlin Rd\, Mountain View\, CA\, 94043\, United States
CATEGORIES:Special Events
GEO:37.4004098;-122.0788615
X-APPLE-STRUCTURED-LOCATION;VALUE=URI;X-ADDRESS=Bridge Center 432A Stierlin Rd Mountain View CA 94043 United States;X-APPLE-RADIUS=500;X-TITLE=432A Stierlin Rd:geo:-122.0788615,37.4004098
END:VEVENT
BEGIN:VEVENT
DTSTART;TZID=America/Los_Angeles:20250608T130000
DTEND;TZID=America/Los_Angeles:20250608T180000
DTSTAMP:20260423T172458
CREATED:20250511T051905Z
LAST-MODIFIED:20250511T051905Z
UID:50072-1749387600-1749405600@paloaltobridge.org
SUMMARY:SiVY Weekend Summer Camp
DESCRIPTION:Learn the best card game ever!  Meet new friends!\nFor Kids entering 5th through 10th grade in the Fall. Beginners and those with some bridge experience. Camp is not intended for those who compete on a regular basis in ACBL games open to all ages. \nLocation:   IFES Hall next to the Bridge Center \nInformation and registration
URL:https://paloaltobridge.org/event/sivy-weekend-summer-camp-2/2025-06-08/
LOCATION:Bridge Center\, 432A Stierlin Rd\, Mountain View\, CA\, 94043\, United States
CATEGORIES:Special Events
GEO:37.4004098;-122.0788615
X-APPLE-STRUCTURED-LOCATION;VALUE=URI;X-ADDRESS=Bridge Center 432A Stierlin Rd Mountain View CA 94043 United States;X-APPLE-RADIUS=500;X-TITLE=432A Stierlin Rd:geo:-122.0788615,37.4004098
END:VEVENT
BEGIN:VEVENT
DTSTART;TZID=America/Los_Angeles:20250609T113000
DTEND;TZID=America/Los_Angeles:20250609T143000
DTSTAMP:20260423T172458
CREATED:20250502T050349Z
LAST-MODIFIED:20250502T051630Z
UID:49915-1749468600-1749479400@paloaltobridge.org
SUMMARY:Swiss Team Club Game
DESCRIPTION:Swiss Team games are great fun to play and grant generous master point awards at sectional\, regional\, and national tournaments!  Now you have the chance to play at the club level in our monthly games hosted by John Schwartz and Will Watson. \nThese games are a wonderful opportunity to polish one’s Swiss Team skills throughout the year and especially prior to sectional\, regional\, and national tournaments. If you are less experienced or have never played in a Swiss Team game and would like to play Swiss Teams at future tournaments\, these Swiss Team club games are a perfect opportunity to gain experience in a more relaxed club game environment. For those less experienced Swiss Team players\, here are slides from a Swiss Team strategy lecture from a Swiss Team strategy lecture given in August 2023.. \nThese games will have an Open and a Limited section.  They will award 100% black points. \nNo lunch is provided.   Snacks aree available before and during the game. \nFor planning purposes\, we ask that players sign-up to play at: https://www.signup123.com/unit503bridge/Scripts/slogin.pl  \n\nThe game reservation system is designed for pairs games and not Swiss Teams. So\, to sign up your team\, sign up you and your partner in both the N/S and E/W boxes.\nHaving trouble signing up? Email Will Watson watsonbridge@gmail.com\n\nDon’t have a team of four? The Unit will help you find a team. Email Will Watson at watsonbridge@gmail.com. \nHave questions? Please contact Will or Marc Cervellino at marc.cervellino@hotmail.com.
URL:https://paloaltobridge.org/event/swiss-team-club-game-2025/2025-06-09/
LOCATION:Bridge Center\, 432A Stierlin Rd\, Mountain View\, CA\, 94043\, United States
CATEGORIES:Club Games,Special Events
GEO:37.4004098;-122.0788615
X-APPLE-STRUCTURED-LOCATION;VALUE=URI;X-ADDRESS=Bridge Center 432A Stierlin Rd Mountain View CA 94043 United States;X-APPLE-RADIUS=500;X-TITLE=432A Stierlin Rd:geo:-122.0788615,37.4004098
END:VEVENT
BEGIN:VEVENT
DTSTART;TZID=America/Los_Angeles:20250610T160000
DTEND;TZID=America/Los_Angeles:20250610T173000
DTSTAMP:20260423T172458
CREATED:20240117T013011Z
LAST-MODIFIED:20240117T013011Z
UID:67363-1749571200-1749576600@paloaltobridge.org
SUMMARY:Board of Directors Meeting
DESCRIPTION:Usually held on the second Tuesday of every month at 4pm.  Meetings are via Zoom.  Please see our Event Calendar for possible changes. \nMembers are welcome to attend.  Please contact the board if you would like a subject added to the Agenda. \nPlease see our Governance page for information about the board\, the agenda for this meeting and the agenda and minutes of past meetings.
URL:https://paloaltobridge.org/event/board-of-directors-2024/2025-06-10/
LOCATION:Bridge Center\, 432A Stierlin Rd\, Mountain View\, CA\, 94043\, United States
CATEGORIES:Special Events
GEO:37.4004098;-122.0788615
X-APPLE-STRUCTURED-LOCATION;VALUE=URI;X-ADDRESS=Bridge Center 432A Stierlin Rd Mountain View CA 94043 United States;X-APPLE-RADIUS=500;X-TITLE=432A Stierlin Rd:geo:-122.0788615,37.4004098
END:VEVENT
BEGIN:VEVENT
DTSTART;TZID=America/Los_Angeles:20250611T100000
DTEND;TZID=America/Los_Angeles:20250611T140000
DTSTAMP:20260423T172458
CREATED:20241203T181438Z
LAST-MODIFIED:20260103T014916Z
UID:50056-1749636000-1749650400@paloaltobridge.org
SUMMARY:Find a Partner Game
DESCRIPTION:One of the challenges of bridge is finding compatible bridge partners.  To help we are holding several Find-A-Partner games. \nGame time 10:30am\nLecture prior to games at 10am \nInformation and Signup
URL:https://paloaltobridge.org/event/find-a-partner-game/2025-06-11/
LOCATION:Bridge Center\, 432A Stierlin Rd\, Mountain View\, CA\, 94043\, United States
CATEGORIES:Special Events
GEO:37.4004098;-122.0788615
X-APPLE-STRUCTURED-LOCATION;VALUE=URI;X-ADDRESS=Bridge Center 432A Stierlin Rd Mountain View CA 94043 United States;X-APPLE-RADIUS=500;X-TITLE=432A Stierlin Rd:geo:-122.0788615,37.4004098
END:VEVENT
BEGIN:VEVENT
DTSTART;TZID=America/Los_Angeles:20250614T130000
DTEND;TZID=America/Los_Angeles:20250614T180000
DTSTAMP:20260423T172458
CREATED:20250511T051905Z
LAST-MODIFIED:20250511T051905Z
UID:50073-1749906000-1749924000@paloaltobridge.org
SUMMARY:SiVY Weekend Summer Camp
DESCRIPTION:Learn the best card game ever!  Meet new friends!\nFor Kids entering 5th through 10th grade in the Fall. Beginners and those with some bridge experience. Camp is not intended for those who compete on a regular basis in ACBL games open to all ages. \nLocation:   IFES Hall next to the Bridge Center \nInformation and registration
URL:https://paloaltobridge.org/event/sivy-weekend-summer-camp-2/2025-06-14/
LOCATION:Bridge Center\, 432A Stierlin Rd\, Mountain View\, CA\, 94043\, United States
CATEGORIES:Special Events
GEO:37.4004098;-122.0788615
X-APPLE-STRUCTURED-LOCATION;VALUE=URI;X-ADDRESS=Bridge Center 432A Stierlin Rd Mountain View CA 94043 United States;X-APPLE-RADIUS=500;X-TITLE=432A Stierlin Rd:geo:-122.0788615,37.4004098
END:VEVENT
BEGIN:VEVENT
DTSTART;TZID=America/Los_Angeles:20250615T130000
DTEND;TZID=America/Los_Angeles:20250615T180000
DTSTAMP:20260423T172458
CREATED:20250511T051905Z
LAST-MODIFIED:20250511T051905Z
UID:50074-1749992400-1750010400@paloaltobridge.org
SUMMARY:SiVY Weekend Summer Camp
DESCRIPTION:Learn the best card game ever!  Meet new friends!\nFor Kids entering 5th through 10th grade in the Fall. Beginners and those with some bridge experience. Camp is not intended for those who compete on a regular basis in ACBL games open to all ages. \nLocation:   IFES Hall next to the Bridge Center \nInformation and registration
URL:https://paloaltobridge.org/event/sivy-weekend-summer-camp-2/2025-06-15/
LOCATION:Bridge Center\, 432A Stierlin Rd\, Mountain View\, CA\, 94043\, United States
CATEGORIES:Special Events
GEO:37.4004098;-122.0788615
X-APPLE-STRUCTURED-LOCATION;VALUE=URI;X-ADDRESS=Bridge Center 432A Stierlin Rd Mountain View CA 94043 United States;X-APPLE-RADIUS=500;X-TITLE=432A Stierlin Rd:geo:-122.0788615,37.4004098
END:VEVENT
BEGIN:VEVENT
DTSTART;TZID=America/Los_Angeles:20250619T110000
DTEND;TZID=America/Los_Angeles:20250619T143000
DTSTAMP:20260423T172458
CREATED:20250109T065246Z
LAST-MODIFIED:20250616T232529Z
UID:49463-1750330800-1750343400@paloaltobridge.org
SUMMARY:Pro-Am Game
DESCRIPTION:This event was previously listed as starting at noon.  The correct time is 11am Pre-game\, 11:30am Game.\nWant to improve your bridge game by playing in a relaxed atmosphere and partnering with an experienced player? \nWhat is the Pro-Am game? It is a F2F bridge game where a newer player partners with an experienced player in a pairs game\, competing against other pairs of one newer and one experienced player. After the game\, the experienced player will review bidding\, declarer play\, defense\, and opening leads of select hands. \nInformation and Registration
URL:https://paloaltobridge.org/event/new-x-game-2025-06-19/
LOCATION:Bridge Center\, 432A Stierlin Rd\, Mountain View\, CA\, 94043\, United States
CATEGORIES:Special Events
GEO:37.4004098;-122.0788615
X-APPLE-STRUCTURED-LOCATION;VALUE=URI;X-ADDRESS=Bridge Center 432A Stierlin Rd Mountain View CA 94043 United States;X-APPLE-RADIUS=500;X-TITLE=432A Stierlin Rd:geo:-122.0788615,37.4004098
END:VEVENT
BEGIN:VEVENT
DTSTART;TZID=America/Los_Angeles:20250625T100000
DTEND;TZID=America/Los_Angeles:20250625T140000
DTSTAMP:20260423T172458
CREATED:20241203T181438Z
LAST-MODIFIED:20260103T014916Z
UID:50057-1750845600-1750860000@paloaltobridge.org
SUMMARY:Find a Partner Game
DESCRIPTION:One of the challenges of bridge is finding compatible bridge partners.  To help we are holding several Find-A-Partner games. \nGame time 10:30am\nLecture prior to games at 10am \nInformation and Signup
URL:https://paloaltobridge.org/event/find-a-partner-game/2025-06-25/
LOCATION:Bridge Center\, 432A Stierlin Rd\, Mountain View\, CA\, 94043\, United States
CATEGORIES:Special Events
GEO:37.4004098;-122.0788615
X-APPLE-STRUCTURED-LOCATION;VALUE=URI;X-ADDRESS=Bridge Center 432A Stierlin Rd Mountain View CA 94043 United States;X-APPLE-RADIUS=500;X-TITLE=432A Stierlin Rd:geo:-122.0788615,37.4004098
END:VEVENT
END:VCALENDAR