BEGIN:VCALENDAR
VERSION:2.0
PRODID:-//Palo Alto Bridge - ECPv6.15.20//NONSGML v1.0//EN
CALSCALE:GREGORIAN
METHOD:PUBLISH
X-WR-CALNAME:Palo Alto Bridge
X-ORIGINAL-URL:https://paloaltobridge.org
X-WR-CALDESC:Events for Palo Alto Bridge
REFRESH-INTERVAL;VALUE=DURATION:PT1H
X-Robots-Tag:noindex
X-PUBLISHED-TTL:PT1H
BEGIN:VTIMEZONE
TZID:America/Los_Angeles
BEGIN:DAYLIGHT
TZOFFSETFROM:-0800
TZOFFSETTO:-0700
TZNAME:PDT
DTSTART:20230312T100000
END:DAYLIGHT
BEGIN:STANDARD
TZOFFSETFROM:-0700
TZOFFSETTO:-0800
TZNAME:PST
DTSTART:20231105T090000
END:STANDARD
BEGIN:DAYLIGHT
TZOFFSETFROM:-0800
TZOFFSETTO:-0700
TZNAME:PDT
DTSTART:20240310T100000
END:DAYLIGHT
BEGIN:STANDARD
TZOFFSETFROM:-0700
TZOFFSETTO:-0800
TZNAME:PST
DTSTART:20241103T090000
END:STANDARD
BEGIN:DAYLIGHT
TZOFFSETFROM:-0800
TZOFFSETTO:-0700
TZNAME:PDT
DTSTART:20250309T100000
END:DAYLIGHT
BEGIN:STANDARD
TZOFFSETFROM:-0700
TZOFFSETTO:-0800
TZNAME:PST
DTSTART:20251102T090000
END:STANDARD
END:VTIMEZONE
BEGIN:VEVENT
DTSTART;TZID=America/Los_Angeles:20241008T160000
DTEND;TZID=America/Los_Angeles:20241008T173000
DTSTAMP:20260424T071343
CREATED:20240117T013011Z
LAST-MODIFIED:20250905T011253Z
UID:45529-1728403200-1728408600@paloaltobridge.org
SUMMARY:Board of Directors Meeting
DESCRIPTION:Usually held on the second Tuesday of every month at 4pm.  Meetings are via Zoom.  Please see our Event Calendar for possible changes. \nMembers are welcome to attend.  Please contact the board if you would like a subject added to the Agenda. \nPlease see our Governance page for information about the board\, the agenda for this meeting and the agenda and minutes of past meetings.
URL:https://paloaltobridge.org/event/board-of-directors-2024/2024-10-08/
LOCATION:Bridge Center\, 432A Stierlin Rd\, Mountain View\, CA\, 94043\, United States
CATEGORIES:Special Events
GEO:37.4004098;-122.0788615
X-APPLE-STRUCTURED-LOCATION;VALUE=URI;X-ADDRESS=Bridge Center 432A Stierlin Rd Mountain View CA 94043 United States;X-APPLE-RADIUS=500;X-TITLE=432A Stierlin Rd:geo:-122.0788615,37.4004098
END:VEVENT
BEGIN:VEVENT
DTSTART;TZID=America/Los_Angeles:20241013T110000
DTEND;TZID=America/Los_Angeles:20241013T150000
DTSTAMP:20260424T071343
CREATED:20240908T220458Z
LAST-MODIFIED:20240908T220458Z
UID:47556-1728817200-1728831600@paloaltobridge.org
SUMMARY:SiVY Halloween Pizza Party Tournament
DESCRIPTION:View SiVY Calendar for more information.
URL:https://paloaltobridge.org/event/sivy-halloween-pizza-party-tournament/
LOCATION:Bridge Center\, 432A Stierlin Rd\, Mountain View\, CA\, 94043\, United States
CATEGORIES:Special Events
GEO:37.4004098;-122.0788615
X-APPLE-STRUCTURED-LOCATION;VALUE=URI;X-ADDRESS=Bridge Center 432A Stierlin Rd Mountain View CA 94043 United States;X-APPLE-RADIUS=500;X-TITLE=432A Stierlin Rd:geo:-122.0788615,37.4004098
END:VEVENT
BEGIN:VEVENT
DTSTART;TZID=America/Los_Angeles:20241014T113000
DTEND;TZID=America/Los_Angeles:20241014T143000
DTSTAMP:20260424T071343
CREATED:20240113T221544Z
LAST-MODIFIED:20250502T052026Z
UID:46326-1728905400-1728916200@paloaltobridge.org
SUMMARY:Swiss Team Club Game
DESCRIPTION:Swiss Team games are great fun to play and grant generous master point awards at sectional\, regional\, and national tournaments!  Now you have the chance to play at the club level in our monthly games hosted by John Schwartz and Will Watson. \nThese games are a wonderful opportunity to polish one’s Swiss Team skills throughout the year and especially prior to sectional\, regional\, and national tournaments. If you are less experienced or have never played in a Swiss Team game and would like to play Swiss Teams at future tournaments\, these Swiss Team club games are a perfect opportunity to gain experience in a more relaxed club game environment. For those less experienced Swiss Team players\, here are slides from a Swiss Team strategy lecture from a Swiss Team strategy lecture given in August 2023.. \nThese games will have an Open and a Limited section.  They will award 100% black points. \nNo lunch is provided.   Snacks aree available before and during the game. \nFor planning purposes\, we ask that players sign-up to play at: https://www.signup123.com/unit503bridge/Scripts/slogin.pl  \n\nThe game reservation system is designed for pairs games and not Swiss Teams. So\, to sign up your team\, sign up you and your partner in both the N/S and E/W boxes.\nHaving trouble signing up? Email Will Watson watsonbridge@gmail.com\n\nDon’t have a team of four? The Unit will help you find a team. Email Will Watson at watsonbridge@gmail.com. \nHave questions? Please contact Will or Marc Cervellino at marc.cervellino@hotmail.com.
URL:https://paloaltobridge.org/event/swiss-team-club-game-2024-05-13/2024-10-14/
LOCATION:Bridge Center\, 432A Stierlin Rd\, Mountain View\, CA\, 94043\, United States
CATEGORIES:Club Games,Special Events
GEO:37.4004098;-122.0788615
X-APPLE-STRUCTURED-LOCATION;VALUE=URI;X-ADDRESS=Bridge Center 432A Stierlin Rd Mountain View CA 94043 United States;X-APPLE-RADIUS=500;X-TITLE=432A Stierlin Rd:geo:-122.0788615,37.4004098
END:VEVENT
BEGIN:VEVENT
DTSTART;VALUE=DATE:20241024
DTEND;VALUE=DATE:20241028
DTSTAMP:20260424T071343
CREATED:20240117T012525Z
LAST-MODIFIED:20240516T232507Z
UID:44894-1729728000-1730073599@paloaltobridge.org
SUMMARY:Palo Alto Open + Non-Life Master Sectional
DESCRIPTION:More information to come.
URL:https://paloaltobridge.org/event/palo-alto-open-plus-non-life-master-sectional-october-2024/
LOCATION:Bridge Center\, 432A Stierlin Rd\, Mountain View\, CA\, 94043\, United States
CATEGORIES:Special Events
GEO:37.4004098;-122.0788615
X-APPLE-STRUCTURED-LOCATION;VALUE=URI;X-ADDRESS=Bridge Center 432A Stierlin Rd Mountain View CA 94043 United States;X-APPLE-RADIUS=500;X-TITLE=432A Stierlin Rd:geo:-122.0788615,37.4004098
END:VEVENT
BEGIN:VEVENT
DTSTART;TZID=America/Los_Angeles:20241031T103000
DTEND;TZID=America/Los_Angeles:20241031T143000
DTSTAMP:20260424T071343
CREATED:20240814T044938Z
LAST-MODIFIED:20241001T154656Z
UID:47485-1730370600-1730385000@paloaltobridge.org
SUMMARY:Halloween Game
DESCRIPTION:Wear a Halloween costume – prizes awarded for best costumes!  \nOur annual Halloween bridge game spooktacular will be held on Thursday\, October 31\, 2024\, at our Bridge Center.  \nLast year’s Halloween game had a large turnout and was scary fun\, with most players wearing a costume (see photo). So\, dust off that costume\, mark your calendar\, call your partner\, and plan to play in the Halloween game. \n·       10:30 AM Phil Abrahamson (American Bridge Teacher’s Association 2024 Teacher of the Year) Bridge Lecture.  Bidding is a Conversation (How to Improve Your Bidding) \n·       11:30 AM Open game at $12/person (24 hands) \n·       11:30 AM 0-499er game at $4.99/player (18 hands) \nPlay will start at 11:30 AM and finish at about 2:30 PM. We’ll have Halloween yummy treats as well as our usual coffee\, tea and snacks like breads\, cheeses\, nuts\, crackers\, fruits\, etc\, but not a full lunch or lunch break. \nFor planning purposes\, we strongly encourage preregistration at www.signup123.com/unit503bridge  \nAlso\, included at that website is a feature allowing one to use the reservation system to find a partner. (The instructions for doing that are on each reservation page. Please add your email address or phone number.)
URL:https://paloaltobridge.org/event/halloween-party-2/
LOCATION:Bridge Center\, 432A Stierlin Rd\, Mountain View\, CA\, 94043\, United States
CATEGORIES:Special Events
GEO:37.4004098;-122.0788615
X-APPLE-STRUCTURED-LOCATION;VALUE=URI;X-ADDRESS=Bridge Center 432A Stierlin Rd Mountain View CA 94043 United States;X-APPLE-RADIUS=500;X-TITLE=432A Stierlin Rd:geo:-122.0788615,37.4004098
END:VEVENT
END:VCALENDAR