BEGIN:VCALENDAR
VERSION:2.0
PRODID:-//Palo Alto Bridge - ECPv6.15.20//NONSGML v1.0//EN
CALSCALE:GREGORIAN
METHOD:PUBLISH
X-WR-CALNAME:Palo Alto Bridge
X-ORIGINAL-URL:https://paloaltobridge.org
X-WR-CALDESC:Events for Palo Alto Bridge
REFRESH-INTERVAL;VALUE=DURATION:PT1H
X-Robots-Tag:noindex
X-PUBLISHED-TTL:PT1H
BEGIN:VTIMEZONE
TZID:America/Los_Angeles
BEGIN:DAYLIGHT
TZOFFSETFROM:-0800
TZOFFSETTO:-0700
TZNAME:PDT
DTSTART:20220313T100000
END:DAYLIGHT
BEGIN:STANDARD
TZOFFSETFROM:-0700
TZOFFSETTO:-0800
TZNAME:PST
DTSTART:20221106T090000
END:STANDARD
BEGIN:DAYLIGHT
TZOFFSETFROM:-0800
TZOFFSETTO:-0700
TZNAME:PDT
DTSTART:20230312T100000
END:DAYLIGHT
BEGIN:STANDARD
TZOFFSETFROM:-0700
TZOFFSETTO:-0800
TZNAME:PST
DTSTART:20231105T090000
END:STANDARD
BEGIN:DAYLIGHT
TZOFFSETFROM:-0800
TZOFFSETTO:-0700
TZNAME:PDT
DTSTART:20240310T100000
END:DAYLIGHT
BEGIN:STANDARD
TZOFFSETFROM:-0700
TZOFFSETTO:-0800
TZNAME:PST
DTSTART:20241103T090000
END:STANDARD
END:VTIMEZONE
BEGIN:VEVENT
DTSTART;VALUE=DATE:20230705
DTEND;VALUE=DATE:20230710
DTSTAMP:20260425T100019
CREATED:20221207T164454Z
LAST-MODIFIED:20230211T225903Z
UID:42852-1688515200-1688947199@paloaltobridge.org
SUMMARY:Firecracker Open/NLM Super Sectional
DESCRIPTION:Make your plans to attend this year’s Firecracker which will be held again at our Bridge Center and the adjacent IFES Hall. \nDetailed event description will be provided prior to the event.
URL:https://paloaltobridge.org/event/firecracker-sectional-2023/
LOCATION:Bridge Center\, 432A Stierlin Rd\, Mountain View\, CA\, 94043\, United States
CATEGORIES:Special Events
GEO:37.4004098;-122.0788615
X-APPLE-STRUCTURED-LOCATION;VALUE=URI;X-ADDRESS=Bridge Center 432A Stierlin Rd Mountain View CA 94043 United States;X-APPLE-RADIUS=500;X-TITLE=432A Stierlin Rd:geo:-122.0788615,37.4004098
END:VEVENT
BEGIN:VEVENT
DTSTART;TZID=America/Los_Angeles:20230710T103000
DTEND;TZID=America/Los_Angeles:20230710T140000
DTSTAMP:20260425T100019
CREATED:20230614T222258Z
LAST-MODIFIED:20230615T031246Z
UID:43953-1688985000-1688997600@paloaltobridge.org
SUMMARY:Happy 90th Birthday Ed Barlow!
DESCRIPTION:Please help make Ed Barlow’s 90th Birthday special.  Join us for a celebration at the PABC 10:30am game.\n\nEd\, who is a Grand Life Master\, has 17\,000 masterpoints and 2nd place finishes in the Grand National Teams\, Mitchell Board-a-Match\, and won the Truscott Senior Swiss Teams!\n\nLet’s have a big turn out to the game to show Ed how much we appreciate his huge support of the Unit through the years\, his generosity in giving advice\, and his sense of humor. Whether you can make it or not\, sign this ecard\, add a photo\, share favorite memory.
URL:https://paloaltobridge.org/event/happy-90th-birthday-ed-barlow/
LOCATION:Bridge Center\, 432A Stierlin Rd\, Mountain View\, CA\, 94043\, United States
CATEGORIES:Special Events
ATTACH;FMTTYPE=image/jpeg:https://paloaltobridge.org/wp-content/uploads/2023/06/image.jpeg
GEO:37.4004098;-122.0788615
X-APPLE-STRUCTURED-LOCATION;VALUE=URI;X-ADDRESS=Bridge Center 432A Stierlin Rd Mountain View CA 94043 United States;X-APPLE-RADIUS=500;X-TITLE=432A Stierlin Rd:geo:-122.0788615,37.4004098
END:VEVENT
END:VCALENDAR