BEGIN:VCALENDAR
VERSION:2.0
PRODID:-//Palo Alto Bridge - ECPv6.15.20//NONSGML v1.0//EN
CALSCALE:GREGORIAN
METHOD:PUBLISH
X-WR-CALNAME:Palo Alto Bridge
X-ORIGINAL-URL:https://paloaltobridge.org
X-WR-CALDESC:Events for Palo Alto Bridge
REFRESH-INTERVAL;VALUE=DURATION:PT1H
X-Robots-Tag:noindex
X-PUBLISHED-TTL:PT1H
BEGIN:VTIMEZONE
TZID:America/Los_Angeles
BEGIN:DAYLIGHT
TZOFFSETFROM:-0800
TZOFFSETTO:-0700
TZNAME:PDT
DTSTART:20220313T100000
END:DAYLIGHT
BEGIN:STANDARD
TZOFFSETFROM:-0700
TZOFFSETTO:-0800
TZNAME:PST
DTSTART:20221106T090000
END:STANDARD
BEGIN:DAYLIGHT
TZOFFSETFROM:-0800
TZOFFSETTO:-0700
TZNAME:PDT
DTSTART:20230312T100000
END:DAYLIGHT
BEGIN:STANDARD
TZOFFSETFROM:-0700
TZOFFSETTO:-0800
TZNAME:PST
DTSTART:20231105T090000
END:STANDARD
BEGIN:DAYLIGHT
TZOFFSETFROM:-0800
TZOFFSETTO:-0700
TZNAME:PDT
DTSTART:20240310T100000
END:DAYLIGHT
BEGIN:STANDARD
TZOFFSETFROM:-0700
TZOFFSETTO:-0800
TZNAME:PST
DTSTART:20241103T090000
END:STANDARD
END:VTIMEZONE
BEGIN:VEVENT
DTSTART;TZID=America/Los_Angeles:20230317T103000
DTEND;TZID=America/Los_Angeles:20230317T140000
DTSTAMP:20260425T173540
CREATED:20230218T223047Z
LAST-MODIFIED:20230301T035443Z
UID:43158-1679049000-1679061600@paloaltobridge.org
SUMMARY:Non-Life Master Face-to-Face Sectional
DESCRIPTION:The Palo Alto Unit is pleased to announce a one-day\, one session Non-Life Master Sectional tournament to be held at our Bridge Center. \n \nThe tournament is a stratified\, match point event and will award 80% silver and 20% black master points.  \nJoin us on St. Patrick’s Day for a fun time of bridge and win silver master points. And remember to wear green! \nFor planning purposes\, we ask that players sign-up. \nThe tournament chairperson is Marc Cervellino\, who may be contacted at marc.cervellino@hotmail.com.
URL:https://paloaltobridge.org/event/non-life-master-face-to-face-sectional/
LOCATION:Bridge Center\, 432A Stierlin Rd\, Mountain View\, CA\, 94043\, United States
CATEGORIES:Special Events
GEO:37.4004098;-122.0788615
X-APPLE-STRUCTURED-LOCATION;VALUE=URI;X-ADDRESS=Bridge Center 432A Stierlin Rd Mountain View CA 94043 United States;X-APPLE-RADIUS=500;X-TITLE=432A Stierlin Rd:geo:-122.0788615,37.4004098
END:VEVENT
BEGIN:VEVENT
DTSTART;VALUE=DATE:20230331
DTEND;VALUE=DATE:20230403
DTSTAMP:20260425T173540
CREATED:20221207T163808Z
LAST-MODIFIED:20230329T000331Z
UID:42843-1680220800-1680479999@paloaltobridge.org
SUMMARY:Unit 503 Super Silver Open/Non-Life Master Sectional
DESCRIPTION:We will be holding our Super Silver Open/Non-Life Sectional Friday\, March 31 – April 2\, 2023 at our Bridge Center. \n100% Silver Points awarded for all games.\nPairs games for players at all levels\, including 0-20 newcomer games!\nBracketed Swiss team games.\nAnd more.\nInformation and Signup \nSpace is limited and signup is recommended to guarantee a space so sign up early! \n 
URL:https://paloaltobridge.org/event/unit-503-sectional-march-2023/
LOCATION:Bridge Center\, 432A Stierlin Rd\, Mountain View\, CA\, 94043\, United States
CATEGORIES:Special Events
GEO:37.4004098;-122.0788615
X-APPLE-STRUCTURED-LOCATION;VALUE=URI;X-ADDRESS=Bridge Center 432A Stierlin Rd Mountain View CA 94043 United States;X-APPLE-RADIUS=500;X-TITLE=432A Stierlin Rd:geo:-122.0788615,37.4004098
END:VEVENT
END:VCALENDAR