BEGIN:VCALENDAR
VERSION:2.0
PRODID:-//Palo Alto Bridge - ECPv6.15.20//NONSGML v1.0//EN
CALSCALE:GREGORIAN
METHOD:PUBLISH
X-WR-CALNAME:Palo Alto Bridge
X-ORIGINAL-URL:https://paloaltobridge.org
X-WR-CALDESC:Events for Palo Alto Bridge
REFRESH-INTERVAL;VALUE=DURATION:PT1H
X-Robots-Tag:noindex
X-PUBLISHED-TTL:PT1H
BEGIN:VTIMEZONE
TZID:America/Los_Angeles
BEGIN:DAYLIGHT
TZOFFSETFROM:-0800
TZOFFSETTO:-0700
TZNAME:PDT
DTSTART:20170312T100000
END:DAYLIGHT
BEGIN:STANDARD
TZOFFSETFROM:-0700
TZOFFSETTO:-0800
TZNAME:PST
DTSTART:20171105T090000
END:STANDARD
BEGIN:DAYLIGHT
TZOFFSETFROM:-0800
TZOFFSETTO:-0700
TZNAME:PDT
DTSTART:20180311T100000
END:DAYLIGHT
BEGIN:STANDARD
TZOFFSETFROM:-0700
TZOFFSETTO:-0800
TZNAME:PST
DTSTART:20181104T090000
END:STANDARD
BEGIN:DAYLIGHT
TZOFFSETFROM:-0800
TZOFFSETTO:-0700
TZNAME:PDT
DTSTART:20190310T100000
END:DAYLIGHT
BEGIN:STANDARD
TZOFFSETFROM:-0700
TZOFFSETTO:-0800
TZNAME:PST
DTSTART:20191103T090000
END:STANDARD
BEGIN:DAYLIGHT
TZOFFSETFROM:-0800
TZOFFSETTO:-0700
TZNAME:PDT
DTSTART:20200308T100000
END:DAYLIGHT
BEGIN:STANDARD
TZOFFSETFROM:-0700
TZOFFSETTO:-0800
TZNAME:PST
DTSTART:20201101T090000
END:STANDARD
BEGIN:DAYLIGHT
TZOFFSETFROM:-0800
TZOFFSETTO:-0700
TZNAME:PDT
DTSTART:20210314T100000
END:DAYLIGHT
BEGIN:STANDARD
TZOFFSETFROM:-0700
TZOFFSETTO:-0800
TZNAME:PST
DTSTART:20211107T090000
END:STANDARD
BEGIN:DAYLIGHT
TZOFFSETFROM:-0800
TZOFFSETTO:-0700
TZNAME:PDT
DTSTART:20220313T100000
END:DAYLIGHT
BEGIN:STANDARD
TZOFFSETFROM:-0700
TZOFFSETTO:-0800
TZNAME:PST
DTSTART:20221106T090000
END:STANDARD
BEGIN:DAYLIGHT
TZOFFSETFROM:-0800
TZOFFSETTO:-0700
TZNAME:PDT
DTSTART:20230312T100000
END:DAYLIGHT
BEGIN:STANDARD
TZOFFSETFROM:-0700
TZOFFSETTO:-0800
TZNAME:PST
DTSTART:20231105T090000
END:STANDARD
BEGIN:DAYLIGHT
TZOFFSETFROM:-0800
TZOFFSETTO:-0700
TZNAME:PDT
DTSTART:20240310T100000
END:DAYLIGHT
BEGIN:STANDARD
TZOFFSETFROM:-0700
TZOFFSETTO:-0800
TZNAME:PST
DTSTART:20241103T090000
END:STANDARD
BEGIN:DAYLIGHT
TZOFFSETFROM:-0800
TZOFFSETTO:-0700
TZNAME:PDT
DTSTART:20250309T100000
END:DAYLIGHT
BEGIN:STANDARD
TZOFFSETFROM:-0700
TZOFFSETTO:-0800
TZNAME:PST
DTSTART:20251102T090000
END:STANDARD
BEGIN:DAYLIGHT
TZOFFSETFROM:-0800
TZOFFSETTO:-0700
TZNAME:PDT
DTSTART:20260308T100000
END:DAYLIGHT
BEGIN:STANDARD
TZOFFSETFROM:-0700
TZOFFSETTO:-0800
TZNAME:PST
DTSTART:20261101T090000
END:STANDARD
END:VTIMEZONE
BEGIN:VEVENT
DTSTART;TZID=America/Los_Angeles:20251111T170000
DTEND;TZID=America/Los_Angeles:20251111T190000
DTSTAMP:20260423T031410
CREATED:20251007T034253Z
LAST-MODIFIED:20251007T034831Z
UID:67540-1762880400-1762887600@paloaltobridge.org
SUMMARY:Bridge Center Closed for Liberty Forum
DESCRIPTION:The Liberty Forum will be using our Bridge Center.  Requires all onsite parking.
URL:https://paloaltobridge.org/event/the-liberty-forum-of-silicon-valley-copy/
LOCATION:Bridge Center\, 432A Stierlin Rd\, Mountain View\, CA\, 94043\, United States
CATEGORIES:IFES Conflicts,Special Events
GEO:37.4004098;-122.0788615
X-APPLE-STRUCTURED-LOCATION;VALUE=URI;X-ADDRESS=Bridge Center 432A Stierlin Rd Mountain View CA 94043 United States;X-APPLE-RADIUS=500;X-TITLE=432A Stierlin Rd:geo:-122.0788615,37.4004098
END:VEVENT
BEGIN:VEVENT
DTSTART;VALUE=DATE:20250531
DTEND;VALUE=DATE:20250602
DTSTAMP:20260423T031410
CREATED:20240719T041817Z
LAST-MODIFIED:20250918T024624Z
UID:34117-1748649600-1748822399@paloaltobridge.org
SUMMARY:Bridge Center Closed for IFES Event
DESCRIPTION:
URL:https://paloaltobridge.org/event/bridge-center-closed-for-ifes-event-4/
LOCATION:CA
CATEGORIES:IFES Conflicts
END:VEVENT
BEGIN:VEVENT
DTSTART;TZID=America/Los_Angeles:20250322T150000
DTEND;TZID=America/Los_Angeles:20250322T235900
DTSTAMP:20260423T031410
CREATED:20240526T184232Z
LAST-MODIFIED:20240526T184232Z
UID:47034-1742655600-1742687940@paloaltobridge.org
SUMMARY:IFES Crab Cioppino Dinner
DESCRIPTION:Event uses all onsite parking.
URL:https://paloaltobridge.org/event/ifes-crab-cioppino-dinner/2025-03-22/
LOCATION:Bridge Center\, 432A Stierlin Rd\, Mountain View\, CA\, 94043\, United States
CATEGORIES:IFES Conflicts
GEO:37.4004098;-122.0788615
X-APPLE-STRUCTURED-LOCATION;VALUE=URI;X-ADDRESS=Bridge Center 432A Stierlin Rd Mountain View CA 94043 United States;X-APPLE-RADIUS=500;X-TITLE=432A Stierlin Rd:geo:-122.0788615,37.4004098
END:VEVENT
BEGIN:VEVENT
DTSTART;TZID=America/Los_Angeles:20250222T150000
DTEND;TZID=America/Los_Angeles:20250222T235900
DTSTAMP:20260423T031410
CREATED:20240526T184232Z
LAST-MODIFIED:20240717T051045Z
UID:46205-1740236400-1740268740@paloaltobridge.org
SUMMARY:IFES Crab Cioppino Dinner
DESCRIPTION:Event uses all onsite parking.
URL:https://paloaltobridge.org/event/ifes-crab-cioppino-dinner/2025-02-22/
LOCATION:Bridge Center\, 432A Stierlin Rd\, Mountain View\, CA\, 94043\, United States
CATEGORIES:IFES Conflicts
GEO:37.4004098;-122.0788615
X-APPLE-STRUCTURED-LOCATION;VALUE=URI;X-ADDRESS=Bridge Center 432A Stierlin Rd Mountain View CA 94043 United States;X-APPLE-RADIUS=500;X-TITLE=432A Stierlin Rd:geo:-122.0788615,37.4004098
END:VEVENT
BEGIN:VEVENT
DTSTART;TZID=America/Los_Angeles:20250125T150000
DTEND;TZID=America/Los_Angeles:20250125T235900
DTSTAMP:20260423T031410
CREATED:20240526T184232Z
LAST-MODIFIED:20240717T051044Z
UID:46204-1737817200-1737849540@paloaltobridge.org
SUMMARY:IFES Crab Cioppino Dinner
DESCRIPTION:Event uses all onsite parking.
URL:https://paloaltobridge.org/event/ifes-crab-cioppino-dinner/2025-01-25/
LOCATION:Bridge Center\, 432A Stierlin Rd\, Mountain View\, CA\, 94043\, United States
CATEGORIES:IFES Conflicts
GEO:37.4004098;-122.0788615
X-APPLE-STRUCTURED-LOCATION;VALUE=URI;X-ADDRESS=Bridge Center 432A Stierlin Rd Mountain View CA 94043 United States;X-APPLE-RADIUS=500;X-TITLE=432A Stierlin Rd:geo:-122.0788615,37.4004098
END:VEVENT
BEGIN:VEVENT
DTSTART;VALUE=DATE:20240511
DTEND;VALUE=DATE:20240513
DTSTAMP:20260423T031410
CREATED:20240327T125005Z
LAST-MODIFIED:20240327T125357Z
UID:45517-1715385600-1715558399@paloaltobridge.org
SUMMARY:Bridge Center Closed for IFES Event
DESCRIPTION:The Bridge Center will be closed during the IFES Festa. \nSTAC games may be held at other clubs.  Check other clubs for information.
URL:https://paloaltobridge.org/event/bridge-center-closed-for-ifes-event-3/
LOCATION:Bridge Center\, 432A Stierlin Rd\, Mountain View\, CA\, 94043\, United States
CATEGORIES:IFES Conflicts
GEO:37.4004098;-122.0788615
X-APPLE-STRUCTURED-LOCATION;VALUE=URI;X-ADDRESS=Bridge Center 432A Stierlin Rd Mountain View CA 94043 United States;X-APPLE-RADIUS=500;X-TITLE=432A Stierlin Rd:geo:-122.0788615,37.4004098
END:VEVENT
BEGIN:VEVENT
DTSTART;TZID=America/Los_Angeles:20180513T060000
DTEND;TZID=America/Los_Angeles:20180513T235900
DTSTAMP:20260423T031410
CREATED:20191116T223727Z
LAST-MODIFIED:20191116T224355Z
UID:34099-1526191200-1526255940@paloaltobridge.org
SUMMARY:IFES Holy Ghost Festa - Sunday
DESCRIPTION:Event requires all on-site parking all day.
URL:https://paloaltobridge.org/event/ifes-holy-ghost-festa-2/2018-05-13/
LOCATION:Bridge Center\, 432A Stierlin Rd\, Mountain View\, CA\, 94043\, United States
CATEGORIES:IFES Conflicts
GEO:37.4004098;-122.0788615
X-APPLE-STRUCTURED-LOCATION;VALUE=URI;X-ADDRESS=Bridge Center 432A Stierlin Rd Mountain View CA 94043 United States;X-APPLE-RADIUS=500;X-TITLE=432A Stierlin Rd:geo:-122.0788615,37.4004098
END:VEVENT
BEGIN:VEVENT
DTSTART;TZID=America/Los_Angeles:20180512T150000
DTEND;TZID=America/Los_Angeles:20180512T235900
DTSTAMP:20260423T031410
CREATED:20180617T232733Z
LAST-MODIFIED:20191116T224516Z
UID:21895-1526137200-1526169540@paloaltobridge.org
SUMMARY:IFES Holy Ghost Festa - Saturday
DESCRIPTION:Event requires all on-site parking 3 PM to midnight
URL:https://paloaltobridge.org/event/ifes-holy-ghost-festa/2018-05-12/
LOCATION:Bridge Center\, 432A Stierlin Rd\, Mountain View\, CA\, 94043\, United States
CATEGORIES:IFES Conflicts
GEO:37.4004098;-122.0788615
X-APPLE-STRUCTURED-LOCATION;VALUE=URI;X-ADDRESS=Bridge Center 432A Stierlin Rd Mountain View CA 94043 United States;X-APPLE-RADIUS=500;X-TITLE=432A Stierlin Rd:geo:-122.0788615,37.4004098
END:VEVENT
BEGIN:VEVENT
DTSTART;TZID=America/Los_Angeles:20180224T150000
DTEND;TZID=America/Los_Angeles:20180224T235900
DTSTAMP:20260423T031410
CREATED:20180617T232352Z
LAST-MODIFIED:20191116T225431Z
UID:21892-1519484400-1519516740@paloaltobridge.org
SUMMARY:IFES Crab Cioppino
DESCRIPTION:Event uses all onsite parking.
URL:https://paloaltobridge.org/event/ifes-crab-cioppino/2018-02-24/
LOCATION:Bridge Center\, 432A Stierlin Rd\, Mountain View\, CA\, 94043\, United States
CATEGORIES:IFES Conflicts
GEO:37.4004098;-122.0788615
X-APPLE-STRUCTURED-LOCATION;VALUE=URI;X-ADDRESS=Bridge Center 432A Stierlin Rd Mountain View CA 94043 United States;X-APPLE-RADIUS=500;X-TITLE=432A Stierlin Rd:geo:-122.0788615,37.4004098
END:VEVENT
BEGIN:VEVENT
DTSTART;TZID=America/Los_Angeles:20180102T190000
DTEND;TZID=America/Los_Angeles:20180210T220000
DTSTAMP:20260423T031410
CREATED:20180617T231315Z
LAST-MODIFIED:20251007T035237Z
UID:21873-1514919600-1518300000@paloaltobridge.org
SUMMARY:The Liberty Forum of Silicon Valley
DESCRIPTION:Requires all onsite parking.
URL:https://paloaltobridge.org/event/the-liberty-forum-of-silicon-valley/
LOCATION:Bridge Center\, 432A Stierlin Rd\, Mountain View\, CA\, 94043\, United States
CATEGORIES:IFES Conflicts
GEO:37.4004098;-122.0788615
X-APPLE-STRUCTURED-LOCATION;VALUE=URI;X-ADDRESS=Bridge Center 432A Stierlin Rd Mountain View CA 94043 United States;X-APPLE-RADIUS=500;X-TITLE=432A Stierlin Rd:geo:-122.0788615,37.4004098
END:VEVENT
END:VCALENDAR