BEGIN:VCALENDAR
VERSION:2.0
PRODID:-//Palo Alto Bridge - ECPv6.15.20//NONSGML v1.0//EN
CALSCALE:GREGORIAN
METHOD:PUBLISH
X-ORIGINAL-URL:https://paloaltobridge.org
X-WR-CALDESC:Events for Palo Alto Bridge
REFRESH-INTERVAL;VALUE=DURATION:PT1H
X-Robots-Tag:noindex
X-PUBLISHED-TTL:PT1H
BEGIN:VTIMEZONE
TZID:America/Los_Angeles
BEGIN:DAYLIGHT
TZOFFSETFROM:-0800
TZOFFSETTO:-0700
TZNAME:PDT
DTSTART:20170312T100000
END:DAYLIGHT
BEGIN:STANDARD
TZOFFSETFROM:-0700
TZOFFSETTO:-0800
TZNAME:PST
DTSTART:20171105T090000
END:STANDARD
BEGIN:DAYLIGHT
TZOFFSETFROM:-0800
TZOFFSETTO:-0700
TZNAME:PDT
DTSTART:20180311T100000
END:DAYLIGHT
BEGIN:STANDARD
TZOFFSETFROM:-0700
TZOFFSETTO:-0800
TZNAME:PST
DTSTART:20181104T090000
END:STANDARD
BEGIN:DAYLIGHT
TZOFFSETFROM:-0800
TZOFFSETTO:-0700
TZNAME:PDT
DTSTART:20190310T100000
END:DAYLIGHT
BEGIN:STANDARD
TZOFFSETFROM:-0700
TZOFFSETTO:-0800
TZNAME:PST
DTSTART:20191103T090000
END:STANDARD
END:VTIMEZONE
BEGIN:VEVENT
DTSTART;TZID=America/Los_Angeles:20180112T183000
DTEND;TZID=America/Los_Angeles:20180112T220000
DTSTAMP:20260423T134057
CREATED:20240711T065631Z
LAST-MODIFIED:20240711T065631Z
UID:46920-1515781800-1515794400@paloaltobridge.org
SUMMARY:LAGCC
DESCRIPTION:Invitational/Stratified Game \nRestricted to members and friends of the Los Altos Golf and Country Club. \nDirector: \n\n\n\n\n\nMarolyn Imaoka\n(408) 828-9222\nSend Email
URL:https://paloaltobridge.org/event/lagcc/
LOCATION:Los Altos Golf and Country Club\, 1560 Country Club Drive\, Los Altos\, CA\, 94024\, United States
CATEGORIES:Club Games
GEO:37.3510627;-122.0918221
X-APPLE-STRUCTURED-LOCATION;VALUE=URI;X-ADDRESS=Los Altos Golf and Country Club 1560 Country Club Drive Los Altos CA 94024 United States;X-APPLE-RADIUS=500;X-TITLE=1560 Country Club Drive:geo:-122.0918221,37.3510627
END:VEVENT
BEGIN:VEVENT
DTSTART;TZID=America/Los_Angeles:20180105T190000
DTEND;TZID=America/Los_Angeles:20180105T223000
DTSTAMP:20260423T134057
CREATED:20180605T062814Z
LAST-MODIFIED:20200611T003721Z
UID:18976-1515178800-1515191400@paloaltobridge.org
SUMMARY:Friday Night Barometer
DESCRIPTION:Open/Stratified Barometer Game. \nLight dinner provided before the game. \nDiscount for youth 25 and under. \nReservations Requested \nDirectors: \n\n\n\n\n\nWill Watson\n(408) 614-8881 \nSend Email
URL:https://paloaltobridge.org/event/friday-night-barometer/2018-01-05/
LOCATION:Bridge Center\, 432A Stierlin Rd\, Mountain View\, CA\, 94043\, United States
CATEGORIES:Club Games
GEO:37.4004098;-122.0788615
X-APPLE-STRUCTURED-LOCATION;VALUE=URI;X-ADDRESS=Bridge Center 432A Stierlin Rd Mountain View CA 94043 United States;X-APPLE-RADIUS=500;X-TITLE=432A Stierlin Rd:geo:-122.0788615,37.4004098
END:VEVENT
BEGIN:VEVENT
DTSTART;TZID=America/Los_Angeles:20180105T103000
DTEND;TZID=America/Los_Angeles:20180105T143000
DTSTAMP:20260423T134057
CREATED:20180605T060110Z
LAST-MODIFIED:20200611T004111Z
UID:18670-1515148200-1515162600@paloaltobridge.org
SUMMARY:TGIF AM Bridge Club
DESCRIPTION:Open/Stratified\, 499’er/Stratified and 199’er Stratified Sections. \nLunch provided during the game. \nDiscount for students 25 and under. \nReservations Requested \nDirectors: \n\n\n\n\n\nPaul Davis\n(650) 888-3403\nSend Email \n\n\n\n\n\n\n\nGerry MacDonald\n(703) 627-7294\nSend Email \n\n\n\n\n\n\n\nKevin O’Leary\n(650) 279-0005\nSend Email
URL:https://paloaltobridge.org/event/tgif-am-bridge-club/2018-01-05/
LOCATION:Bridge Center\, 432A Stierlin Rd\, Mountain View\, CA\, 94043\, United States
CATEGORIES:Club Games
GEO:37.4004098;-122.0788615
X-APPLE-STRUCTURED-LOCATION;VALUE=URI;X-ADDRESS=Bridge Center 432A Stierlin Rd Mountain View CA 94043 United States;X-APPLE-RADIUS=500;X-TITLE=432A Stierlin Rd:geo:-122.0788615,37.4004098
END:VEVENT
BEGIN:VEVENT
DTSTART;TZID=America/Los_Angeles:20180104T120000
DTEND;TZID=America/Los_Angeles:20180104T153000
DTSTAMP:20260423T134057
CREATED:20180605T055654Z
LAST-MODIFIED:20181121T054252Z
UID:18613-1515067200-1515079800@paloaltobridge.org
SUMMARY:Thursday Afternoon BC
DESCRIPTION:Open/Stratified game. \nLight lunch provided before the game. \nDiscount for youth 25 and under. \nReservations Requested \nDirectors: \n\n\n\n\n\nWill Watson\n(408) 614-8881 \nSend Email
URL:https://paloaltobridge.org/event/thursday-afternoon-bc/2018-01-04/
LOCATION:Bridge Center\, 432A Stierlin Rd\, Mountain View\, CA\, 94043\, United States
CATEGORIES:Club Games
GEO:37.4004098;-122.0788615
X-APPLE-STRUCTURED-LOCATION;VALUE=URI;X-ADDRESS=Bridge Center 432A Stierlin Rd Mountain View CA 94043 United States;X-APPLE-RADIUS=500;X-TITLE=432A Stierlin Rd:geo:-122.0788615,37.4004098
END:VEVENT
BEGIN:VEVENT
DTSTART;TZID=America/Los_Angeles:20180104T110000
DTEND;TZID=America/Los_Angeles:20180104T150000
DTSTAMP:20260423T134057
CREATED:20180605T054942Z
LAST-MODIFIED:20181119T200750Z
UID:18450-1515063600-1515078000@paloaltobridge.org
SUMMARY:Thursday Morning JCC
DESCRIPTION:Open/Stratified Game. \nLunch provided during the game. \nReservations Requested \nDirector: \n\n\n\n\n\nJohn Schwartz\n(650) 353-1461 \nSend Email
URL:https://paloaltobridge.org/event/thursday-morning-jcc/2018-01-04/
LOCATION:Oshman Family Jewish Community Center\, 3921 Fabian Way\, Palo Alto\, CA\, United States
CATEGORIES:Club Games
GEO:37.4232908;-122.1030055
X-APPLE-STRUCTURED-LOCATION;VALUE=URI;X-ADDRESS=Oshman Family Jewish Community Center 3921 Fabian Way Palo Alto CA United States;X-APPLE-RADIUS=500;X-TITLE=3921 Fabian Way:geo:-122.1030055,37.4232908
END:VEVENT
BEGIN:VEVENT
DTSTART;TZID=America/Los_Angeles:20180103T190000
DTEND;TZID=America/Los_Angeles:20180103T221500
DTSTAMP:20260423T134057
CREATED:20180605T004714Z
LAST-MODIFIED:20181015T121432Z
UID:18264-1515006000-1515017700@paloaltobridge.org
SUMMARY:Doubleton Club
DESCRIPTION:Open/Stratified and 499’er/Stratified Sections. \nLight dinner provided before the game. \nDiscount for youth 25 and under. \nReservations Requested \nDirectors: \n\n\n\n\n\nMarolyn Imaoka\n(408) 828-9222\nSend Email \n\n\n\n\n\n\n\nLori Spaeth\n(650) 906-3987\nSend Email \n\n\n\n\n\n\n\nDave Wheeler\n(650) 799-1634\nSend Email
URL:https://paloaltobridge.org/event/doubleton-club/2018-01-03/
LOCATION:Bridge Center\, 432A Stierlin Rd\, Mountain View\, CA\, 94043\, United States
CATEGORIES:Club Games
GEO:37.4004098;-122.0788615
X-APPLE-STRUCTURED-LOCATION;VALUE=URI;X-ADDRESS=Bridge Center 432A Stierlin Rd Mountain View CA 94043 United States;X-APPLE-RADIUS=500;X-TITLE=432A Stierlin Rd:geo:-122.0788615,37.4004098
END:VEVENT
BEGIN:VEVENT
DTSTART;TZID=America/Los_Angeles:20180103T121500
DTEND;TZID=America/Los_Angeles:20180103T160000
DTSTAMP:20260423T134057
CREATED:20180605T001512Z
LAST-MODIFIED:20191223T075307Z
UID:17969-1514981700-1514995200@paloaltobridge.org
SUMMARY:Wednesday Afternoon 199ers
DESCRIPTION:199’er Game \nShort lesson before the game at noon. \nSnacks provided. \nDirector: \n\n\n\n\n\nGabriella Bowling\n(650) 619-0555\nSend Email
URL:https://paloaltobridge.org/event/wednesday-afternoon-199ers/2018-01-03/
LOCATION:Unity Church\, 3391 Middlefield Road\, Palo Alto\, CA\, 94306\, United States
CATEGORIES:Club Games
GEO:37.4268984;-122.1181093
X-APPLE-STRUCTURED-LOCATION;VALUE=URI;X-ADDRESS=Unity Church 3391 Middlefield Road Palo Alto CA 94306 United States;X-APPLE-RADIUS=500;X-TITLE=3391 Middlefield Road:geo:-122.1181093,37.4268984
END:VEVENT
BEGIN:VEVENT
DTSTART;TZID=America/Los_Angeles:20180103T110000
DTEND;TZID=America/Los_Angeles:20180103T150000
DTSTAMP:20260423T134057
CREATED:20180605T000626Z
LAST-MODIFIED:20200611T002328Z
UID:17754-1514977200-1514991600@paloaltobridge.org
SUMMARY:Bridge 'N Brunch
DESCRIPTION:Open/Stratified and 499’er/Stratified Sections. \nLight lunch provided during the game. \nDiscount for youth 25 and under. \nReservations Requested \nDirectors: \n\n\n\n\n\nWill Watson\n(408) 614-8881 \nSend Email
URL:https://paloaltobridge.org/event/bridge-n-brunch/2018-01-03/
LOCATION:Bridge Center\, 432A Stierlin Rd\, Mountain View\, CA\, 94043\, United States
CATEGORIES:Club Games
GEO:37.4004098;-122.0788615
X-APPLE-STRUCTURED-LOCATION;VALUE=URI;X-ADDRESS=Bridge Center 432A Stierlin Rd Mountain View CA 94043 United States;X-APPLE-RADIUS=500;X-TITLE=432A Stierlin Rd:geo:-122.0788615,37.4004098
END:VEVENT
BEGIN:VEVENT
DTSTART;TZID=America/Los_Angeles:20180103T103000
DTEND;TZID=America/Los_Angeles:20180103T143000
DTSTAMP:20260423T134057
CREATED:20180604T234432Z
LAST-MODIFIED:20200611T012707Z
UID:17724-1514975400-1514989800@paloaltobridge.org
SUMMARY:MCC Duplicate Bridge Club
DESCRIPTION:Invitational/Stratified Game \nRestricted to members of the Menlo Circus Club and guests.  Location may vary. \nDirector: \n\n\n\n\n\nGabrielle Bowling\n(650) 619-0555\nSend Email
URL:https://paloaltobridge.org/event/mcc-duplicate-bridge-club/2018-01-03/
LOCATION:Menlo Circus Club\, 190 Park Ln\, Atherton\, CA\, 94027\, United States
CATEGORIES:Club Games
GEO:37.4499249;-122.2010478
X-APPLE-STRUCTURED-LOCATION;VALUE=URI;X-ADDRESS=Menlo Circus Club 190 Park Ln Atherton CA 94027 United States;X-APPLE-RADIUS=500;X-TITLE=190 Park Ln:geo:-122.2010478,37.4499249
END:VEVENT
BEGIN:VEVENT
DTSTART;TZID=America/Los_Angeles:20180102T190000
DTEND;TZID=America/Los_Angeles:20180102T223000
DTSTAMP:20260423T134057
CREATED:20180523T064222Z
LAST-MODIFIED:20200611T010704Z
UID:10665-1514919600-1514932200@paloaltobridge.org
SUMMARY:Vi Duplicate Bridge Club
DESCRIPTION:Invitational/Stratified Game \nRestricted to members and friends of the Vi Palo Alto. \nDirector: \n\n\n\n\n\nMary Steele\n(408) 202-0419\nSend Email \n\n 
URL:https://paloaltobridge.org/event/vi/2018-01-02/
LOCATION:Vi Palo Alto\, 650 Sand Hill Road\, Palo Alto\, CA\, 94304\, United States
CATEGORIES:Club Games
GEO:37.4390447;-122.1761352
X-APPLE-STRUCTURED-LOCATION;VALUE=URI;X-ADDRESS=Vi Palo Alto 650 Sand Hill Road Palo Alto CA 94304 United States;X-APPLE-RADIUS=500;X-TITLE=650 Sand Hill Road:geo:-122.1761352,37.4390447
END:VEVENT
BEGIN:VEVENT
DTSTART;TZID=America/Los_Angeles:20180102T131500
DTEND;TZID=America/Los_Angeles:20180102T164500
DTSTAMP:20260423T134057
CREATED:20180523T061647Z
LAST-MODIFIED:20200611T012056Z
UID:10423-1514898900-1514911500@paloaltobridge.org
SUMMARY:LAGCC
DESCRIPTION:Invitational/Stratified Game \nRestricted to members and friends of the Los Altos Golf and Country Club. \nDirector: \n\n\n\n\n\nMarolyn Imaoka\n(408) 828-9222\nSend Email
URL:https://paloaltobridge.org/event/lagcc/2018-01-02/
LOCATION:Los Altos Golf and Country Club\, 1560 Country Club Drive\, Los Altos\, CA\, 94024\, United States
CATEGORIES:Club Games
GEO:37.3510627;-122.0918221
X-APPLE-STRUCTURED-LOCATION;VALUE=URI;X-ADDRESS=Los Altos Golf and Country Club 1560 Country Club Drive Los Altos CA 94024 United States;X-APPLE-RADIUS=500;X-TITLE=1560 Country Club Drive:geo:-122.0918221,37.3510627
END:VEVENT
BEGIN:VEVENT
DTSTART;TZID=America/Los_Angeles:20180102T120000
DTEND;TZID=America/Los_Angeles:20180102T153000
DTSTAMP:20260423T134057
CREATED:20180523T060042Z
LAST-MODIFIED:20190305T062214Z
UID:10024-1514894400-1514907000@paloaltobridge.org
SUMMARY:Tuesday Noon Bridge Club
DESCRIPTION:Open/Stratified Game \nSnacks provided. \nStarting April 2 this game will become the ThinkSlam club and will start at 11:30 AM. \nDirector: \n\n\n\n\n\nGabrielle Bowling\n(650) 619-0555\nSend Email
URL:https://paloaltobridge.org/event/tuesday-noon-bridge-club/2018-01-02/
LOCATION:Unity Church\, 3391 Middlefield Road\, Palo Alto\, CA\, 94306\, United States
CATEGORIES:Club Games
GEO:37.4268984;-122.1181093
X-APPLE-STRUCTURED-LOCATION;VALUE=URI;X-ADDRESS=Unity Church 3391 Middlefield Road Palo Alto CA 94306 United States;X-APPLE-RADIUS=500;X-TITLE=3391 Middlefield Road:geo:-122.1181093,37.4268984
END:VEVENT
BEGIN:VEVENT
DTSTART;TZID=America/Los_Angeles:20180102T113000
DTEND;TZID=America/Los_Angeles:20180102T153000
DTSTAMP:20260423T134057
CREATED:20180531T070243Z
LAST-MODIFIED:20200611T001611Z
UID:15799-1514892600-1514907000@paloaltobridge.org
SUMMARY:Alpine Bridge Club
DESCRIPTION:11:30 am:  499’er/Stratified\, 199’er/Stratified and New Player Sections. \n12:00 pm:  Open/Stratified Sections. \nLunch provided before the game. \nDiscount for youth 25 and under. \nReservations Requested \nDirectors: \n\n\n\n\nKevin O’Leary\n(650) 279-0005\nSend Email \n\n\n\n\n\n\n\nPrue Saunders\n(650) 464-3969\nSend Email \n\n\n\n\n\n\n\nWill Watson\n(408) 614-8881\nSend Email
URL:https://paloaltobridge.org/event/alpine-bridge-club/2018-01-02/
LOCATION:Bridge Center\, 432A Stierlin Rd\, Mountain View\, CA\, 94043\, United States
CATEGORIES:Club Games
GEO:37.4004098;-122.0788615
X-APPLE-STRUCTURED-LOCATION;VALUE=URI;X-ADDRESS=Bridge Center 432A Stierlin Rd Mountain View CA 94043 United States;X-APPLE-RADIUS=500;X-TITLE=432A Stierlin Rd:geo:-122.0788615,37.4004098
END:VEVENT
BEGIN:VEVENT
DTSTART;TZID=America/Los_Angeles:20180101T113000
DTEND;TZID=America/Los_Angeles:20180101T150000
DTSTAMP:20260423T134057
CREATED:20180523T051906Z
LAST-MODIFIED:20210719T014822Z
UID:8952-1514806200-1514818800@paloaltobridge.org
SUMMARY:Monday Morning Bridge Club
DESCRIPTION:Open/Stratified\, 749’er/Stratified and 299’er/Stratified Sections. \nLunch provided before the game. \nDiscount for youth 25 and under. \nReservations Encouraged \nDirector: \n\n\n\n\n\nJohn Schwartz\n(650) 353-1461 \nSend Email
URL:https://paloaltobridge.org/event/monday-morning-bridge-club/2018-01-01/
LOCATION:Bridge Center\, 432A Stierlin Rd\, Mountain View\, CA\, 94043\, United States
CATEGORIES:Club Games
GEO:37.4004098;-122.0788615
X-APPLE-STRUCTURED-LOCATION;VALUE=URI;X-ADDRESS=Bridge Center 432A Stierlin Rd Mountain View CA 94043 United States;X-APPLE-RADIUS=500;X-TITLE=432A Stierlin Rd:geo:-122.0788615,37.4004098
END:VEVENT
END:VCALENDAR