BEGIN:VCALENDAR
VERSION:2.0
PRODID:-//Palo Alto Bridge - ECPv6.15.20//NONSGML v1.0//EN
CALSCALE:GREGORIAN
METHOD:PUBLISH
X-ORIGINAL-URL:https://paloaltobridge.org
X-WR-CALDESC:Events for Palo Alto Bridge
REFRESH-INTERVAL;VALUE=DURATION:PT1H
X-Robots-Tag:noindex
X-PUBLISHED-TTL:PT1H
BEGIN:VTIMEZONE
TZID:America/Los_Angeles
BEGIN:DAYLIGHT
TZOFFSETFROM:-0800
TZOFFSETTO:-0700
TZNAME:PDT
DTSTART:20230312T100000
END:DAYLIGHT
BEGIN:STANDARD
TZOFFSETFROM:-0700
TZOFFSETTO:-0800
TZNAME:PST
DTSTART:20231105T090000
END:STANDARD
BEGIN:DAYLIGHT
TZOFFSETFROM:-0800
TZOFFSETTO:-0700
TZNAME:PDT
DTSTART:20240310T100000
END:DAYLIGHT
BEGIN:STANDARD
TZOFFSETFROM:-0700
TZOFFSETTO:-0800
TZNAME:PST
DTSTART:20241103T090000
END:STANDARD
BEGIN:DAYLIGHT
TZOFFSETFROM:-0800
TZOFFSETTO:-0700
TZNAME:PDT
DTSTART:20250309T100000
END:DAYLIGHT
BEGIN:STANDARD
TZOFFSETFROM:-0700
TZOFFSETTO:-0800
TZNAME:PST
DTSTART:20251102T090000
END:STANDARD
END:VTIMEZONE
BEGIN:VEVENT
DTSTART;VALUE=DATE:20240506
DTEND;VALUE=DATE:20240511
DTSTAMP:20260424T161307
CREATED:20240117T020137Z
LAST-MODIFIED:20240412T145232Z
UID:44921-1714953600-1715385599@paloaltobridge.org
SUMMARY:Royal Sectional Tournament at Clubs (STaC)
DESCRIPTION:ACBL District 21 is holding face-to-face Royal Sectional Tournament at Clubs (STaC) games\, awarding gold/red/silver/black masterpoints. We are holding STaC games daily at the Bridge Center on Monday\, May 6 – Friday\, May 10\, 2024. \nThere will be Open and Limited stratified sections. \n“Overall” masterpoint awards for these games are based on the total number of players playing those hands in that game that day in all of District 21; District 19; District 22; and District 23. Thus\, “overall” masterpoint awards will be significantly larger than usual. These STaC games are F2F only\, not online on BBO. \nAll games that week are held daily at the Bridge Center at their usual times (note that the Monday May 6 game will begin at 11:30 AM). \nFor planning purposes\, we ask that you make a reservation for games at the Bridge Center.  If you can’t remember your username and password\, just call the director for the day you wish to play. \nCheck out our feature allowing one to use the reservation system to find a partner.  The instructions for doing that are on each reservation page.
URL:https://paloaltobridge.org/event/royal-sectional-tournament-at-clubs-stac-may-2024/
LOCATION:Bridge Center\, 432A Stierlin Rd\, Mountain View\, CA\, 94043\, United States
CATEGORIES:Club Games
GEO:37.4004098;-122.0788615
X-APPLE-STRUCTURED-LOCATION;VALUE=URI;X-ADDRESS=Bridge Center 432A Stierlin Rd Mountain View CA 94043 United States;X-APPLE-RADIUS=500;X-TITLE=432A Stierlin Rd:geo:-122.0788615,37.4004098
END:VEVENT
BEGIN:VEVENT
DTSTART;TZID=America/Los_Angeles:20240513T113000
DTEND;TZID=America/Los_Angeles:20240513T143000
DTSTAMP:20260424T161307
CREATED:20240113T221544Z
LAST-MODIFIED:20250502T052023Z
UID:44864-1715599800-1715610600@paloaltobridge.org
SUMMARY:Swiss Team Club Game
DESCRIPTION:Swiss Team games are great fun to play and grant generous master point awards at sectional\, regional\, and national tournaments!  Now you have the chance to play at the club level in our monthly games hosted by John Schwartz and Will Watson. \nThese games are a wonderful opportunity to polish one’s Swiss Team skills throughout the year and especially prior to sectional\, regional\, and national tournaments. If you are less experienced or have never played in a Swiss Team game and would like to play Swiss Teams at future tournaments\, these Swiss Team club games are a perfect opportunity to gain experience in a more relaxed club game environment. For those less experienced Swiss Team players\, here are slides from a Swiss Team strategy lecture from a Swiss Team strategy lecture given in August 2023.. \nThese games will have an Open and a Limited section.  They will award 100% black points. \nNo lunch is provided.   Snacks aree available before and during the game. \nFor planning purposes\, we ask that players sign-up to play at: https://www.signup123.com/unit503bridge/Scripts/slogin.pl  \n\nThe game reservation system is designed for pairs games and not Swiss Teams. So\, to sign up your team\, sign up you and your partner in both the N/S and E/W boxes.\nHaving trouble signing up? Email Will Watson watsonbridge@gmail.com\n\nDon’t have a team of four? The Unit will help you find a team. Email Will Watson at watsonbridge@gmail.com. \nHave questions? Please contact Will or Marc Cervellino at marc.cervellino@hotmail.com.
URL:https://paloaltobridge.org/event/swiss-team-club-game-2024-05-13/2024-05-13/
LOCATION:Bridge Center\, 432A Stierlin Rd\, Mountain View\, CA\, 94043\, United States
CATEGORIES:Club Games,Special Events
GEO:37.4004098;-122.0788615
X-APPLE-STRUCTURED-LOCATION;VALUE=URI;X-ADDRESS=Bridge Center 432A Stierlin Rd Mountain View CA 94043 United States;X-APPLE-RADIUS=500;X-TITLE=432A Stierlin Rd:geo:-122.0788615,37.4004098
END:VEVENT
END:VCALENDAR