BEGIN:VCALENDAR
VERSION:2.0
PRODID:-//Palo Alto Bridge - ECPv6.15.20//NONSGML v1.0//EN
CALSCALE:GREGORIAN
METHOD:PUBLISH
X-ORIGINAL-URL:https://paloaltobridge.org
X-WR-CALDESC:Events for Palo Alto Bridge
REFRESH-INTERVAL;VALUE=DURATION:PT1H
X-Robots-Tag:noindex
X-PUBLISHED-TTL:PT1H
BEGIN:VTIMEZONE
TZID:America/Los_Angeles
BEGIN:DAYLIGHT
TZOFFSETFROM:-0800
TZOFFSETTO:-0700
TZNAME:PDT
DTSTART:20220313T100000
END:DAYLIGHT
BEGIN:STANDARD
TZOFFSETFROM:-0700
TZOFFSETTO:-0800
TZNAME:PST
DTSTART:20221106T090000
END:STANDARD
BEGIN:DAYLIGHT
TZOFFSETFROM:-0800
TZOFFSETTO:-0700
TZNAME:PDT
DTSTART:20230312T100000
END:DAYLIGHT
BEGIN:STANDARD
TZOFFSETFROM:-0700
TZOFFSETTO:-0800
TZNAME:PST
DTSTART:20231105T090000
END:STANDARD
BEGIN:DAYLIGHT
TZOFFSETFROM:-0800
TZOFFSETTO:-0700
TZNAME:PDT
DTSTART:20240310T100000
END:DAYLIGHT
BEGIN:STANDARD
TZOFFSETFROM:-0700
TZOFFSETTO:-0800
TZNAME:PST
DTSTART:20241103T090000
END:STANDARD
END:VTIMEZONE
BEGIN:VEVENT
DTSTART;TZID=America/Los_Angeles:20230818T093000
DTEND;TZID=America/Los_Angeles:20230818T140000
DTSTAMP:20260425T081845
CREATED:20230725T153128Z
LAST-MODIFIED:20230806T214823Z
UID:44184-1692351000-1692367200@paloaltobridge.org
SUMMARY:Swiss Team Game and Strategy Lecture
DESCRIPTION:A Swiss Team game with a Non-Life Master section and a Swiss Team strategy lecture will be held on Friday\, August 18 at the Palo Alto Bridge Center. The lecture will begin at 9:30 AM and the game at 10:45 AM. \nThis is a warm-up for the Santa Clara Regional\, where six days of team games will be held. So\, call your partners\, form your teams\, and join the fun.  For planning purposes\, we ask you to sign up for the game.
URL:https://paloaltobridge.org/event/swiss-team-game-and-strategy-lecture/
LOCATION:Bridge Center\, 432A Stierlin Rd\, Mountain View\, CA\, 94043\, United States
CATEGORIES:Club Games
GEO:37.4004098;-122.0788615
X-APPLE-STRUCTURED-LOCATION;VALUE=URI;X-ADDRESS=Bridge Center 432A Stierlin Rd Mountain View CA 94043 United States;X-APPLE-RADIUS=500;X-TITLE=432A Stierlin Rd:geo:-122.0788615,37.4004098
END:VEVENT
BEGIN:VEVENT
DTSTART;VALUE=DATE:20230821
DTEND;VALUE=DATE:20230828
DTSTAMP:20260425T081845
CREATED:20230725T154557Z
LAST-MODIFIED:20230806T214619Z
UID:44191-1692576000-1693180799@paloaltobridge.org
SUMMARY:Sectional Tournament at Clubs (STaC)
DESCRIPTION:Sectional Tournament at Clubs (STaC) F2F games\, which award 100% silver points\, will be held daily Monday – Sunday\, August 21 – 27\, 2023 at the Palo Alto Bridge Center. These games grant generous masterpoint awards. Game times and signup may be found here. For planning purposes\, we ask you to sign up for the games.
URL:https://paloaltobridge.org/event/sectional-tournament-at-clubs-stac/
LOCATION:Bridge Center\, 432A Stierlin Rd\, Mountain View\, CA\, 94043\, United States
CATEGORIES:Club Games
GEO:37.4004098;-122.0788615
X-APPLE-STRUCTURED-LOCATION;VALUE=URI;X-ADDRESS=Bridge Center 432A Stierlin Rd Mountain View CA 94043 United States;X-APPLE-RADIUS=500;X-TITLE=432A Stierlin Rd:geo:-122.0788615,37.4004098
END:VEVENT
END:VCALENDAR