BEGIN:VCALENDAR
VERSION:2.0
PRODID:-//Palo Alto Bridge - ECPv6.15.20//NONSGML v1.0//EN
CALSCALE:GREGORIAN
METHOD:PUBLISH
X-WR-CALNAME:Palo Alto Bridge
X-ORIGINAL-URL:https://paloaltobridge.org
X-WR-CALDESC:Events for Palo Alto Bridge
REFRESH-INTERVAL;VALUE=DURATION:PT1H
X-Robots-Tag:noindex
X-PUBLISHED-TTL:PT1H
BEGIN:VTIMEZONE
TZID:America/Los_Angeles
BEGIN:DAYLIGHT
TZOFFSETFROM:-0800
TZOFFSETTO:-0700
TZNAME:PDT
DTSTART:20250309T100000
END:DAYLIGHT
BEGIN:STANDARD
TZOFFSETFROM:-0700
TZOFFSETTO:-0800
TZNAME:PST
DTSTART:20251102T090000
END:STANDARD
BEGIN:DAYLIGHT
TZOFFSETFROM:-0800
TZOFFSETTO:-0700
TZNAME:PDT
DTSTART:20260308T100000
END:DAYLIGHT
BEGIN:STANDARD
TZOFFSETFROM:-0700
TZOFFSETTO:-0800
TZNAME:PST
DTSTART:20261101T090000
END:STANDARD
BEGIN:DAYLIGHT
TZOFFSETFROM:-0800
TZOFFSETTO:-0700
TZNAME:PDT
DTSTART:20270314T100000
END:DAYLIGHT
BEGIN:STANDARD
TZOFFSETFROM:-0700
TZOFFSETTO:-0800
TZNAME:PST
DTSTART:20271107T090000
END:STANDARD
END:VTIMEZONE
BEGIN:VEVENT
DTSTART;TZID=America/Los_Angeles:20260303T084500
DTEND;TZID=America/Los_Angeles:20260303T103000
DTSTAMP:20260423T011426
CREATED:20250422T172441Z
LAST-MODIFIED:20251111T190759Z
UID:49755-1772527500-1772533800@paloaltobridge.org
SUMMARY:Supervised Play Tuesday Mornings
DESCRIPTION:Kathy Harper\n(650) 207-1816\nSend Email
URL:https://paloaltobridge.org/event/supervised-play-tuesday-mornings-february-2026/2026-03-03/
LOCATION:Bridge Center\, 432A Stierlin Rd\, Mountain View\, CA\, 94043\, United States
CATEGORIES:Education Calendar
GEO:37.4004098;-122.0788615
X-APPLE-STRUCTURED-LOCATION;VALUE=URI;X-ADDRESS=Bridge Center 432A Stierlin Rd Mountain View CA 94043 United States;X-APPLE-RADIUS=500;X-TITLE=432A Stierlin Rd:geo:-122.0788615,37.4004098
END:VEVENT
BEGIN:VEVENT
DTSTART;TZID=America/Los_Angeles:20260303T090000
DTEND;TZID=America/Los_Angeles:20260303T103000
DTSTAMP:20260423T011426
CREATED:20250422T171213Z
LAST-MODIFIED:20251111T191026Z
UID:49734-1772528400-1772533800@paloaltobridge.org
SUMMARY:Beginning Bridge
DESCRIPTION:Kathy Harper\n(650) 207-1816\nSend Email \n\n\n\nLearn Bridge the modern way in this course designed by Pat Harrington! Each class includes both instruction and practice play. Start playing the very first day! Children & teens welcome. \nFor people who have never played bridge and those people who have played for years but want a refresher course or just to learn the basics. \nNotes will be emailed for all classes. No make-up classes are offered for missed classes. \nOur course instructor is ABTA Master Teacher Kathy Harper. Kathy and our wonderful volunteers give students individual attention which helps our students learn in a fun environment. \nPlease contact Kathy Harper for more information.
URL:https://paloaltobridge.org/event/beginning-bridge-10-february-2026/2026-03-03/
LOCATION:Bridge Center\, 432A Stierlin Rd\, Mountain View\, CA\, 94043\, United States
CATEGORIES:Education Calendar
GEO:37.4004098;-122.0788615
X-APPLE-STRUCTURED-LOCATION;VALUE=URI;X-ADDRESS=Bridge Center 432A Stierlin Rd Mountain View CA 94043 United States;X-APPLE-RADIUS=500;X-TITLE=432A Stierlin Rd:geo:-122.0788615,37.4004098
END:VEVENT
BEGIN:VEVENT
DTSTART;TZID=America/Los_Angeles:20260309T184500
DTEND;TZID=America/Los_Angeles:20260309T203000
DTSTAMP:20260423T011426
CREATED:20250422T192818Z
LAST-MODIFIED:20251111T190506Z
UID:49804-1773081900-1773088200@paloaltobridge.org
SUMMARY:Supervised Play Monday Evenings
DESCRIPTION:[vc_row][vc_column][vc_column_text] \n\n\n\n\nKathy Harper\n(650) 207-1816\nSend Email \n\n\n\n[/vc_column_text][/vc_column][/vc_row][vc_row][vc_column][vc_column_text css=””]Conventions You Need to Play class will be held at the same time.  Details to come.[/vc_column_text][/vc_column][/vc_row]
URL:https://paloaltobridge.org/event/supervised-play-10-monday-evenings-march-2026/2026-03-09/
LOCATION:Bridge Center\, 432A Stierlin Rd\, Mountain View\, CA\, 94043\, United States
CATEGORIES:Education Calendar
GEO:37.4004098;-122.0788615
X-APPLE-STRUCTURED-LOCATION;VALUE=URI;X-ADDRESS=Bridge Center 432A Stierlin Rd Mountain View CA 94043 United States;X-APPLE-RADIUS=500;X-TITLE=432A Stierlin Rd:geo:-122.0788615,37.4004098
END:VEVENT
BEGIN:VEVENT
DTSTART;TZID=America/Los_Angeles:20260309T190000
DTEND;TZID=America/Los_Angeles:20260309T203000
DTSTAMP:20260423T011426
CREATED:20200223T190027Z
LAST-MODIFIED:20260108T204420Z
UID:36911-1773082800-1773088200@paloaltobridge.org
SUMMARY:Game ChangersConventions You Need to Play
DESCRIPTION:[vc_row][vc_column][vc_column_text css=””] \n\n\n\nKathy Harper\n(650) 207-1816\nSend Email \n\n\n\nUseful conventions for basic intermediates including Jacoby and Texas transfers\, Stayman and Garbage Stayman\, Keycard Blackwood and more. \nThis Basic-Intermediate Bridge Class builds upon our Beginning Bridge Classes and prepares our students for our Intermediate Classes. \nNotes will be emailed for all classes. No make-up classes are offered for missed classes. \nOur course instructor is ABTA Master Teacher Kathy Harper. Kathy and our wonderful volunteers give students individual attention which helps our students learn in a fun environment. \nPlease contact Kathy Harper at (650) 207-1816 email for additional information. \n\n\n\n\n\nConventions You Need to Play\nDates\n\n\n\n\n\nJacoby Two No Trump\nMarch 9\, 2026\n\n\n\nThe Negative Double\nMarch 23\n\n\n\nNew Minor Forcing\nApril 13\n\n\n\nStayman including Garbage Stayman\nApril 27\n\n\n\nJacoby Transfers\nMay 11\n\n\n\nTexas Transfers\nMay 18\n\n\n\nRoman Keycard Blackwood\nJune 8\n\n\n\nControl Showing Bids\nJune 15\n\n\n\n\n[/vc_column_text][/vc_column][/vc_row]
URL:https://paloaltobridge.org/event/conventions-you-need-to-play-8-mar-2026/2026-03-09/
LOCATION:Bridge Center\, 432A Stierlin Rd\, Mountain View\, CA\, 94043\, United States
CATEGORIES:Education Calendar
GEO:37.4004098;-122.0788615
X-APPLE-STRUCTURED-LOCATION;VALUE=URI;X-ADDRESS=Bridge Center 432A Stierlin Rd Mountain View CA 94043 United States;X-APPLE-RADIUS=500;X-TITLE=432A Stierlin Rd:geo:-122.0788615,37.4004098
END:VEVENT
BEGIN:VEVENT
DTSTART;TZID=America/Los_Angeles:20260317T084500
DTEND;TZID=America/Los_Angeles:20260317T103000
DTSTAMP:20260423T011426
CREATED:20250422T172441Z
LAST-MODIFIED:20251111T190759Z
UID:49756-1773737100-1773743400@paloaltobridge.org
SUMMARY:Supervised Play Tuesday Mornings
DESCRIPTION:Kathy Harper\n(650) 207-1816\nSend Email
URL:https://paloaltobridge.org/event/supervised-play-tuesday-mornings-february-2026/2026-03-17/
LOCATION:Bridge Center\, 432A Stierlin Rd\, Mountain View\, CA\, 94043\, United States
CATEGORIES:Education Calendar
GEO:37.4004098;-122.0788615
X-APPLE-STRUCTURED-LOCATION;VALUE=URI;X-ADDRESS=Bridge Center 432A Stierlin Rd Mountain View CA 94043 United States;X-APPLE-RADIUS=500;X-TITLE=432A Stierlin Rd:geo:-122.0788615,37.4004098
END:VEVENT
BEGIN:VEVENT
DTSTART;TZID=America/Los_Angeles:20260317T090000
DTEND;TZID=America/Los_Angeles:20260317T103000
DTSTAMP:20260423T011426
CREATED:20250422T171213Z
LAST-MODIFIED:20251111T191026Z
UID:49735-1773738000-1773743400@paloaltobridge.org
SUMMARY:Beginning Bridge
DESCRIPTION:Kathy Harper\n(650) 207-1816\nSend Email \n\n\n\nLearn Bridge the modern way in this course designed by Pat Harrington! Each class includes both instruction and practice play. Start playing the very first day! Children & teens welcome. \nFor people who have never played bridge and those people who have played for years but want a refresher course or just to learn the basics. \nNotes will be emailed for all classes. No make-up classes are offered for missed classes. \nOur course instructor is ABTA Master Teacher Kathy Harper. Kathy and our wonderful volunteers give students individual attention which helps our students learn in a fun environment. \nPlease contact Kathy Harper for more information.
URL:https://paloaltobridge.org/event/beginning-bridge-10-february-2026/2026-03-17/
LOCATION:Bridge Center\, 432A Stierlin Rd\, Mountain View\, CA\, 94043\, United States
CATEGORIES:Education Calendar
GEO:37.4004098;-122.0788615
X-APPLE-STRUCTURED-LOCATION;VALUE=URI;X-ADDRESS=Bridge Center 432A Stierlin Rd Mountain View CA 94043 United States;X-APPLE-RADIUS=500;X-TITLE=432A Stierlin Rd:geo:-122.0788615,37.4004098
END:VEVENT
BEGIN:VEVENT
DTSTART;TZID=America/Los_Angeles:20260319T191500
DTEND;TZID=America/Los_Angeles:20260319T213000
DTSTAMP:20260423T011426
CREATED:20260221T220543Z
LAST-MODIFIED:20260327T160327Z
UID:92036-1773947700-1773955800@paloaltobridge.org
SUMMARY:March Madness at the Bridge Table
DESCRIPTION:[vc_row][vc_column][vc_column_text css=””] \n\n\n\n\nFrank Smoot\n(408) 306-3901\nSend Email \n\n\n\n[/vc_column_text][vc_column_text css=””]Combine your chances to win. Remember: You can’t succeed without an entry. \nIn this five-week mostly-play course\, we will combine structured learning with table practice. The deals provide many opportunities to apply what you have learned. You will improve play technique in a fun\, supportive environment. \nThis course is intended for Intermediate level bridge players with at least one year of duplicate experience. \nWhat you will learn \n\nChoose the best response to partner’s suit opening bids.\nManage trumps effectively\, drawing them at the right time.\nIdentify and combine your chances. Try them in the best order.\nUse timing and endplays to bring home tough contracts.\n\nHow the class works \nLots of bidding and play of the hand (and a little bit of homework). \nWe will do exercises in class (homework outside of class) and conclude each evening by playing deals related to the topic. In-class deals are available in downloadable format so you can play the hands at home and receive commentary on the bidding and play (requires Bridge Baron Software). \nCoffee\, tea and snacks also provided. \nOur course instructor is the very popular Frank Smoot who has taught bridge to beginners and beyond in Palo Alto for 30+ years.  Frank and our wonderful volunteers give students individual attention which helps our students learn in a fun environment. \nFor more information contact Frank Smoot (408) 306-3901 email.[/vc_column_text][/vc_column][/vc_row][vc_row][vc_column][vc_column_text css=””] \n\n\n\n\nThe 5-Week Course Covers\nBridge Baron Downloads\n\n\n\n\n\n\n\nRespond to a Suit Opening\nImportant Suit Tactics\nCombine Your Chances\nEndplays\nEntries & Communications\n\n\n\n\nRespond\nSuit Tactics\nCombine\nEndplays\nEntries\n\n\n\n\n\n[/vc_column_text][/vc_column][/vc_row][vc_row][vc_column][vc_column_text css=””]Bridge Baron Support \nPurchase:  BaronBarclay\nInstructions for downloading and playing files with Bridge Baron\nStudents:  For additional support contact Alan Templeton or Frank Smoot[/vc_column_text][/vc_column][/vc_row][vc_row][vc_column][vc_column_text css=””] \n\nPayment\nAfter registering\, below\, you may pay by Zelle or check to hold your spot: \nZelle:  Transfer $170 to either franklinsalias-bridge@yahoo.com or (408) 306-3901. \nCheck:  Mail a check made out to Frank Smoot in the amount of $170: \n\nFrank Smoot\n15 Tagus Ct.\nPortola Valley\, CA 94028[/vc_column_text][/vc_column][/vc_row]
URL:https://paloaltobridge.org/event/march-madness-at-the-bridge-table/2026-03-19/
LOCATION:Bridge Center\, 432A Stierlin Rd\, Mountain View\, CA\, 94043\, United States
CATEGORIES:Education Calendar
GEO:37.4004098;-122.0788615
X-APPLE-STRUCTURED-LOCATION;VALUE=URI;X-ADDRESS=Bridge Center 432A Stierlin Rd Mountain View CA 94043 United States;X-APPLE-RADIUS=500;X-TITLE=432A Stierlin Rd:geo:-122.0788615,37.4004098
END:VEVENT
BEGIN:VEVENT
DTSTART;TZID=America/Los_Angeles:20260323T184500
DTEND;TZID=America/Los_Angeles:20260323T203000
DTSTAMP:20260423T011426
CREATED:20250422T192818Z
LAST-MODIFIED:20251111T190506Z
UID:49805-1774291500-1774297800@paloaltobridge.org
SUMMARY:Supervised Play Monday Evenings
DESCRIPTION:[vc_row][vc_column][vc_column_text] \n\n\n\n\nKathy Harper\n(650) 207-1816\nSend Email \n\n\n\n[/vc_column_text][/vc_column][/vc_row][vc_row][vc_column][vc_column_text css=””]Conventions You Need to Play class will be held at the same time.  Details to come.[/vc_column_text][/vc_column][/vc_row]
URL:https://paloaltobridge.org/event/supervised-play-10-monday-evenings-march-2026/2026-03-23/
LOCATION:Bridge Center\, 432A Stierlin Rd\, Mountain View\, CA\, 94043\, United States
CATEGORIES:Education Calendar
GEO:37.4004098;-122.0788615
X-APPLE-STRUCTURED-LOCATION;VALUE=URI;X-ADDRESS=Bridge Center 432A Stierlin Rd Mountain View CA 94043 United States;X-APPLE-RADIUS=500;X-TITLE=432A Stierlin Rd:geo:-122.0788615,37.4004098
END:VEVENT
BEGIN:VEVENT
DTSTART;TZID=America/Los_Angeles:20260323T190000
DTEND;TZID=America/Los_Angeles:20260323T203000
DTSTAMP:20260423T011426
CREATED:20200223T190027Z
LAST-MODIFIED:20260108T204421Z
UID:50738-1774292400-1774297800@paloaltobridge.org
SUMMARY:Game ChangersConventions You Need to Play
DESCRIPTION:[vc_row][vc_column][vc_column_text css=””] \n\n\n\nKathy Harper\n(650) 207-1816\nSend Email \n\n\n\nUseful conventions for basic intermediates including Jacoby and Texas transfers\, Stayman and Garbage Stayman\, Keycard Blackwood and more. \nThis Basic-Intermediate Bridge Class builds upon our Beginning Bridge Classes and prepares our students for our Intermediate Classes. \nNotes will be emailed for all classes. No make-up classes are offered for missed classes. \nOur course instructor is ABTA Master Teacher Kathy Harper. Kathy and our wonderful volunteers give students individual attention which helps our students learn in a fun environment. \nPlease contact Kathy Harper at (650) 207-1816 email for additional information. \n\n\n\n\n\nConventions You Need to Play\nDates\n\n\n\n\n\nJacoby Two No Trump\nMarch 9\, 2026\n\n\n\nThe Negative Double\nMarch 23\n\n\n\nNew Minor Forcing\nApril 13\n\n\n\nStayman including Garbage Stayman\nApril 27\n\n\n\nJacoby Transfers\nMay 11\n\n\n\nTexas Transfers\nMay 18\n\n\n\nRoman Keycard Blackwood\nJune 8\n\n\n\nControl Showing Bids\nJune 15\n\n\n\n\n[/vc_column_text][/vc_column][/vc_row]
URL:https://paloaltobridge.org/event/conventions-you-need-to-play-8-mar-2026/2026-03-23/
LOCATION:Bridge Center\, 432A Stierlin Rd\, Mountain View\, CA\, 94043\, United States
CATEGORIES:Education Calendar
GEO:37.4004098;-122.0788615
X-APPLE-STRUCTURED-LOCATION;VALUE=URI;X-ADDRESS=Bridge Center 432A Stierlin Rd Mountain View CA 94043 United States;X-APPLE-RADIUS=500;X-TITLE=432A Stierlin Rd:geo:-122.0788615,37.4004098
END:VEVENT
BEGIN:VEVENT
DTSTART;TZID=America/Los_Angeles:20260326T191500
DTEND;TZID=America/Los_Angeles:20260326T213000
DTSTAMP:20260423T011426
CREATED:20260221T220543Z
LAST-MODIFIED:20260327T160327Z
UID:92056-1774552500-1774560600@paloaltobridge.org
SUMMARY:March Madness at the Bridge Table
DESCRIPTION:[vc_row][vc_column][vc_column_text css=””] \n\n\n\n\nFrank Smoot\n(408) 306-3901\nSend Email \n\n\n\n[/vc_column_text][vc_column_text css=””]Combine your chances to win. Remember: You can’t succeed without an entry. \nIn this five-week mostly-play course\, we will combine structured learning with table practice. The deals provide many opportunities to apply what you have learned. You will improve play technique in a fun\, supportive environment. \nThis course is intended for Intermediate level bridge players with at least one year of duplicate experience. \nWhat you will learn \n\nChoose the best response to partner’s suit opening bids.\nManage trumps effectively\, drawing them at the right time.\nIdentify and combine your chances. Try them in the best order.\nUse timing and endplays to bring home tough contracts.\n\nHow the class works \nLots of bidding and play of the hand (and a little bit of homework). \nWe will do exercises in class (homework outside of class) and conclude each evening by playing deals related to the topic. In-class deals are available in downloadable format so you can play the hands at home and receive commentary on the bidding and play (requires Bridge Baron Software). \nCoffee\, tea and snacks also provided. \nOur course instructor is the very popular Frank Smoot who has taught bridge to beginners and beyond in Palo Alto for 30+ years.  Frank and our wonderful volunteers give students individual attention which helps our students learn in a fun environment. \nFor more information contact Frank Smoot (408) 306-3901 email.[/vc_column_text][/vc_column][/vc_row][vc_row][vc_column][vc_column_text css=””] \n\n\n\n\nThe 5-Week Course Covers\nBridge Baron Downloads\n\n\n\n\n\n\n\nRespond to a Suit Opening\nImportant Suit Tactics\nCombine Your Chances\nEndplays\nEntries & Communications\n\n\n\n\nRespond\nSuit Tactics\nCombine\nEndplays\nEntries\n\n\n\n\n\n[/vc_column_text][/vc_column][/vc_row][vc_row][vc_column][vc_column_text css=””]Bridge Baron Support \nPurchase:  BaronBarclay\nInstructions for downloading and playing files with Bridge Baron\nStudents:  For additional support contact Alan Templeton or Frank Smoot[/vc_column_text][/vc_column][/vc_row][vc_row][vc_column][vc_column_text css=””] \n\nPayment\nAfter registering\, below\, you may pay by Zelle or check to hold your spot: \nZelle:  Transfer $170 to either franklinsalias-bridge@yahoo.com or (408) 306-3901. \nCheck:  Mail a check made out to Frank Smoot in the amount of $170: \n\nFrank Smoot\n15 Tagus Ct.\nPortola Valley\, CA 94028[/vc_column_text][/vc_column][/vc_row]
URL:https://paloaltobridge.org/event/march-madness-at-the-bridge-table/2026-03-26/
LOCATION:Bridge Center\, 432A Stierlin Rd\, Mountain View\, CA\, 94043\, United States
CATEGORIES:Education Calendar
GEO:37.4004098;-122.0788615
X-APPLE-STRUCTURED-LOCATION;VALUE=URI;X-ADDRESS=Bridge Center 432A Stierlin Rd Mountain View CA 94043 United States;X-APPLE-RADIUS=500;X-TITLE=432A Stierlin Rd:geo:-122.0788615,37.4004098
END:VEVENT
BEGIN:VEVENT
DTSTART;TZID=America/Los_Angeles:20260331T084500
DTEND;TZID=America/Los_Angeles:20260331T103000
DTSTAMP:20260423T011426
CREATED:20250422T172441Z
LAST-MODIFIED:20251111T190759Z
UID:49757-1774946700-1774953000@paloaltobridge.org
SUMMARY:Supervised Play Tuesday Mornings
DESCRIPTION:Kathy Harper\n(650) 207-1816\nSend Email
URL:https://paloaltobridge.org/event/supervised-play-tuesday-mornings-february-2026/2026-03-31/
LOCATION:Bridge Center\, 432A Stierlin Rd\, Mountain View\, CA\, 94043\, United States
CATEGORIES:Education Calendar
GEO:37.4004098;-122.0788615
X-APPLE-STRUCTURED-LOCATION;VALUE=URI;X-ADDRESS=Bridge Center 432A Stierlin Rd Mountain View CA 94043 United States;X-APPLE-RADIUS=500;X-TITLE=432A Stierlin Rd:geo:-122.0788615,37.4004098
END:VEVENT
BEGIN:VEVENT
DTSTART;TZID=America/Los_Angeles:20260331T090000
DTEND;TZID=America/Los_Angeles:20260331T103000
DTSTAMP:20260423T011426
CREATED:20250422T171213Z
LAST-MODIFIED:20251111T191026Z
UID:49736-1774947600-1774953000@paloaltobridge.org
SUMMARY:Beginning Bridge
DESCRIPTION:Kathy Harper\n(650) 207-1816\nSend Email \n\n\n\nLearn Bridge the modern way in this course designed by Pat Harrington! Each class includes both instruction and practice play. Start playing the very first day! Children & teens welcome. \nFor people who have never played bridge and those people who have played for years but want a refresher course or just to learn the basics. \nNotes will be emailed for all classes. No make-up classes are offered for missed classes. \nOur course instructor is ABTA Master Teacher Kathy Harper. Kathy and our wonderful volunteers give students individual attention which helps our students learn in a fun environment. \nPlease contact Kathy Harper for more information.
URL:https://paloaltobridge.org/event/beginning-bridge-10-february-2026/2026-03-31/
LOCATION:Bridge Center\, 432A Stierlin Rd\, Mountain View\, CA\, 94043\, United States
CATEGORIES:Education Calendar
GEO:37.4004098;-122.0788615
X-APPLE-STRUCTURED-LOCATION;VALUE=URI;X-ADDRESS=Bridge Center 432A Stierlin Rd Mountain View CA 94043 United States;X-APPLE-RADIUS=500;X-TITLE=432A Stierlin Rd:geo:-122.0788615,37.4004098
END:VEVENT
END:VCALENDAR