BEGIN:VCALENDAR
VERSION:2.0
PRODID:-//Palo Alto Bridge - ECPv6.15.20//NONSGML v1.0//EN
CALSCALE:GREGORIAN
METHOD:PUBLISH
X-ORIGINAL-URL:https://paloaltobridge.org
X-WR-CALDESC:Events for Palo Alto Bridge
REFRESH-INTERVAL;VALUE=DURATION:PT1H
X-Robots-Tag:noindex
X-PUBLISHED-TTL:PT1H
BEGIN:VTIMEZONE
TZID:America/Los_Angeles
BEGIN:DAYLIGHT
TZOFFSETFROM:-0800
TZOFFSETTO:-0700
TZNAME:PDT
DTSTART:20240310T100000
END:DAYLIGHT
BEGIN:STANDARD
TZOFFSETFROM:-0700
TZOFFSETTO:-0800
TZNAME:PST
DTSTART:20241103T090000
END:STANDARD
BEGIN:DAYLIGHT
TZOFFSETFROM:-0800
TZOFFSETTO:-0700
TZNAME:PDT
DTSTART:20250309T100000
END:DAYLIGHT
BEGIN:STANDARD
TZOFFSETFROM:-0700
TZOFFSETTO:-0800
TZNAME:PST
DTSTART:20251102T090000
END:STANDARD
BEGIN:DAYLIGHT
TZOFFSETFROM:-0800
TZOFFSETTO:-0700
TZNAME:PDT
DTSTART:20260308T100000
END:DAYLIGHT
BEGIN:STANDARD
TZOFFSETFROM:-0700
TZOFFSETTO:-0800
TZNAME:PST
DTSTART:20261101T090000
END:STANDARD
END:VTIMEZONE
BEGIN:VEVENT
DTSTART;TZID=America/Los_Angeles:20251208T184500
DTEND;TZID=America/Los_Angeles:20251208T203000
DTSTAMP:20260423T065919
CREATED:20250420T204614Z
LAST-MODIFIED:20250616T170254Z
UID:49647-1765219500-1765225800@paloaltobridge.org
SUMMARY:Supervised Play Monday Evenings
DESCRIPTION:Kathy Harper\n(650) 207-1816\nSend Email
URL:https://paloaltobridge.org/event/supervised-play-10-monday-evenings-sept-2025/2025-12-08/
LOCATION:Bridge Center\, 432A Stierlin Rd\, Mountain View\, CA\, 94043\, United States
CATEGORIES:Education Calendar
GEO:37.4004098;-122.0788615
X-APPLE-STRUCTURED-LOCATION;VALUE=URI;X-ADDRESS=Bridge Center 432A Stierlin Rd Mountain View CA 94043 United States;X-APPLE-RADIUS=500;X-TITLE=432A Stierlin Rd:geo:-122.0788615,37.4004098
END:VEVENT
BEGIN:VEVENT
DTSTART;TZID=America/Los_Angeles:20251208T190000
DTEND;TZID=America/Los_Angeles:20251208T203000
DTSTAMP:20260423T065919
CREATED:20250420T194323Z
LAST-MODIFIED:20250616T165926Z
UID:49887-1765220400-1765225800@paloaltobridge.org
SUMMARY:Beginning Bridge
DESCRIPTION:Kathy Harper\n(650) 207-1816\nSend Email \n\n\n\nLearn Bridge the modern way in this course designed by Pat Harrington! Each class includes both instruction and practice play. Start playing the very first day! Children & teens welcome. \nFor people who have never played bridge and those people who have played for years but want a refresher course or just to learn the basics. \nNotes will be emailed for all classes. No make-up classes are offered for missed classes. \nOur course instructor is ABTA Master Teacher Kathy Harper. Kathy and our wonderful volunteers give students individual attention which helps our students learn in a fun environment. \nPlease contact Kathy Harper for more information.
URL:https://paloaltobridge.org/event/beginning-bridge-10-september-2025/2025-12-08/
LOCATION:Bridge Center\, 432A Stierlin Rd\, Mountain View\, CA\, 94043\, United States
CATEGORIES:Education Calendar
GEO:37.4004098;-122.0788615
X-APPLE-STRUCTURED-LOCATION;VALUE=URI;X-ADDRESS=Bridge Center 432A Stierlin Rd Mountain View CA 94043 United States;X-APPLE-RADIUS=500;X-TITLE=432A Stierlin Rd:geo:-122.0788615,37.4004098
END:VEVENT
BEGIN:VEVENT
DTSTART;TZID=America/Los_Angeles:20251209T084500
DTEND;TZID=America/Los_Angeles:20251209T103000
DTSTAMP:20260423T065919
CREATED:20250422T194055Z
LAST-MODIFIED:20251217T072342Z
UID:50254-1765269900-1765276200@paloaltobridge.org
SUMMARY:Supervised Play Tuesday Mornings
DESCRIPTION:[vc_row][vc_column][vc_column_text] \n\n\n\n\nKathy Harper\n(650) 207-1816\nSend Email \n\n\n\n[/vc_column_text][/vc_column][/vc_row]
URL:https://paloaltobridge.org/event/supervised-play-tuesday-mornings-september-2025/2025-12-09/
LOCATION:Bridge Center\, 432A Stierlin Rd\, Mountain View\, CA\, 94043\, United States
CATEGORIES:Education Calendar
GEO:37.4004098;-122.0788615
X-APPLE-STRUCTURED-LOCATION;VALUE=URI;X-ADDRESS=Bridge Center 432A Stierlin Rd Mountain View CA 94043 United States;X-APPLE-RADIUS=500;X-TITLE=432A Stierlin Rd:geo:-122.0788615,37.4004098
END:VEVENT
BEGIN:VEVENT
DTSTART;TZID=America/Los_Angeles:20251209T091500
DTEND;TZID=America/Los_Angeles:20251209T111500
DTSTAMP:20260423T065919
CREATED:20180622T191128Z
LAST-MODIFIED:20251217T074339Z
UID:50343-1765271700-1765278900@paloaltobridge.org
SUMMARY:Planning to Win 2025
DESCRIPTION:Kathy Harper\n(650) 207-1816\nSend Email \n\n\n\nA more modern style of teaching bridge designed by Pat Harrington. For players with some bridge experience or new players that have completed the Play & Learn Beginning Bridge class. \nFor people who have never played bridge and those people who have played for years but want a refresher course or just to learn the basics. \nNotes will be emailed for all classes. No make-up classes are offered for missed classes. \nOur course instructor is ABTA Master Teacher Kathy Harper. Kathy and our wonderful volunteers give students individual attention which helps our students learn in a fun environment. \nPlease contact Kathy Harper at (650) 207-1816 email for additional information. \n\n\n\n\nPLAY & LEARN Planning to Win\nDates\n\n\n\n\nCancelled due to illness\nSeptember 23\, 2025\n\n\nCounting Winners and Entries in NT;\nBidding Maximum Opening Hands;\nOpening Leads in Notrump\nOctober 7\n\n\nCounting Losers and Drawing Trump;\nMaximum Responding Hands;\nOctober 21\n\n\nPromotion in Suits and Notrump;\nBidding with Minimum Hands\nNovember 4\n\n\nUsing Length in Suits & Notrump;\nNovember 18\n\n\nThe Finesse\nDecember 9\n\n\nDummy Points and Trumping in Dummy;\nBlackwood\nDecember 16\n\n\nDiscarding a Quick Loser\nJanuary 6\, 2026\n\n\nWatch out for the Opponents!\nJanuary 20
URL:https://paloaltobridge.org/event/planning-to-win-sept-2025/2025-12-09/
LOCATION:Bridge Center\, 432A Stierlin Rd\, Mountain View\, CA\, 94043\, United States
CATEGORIES:Education Calendar
GEO:37.4004098;-122.0788615
X-APPLE-STRUCTURED-LOCATION;VALUE=URI;X-ADDRESS=Bridge Center 432A Stierlin Rd Mountain View CA 94043 United States;X-APPLE-RADIUS=500;X-TITLE=432A Stierlin Rd:geo:-122.0788615,37.4004098
END:VEVENT
BEGIN:VEVENT
DTSTART;TZID=America/Los_Angeles:20251216T084500
DTEND;TZID=America/Los_Angeles:20251216T103000
DTSTAMP:20260423T065919
CREATED:20250422T194055Z
LAST-MODIFIED:20251217T072342Z
UID:49829-1765874700-1765881000@paloaltobridge.org
SUMMARY:Supervised Play Tuesday Mornings
DESCRIPTION:[vc_row][vc_column][vc_column_text] \n\n\n\n\nKathy Harper\n(650) 207-1816\nSend Email \n\n\n\n[/vc_column_text][/vc_column][/vc_row]
URL:https://paloaltobridge.org/event/supervised-play-tuesday-mornings-september-2025/2025-12-16/
LOCATION:Bridge Center\, 432A Stierlin Rd\, Mountain View\, CA\, 94043\, United States
CATEGORIES:Education Calendar
GEO:37.4004098;-122.0788615
X-APPLE-STRUCTURED-LOCATION;VALUE=URI;X-ADDRESS=Bridge Center 432A Stierlin Rd Mountain View CA 94043 United States;X-APPLE-RADIUS=500;X-TITLE=432A Stierlin Rd:geo:-122.0788615,37.4004098
END:VEVENT
BEGIN:VEVENT
DTSTART;TZID=America/Los_Angeles:20251216T091500
DTEND;TZID=America/Los_Angeles:20251216T111500
DTSTAMP:20260423T065919
CREATED:20180622T191128Z
LAST-MODIFIED:20251217T074339Z
UID:50344-1765876500-1765883700@paloaltobridge.org
SUMMARY:Planning to Win 2025
DESCRIPTION:Kathy Harper\n(650) 207-1816\nSend Email \n\n\n\nA more modern style of teaching bridge designed by Pat Harrington. For players with some bridge experience or new players that have completed the Play & Learn Beginning Bridge class. \nFor people who have never played bridge and those people who have played for years but want a refresher course or just to learn the basics. \nNotes will be emailed for all classes. No make-up classes are offered for missed classes. \nOur course instructor is ABTA Master Teacher Kathy Harper. Kathy and our wonderful volunteers give students individual attention which helps our students learn in a fun environment. \nPlease contact Kathy Harper at (650) 207-1816 email for additional information. \n\n\n\n\nPLAY & LEARN Planning to Win\nDates\n\n\n\n\nCancelled due to illness\nSeptember 23\, 2025\n\n\nCounting Winners and Entries in NT;\nBidding Maximum Opening Hands;\nOpening Leads in Notrump\nOctober 7\n\n\nCounting Losers and Drawing Trump;\nMaximum Responding Hands;\nOctober 21\n\n\nPromotion in Suits and Notrump;\nBidding with Minimum Hands\nNovember 4\n\n\nUsing Length in Suits & Notrump;\nNovember 18\n\n\nThe Finesse\nDecember 9\n\n\nDummy Points and Trumping in Dummy;\nBlackwood\nDecember 16\n\n\nDiscarding a Quick Loser\nJanuary 6\, 2026\n\n\nWatch out for the Opponents!\nJanuary 20
URL:https://paloaltobridge.org/event/planning-to-win-sept-2025/2025-12-16/
LOCATION:Bridge Center\, 432A Stierlin Rd\, Mountain View\, CA\, 94043\, United States
CATEGORIES:Education Calendar
GEO:37.4004098;-122.0788615
X-APPLE-STRUCTURED-LOCATION;VALUE=URI;X-ADDRESS=Bridge Center 432A Stierlin Rd Mountain View CA 94043 United States;X-APPLE-RADIUS=500;X-TITLE=432A Stierlin Rd:geo:-122.0788615,37.4004098
END:VEVENT
END:VCALENDAR