BEGIN:VCALENDAR
VERSION:2.0
PRODID:-//Palo Alto Bridge - ECPv6.15.20//NONSGML v1.0//EN
CALSCALE:GREGORIAN
METHOD:PUBLISH
X-ORIGINAL-URL:https://paloaltobridge.org
X-WR-CALDESC:Events for Palo Alto Bridge
REFRESH-INTERVAL;VALUE=DURATION:PT1H
X-Robots-Tag:noindex
X-PUBLISHED-TTL:PT1H
BEGIN:VTIMEZONE
TZID:America/Los_Angeles
BEGIN:DAYLIGHT
TZOFFSETFROM:-0800
TZOFFSETTO:-0700
TZNAME:PDT
DTSTART:20240310T100000
END:DAYLIGHT
BEGIN:STANDARD
TZOFFSETFROM:-0700
TZOFFSETTO:-0800
TZNAME:PST
DTSTART:20241103T090000
END:STANDARD
BEGIN:DAYLIGHT
TZOFFSETFROM:-0800
TZOFFSETTO:-0700
TZNAME:PDT
DTSTART:20250309T100000
END:DAYLIGHT
BEGIN:STANDARD
TZOFFSETFROM:-0700
TZOFFSETTO:-0800
TZNAME:PST
DTSTART:20251102T090000
END:STANDARD
BEGIN:DAYLIGHT
TZOFFSETFROM:-0800
TZOFFSETTO:-0700
TZNAME:PDT
DTSTART:20260308T100000
END:DAYLIGHT
BEGIN:STANDARD
TZOFFSETFROM:-0700
TZOFFSETTO:-0800
TZNAME:PST
DTSTART:20261101T090000
END:STANDARD
END:VTIMEZONE
BEGIN:VEVENT
DTSTART;TZID=America/Los_Angeles:20250610T084500
DTEND;TZID=America/Los_Angeles:20250610T103000
DTSTAMP:20260423T175904
CREATED:20230430T055854Z
LAST-MODIFIED:20250603T151203Z
UID:48324-1749545100-1749551400@paloaltobridge.org
SUMMARY:Supervised Play Tuesday Mornings
DESCRIPTION:Kathy Harper\n(650) 207-1816\nSend Email
URL:https://paloaltobridge.org/event/supervised-play-tuesday-mornings-february-2025/2025-06-10/
LOCATION:Bridge Center\, 432A Stierlin Rd\, Mountain View\, CA\, 94043\, United States
CATEGORIES:Education Calendar
GEO:37.4004098;-122.0788615
X-APPLE-STRUCTURED-LOCATION;VALUE=URI;X-ADDRESS=Bridge Center 432A Stierlin Rd Mountain View CA 94043 United States;X-APPLE-RADIUS=500;X-TITLE=432A Stierlin Rd:geo:-122.0788615,37.4004098
END:VEVENT
BEGIN:VEVENT
DTSTART;TZID=America/Los_Angeles:20250610T090000
DTEND;TZID=America/Los_Angeles:20250610T103000
DTSTAMP:20260423T175904
CREATED:20240509T170759Z
LAST-MODIFIED:20250603T151328Z
UID:48349-1749546000-1749551400@paloaltobridge.org
SUMMARY:Beginning Bridge
DESCRIPTION:Kathy Harper\n(650) 207-1816\nSend Email \n\n\n\nLearn Bridge the modern way in this course designed by Pat Harrington! Each class includes both instruction and practice play. Start playing the very first day! Children & teens welcome. \nFor people who have never played bridge and those people who have played for years but want a refresher course or just to learn the basics. \nNotes will be emailed for all classes. No make-up classes are offered for missed classes. \nOur course instructor is ABTA Master Teacher Kathy Harper. Kathy and our wonderful volunteers give students individual attention which helps our students learn in a fun environment. \nPlease contact Kathy Harper for more information.
URL:https://paloaltobridge.org/event/beginning-bridge-10-february-2025/2025-06-10/
LOCATION:Bridge Center\, 432A Stierlin Rd\, Mountain View\, CA\, 94043\, United States
CATEGORIES:Education Calendar
GEO:37.4004098;-122.0788615
X-APPLE-STRUCTURED-LOCATION;VALUE=URI;X-ADDRESS=Bridge Center 432A Stierlin Rd Mountain View CA 94043 United States;X-APPLE-RADIUS=500;X-TITLE=432A Stierlin Rd:geo:-122.0788615,37.4004098
END:VEVENT
BEGIN:VEVENT
DTSTART;VALUE=DATE:20250611
DTEND;VALUE=DATE:20250612
DTSTAMP:20260423T175904
CREATED:20250624T043023Z
LAST-MODIFIED:20260404T204712Z
UID:50514-1749600000-1749686399@paloaltobridge.org
SUMMARY:Free Lecture
DESCRIPTION:Our Unit provides free lectures as part of our education program. Lectures cover areas of interest for new as well as intermediate players. Lectures are held at our Bridge Center. Sign-ups are not required. \nMore
URL:https://paloaltobridge.org/event/free-lecture-3/2025-06-11/
LOCATION:Bridge Center\, 432A Stierlin Rd\, Mountain View\, CA\, 94043\, United States
CATEGORIES:Education Calendar
GEO:37.4004098;-122.0788615
X-APPLE-STRUCTURED-LOCATION;VALUE=URI;X-ADDRESS=Bridge Center 432A Stierlin Rd Mountain View CA 94043 United States;X-APPLE-RADIUS=500;X-TITLE=432A Stierlin Rd:geo:-122.0788615,37.4004098
END:VEVENT
BEGIN:VEVENT
DTSTART;TZID=America/Los_Angeles:20250617T084500
DTEND;TZID=America/Los_Angeles:20250617T103000
DTSTAMP:20260423T175904
CREATED:20230430T055854Z
LAST-MODIFIED:20250603T151203Z
UID:48859-1750149900-1750156200@paloaltobridge.org
SUMMARY:Supervised Play Tuesday Mornings
DESCRIPTION:Kathy Harper\n(650) 207-1816\nSend Email
URL:https://paloaltobridge.org/event/supervised-play-tuesday-mornings-february-2025/2025-06-17/
LOCATION:Bridge Center\, 432A Stierlin Rd\, Mountain View\, CA\, 94043\, United States
CATEGORIES:Education Calendar
GEO:37.4004098;-122.0788615
X-APPLE-STRUCTURED-LOCATION;VALUE=URI;X-ADDRESS=Bridge Center 432A Stierlin Rd Mountain View CA 94043 United States;X-APPLE-RADIUS=500;X-TITLE=432A Stierlin Rd:geo:-122.0788615,37.4004098
END:VEVENT
BEGIN:VEVENT
DTSTART;TZID=America/Los_Angeles:20250617T090000
DTEND;TZID=America/Los_Angeles:20250617T103000
DTSTAMP:20260423T175904
CREATED:20240509T170759Z
LAST-MODIFIED:20250603T151329Z
UID:48861-1750150800-1750156200@paloaltobridge.org
SUMMARY:Beginning Bridge
DESCRIPTION:Kathy Harper\n(650) 207-1816\nSend Email \n\n\n\nLearn Bridge the modern way in this course designed by Pat Harrington! Each class includes both instruction and practice play. Start playing the very first day! Children & teens welcome. \nFor people who have never played bridge and those people who have played for years but want a refresher course or just to learn the basics. \nNotes will be emailed for all classes. No make-up classes are offered for missed classes. \nOur course instructor is ABTA Master Teacher Kathy Harper. Kathy and our wonderful volunteers give students individual attention which helps our students learn in a fun environment. \nPlease contact Kathy Harper for more information.
URL:https://paloaltobridge.org/event/beginning-bridge-10-february-2025/2025-06-17/
LOCATION:Bridge Center\, 432A Stierlin Rd\, Mountain View\, CA\, 94043\, United States
CATEGORIES:Education Calendar
GEO:37.4004098;-122.0788615
X-APPLE-STRUCTURED-LOCATION;VALUE=URI;X-ADDRESS=Bridge Center 432A Stierlin Rd Mountain View CA 94043 United States;X-APPLE-RADIUS=500;X-TITLE=432A Stierlin Rd:geo:-122.0788615,37.4004098
END:VEVENT
BEGIN:VEVENT
DTSTART;TZID=America/Los_Angeles:20250624T084500
DTEND;TZID=America/Los_Angeles:20250624T103000
DTSTAMP:20260423T175904
CREATED:20230430T055854Z
LAST-MODIFIED:20230430T055854Z
UID:50289-1750754700-1750761000@paloaltobridge.org
SUMMARY:Supervised Play Tuesday Mornings
DESCRIPTION:Kathy Harper\n(650) 207-1816\nSend Email
URL:https://paloaltobridge.org/event/supervised-play-tuesday-mornings-february-2025/2025-06-24/
LOCATION:Bridge Center\, 432A Stierlin Rd\, Mountain View\, CA\, 94043\, United States
CATEGORIES:Education Calendar
GEO:37.4004098;-122.0788615
X-APPLE-STRUCTURED-LOCATION;VALUE=URI;X-ADDRESS=Bridge Center 432A Stierlin Rd Mountain View CA 94043 United States;X-APPLE-RADIUS=500;X-TITLE=432A Stierlin Rd:geo:-122.0788615,37.4004098
END:VEVENT
BEGIN:VEVENT
DTSTART;TZID=America/Los_Angeles:20250624T090000
DTEND;TZID=America/Los_Angeles:20250624T103000
DTSTAMP:20260423T175904
CREATED:20240509T170759Z
LAST-MODIFIED:20240509T170759Z
UID:50290-1750755600-1750761000@paloaltobridge.org
SUMMARY:Beginning Bridge
DESCRIPTION:Kathy Harper\n(650) 207-1816\nSend Email \n\n\n\nLearn Bridge the modern way in this course designed by Pat Harrington! Each class includes both instruction and practice play. Start playing the very first day! Children & teens welcome. \nFor people who have never played bridge and those people who have played for years but want a refresher course or just to learn the basics. \nNotes will be emailed for all classes. No make-up classes are offered for missed classes. \nOur course instructor is ABTA Master Teacher Kathy Harper. Kathy and our wonderful volunteers give students individual attention which helps our students learn in a fun environment. \nPlease contact Kathy Harper for more information.
URL:https://paloaltobridge.org/event/beginning-bridge-10-february-2025/2025-06-24/
LOCATION:Bridge Center\, 432A Stierlin Rd\, Mountain View\, CA\, 94043\, United States
CATEGORIES:Education Calendar
GEO:37.4004098;-122.0788615
X-APPLE-STRUCTURED-LOCATION;VALUE=URI;X-ADDRESS=Bridge Center 432A Stierlin Rd Mountain View CA 94043 United States;X-APPLE-RADIUS=500;X-TITLE=432A Stierlin Rd:geo:-122.0788615,37.4004098
END:VEVENT
END:VCALENDAR