BEGIN:VCALENDAR
VERSION:2.0
PRODID:-//Palo Alto Bridge - ECPv6.15.20//NONSGML v1.0//EN
CALSCALE:GREGORIAN
METHOD:PUBLISH
X-WR-CALNAME:Palo Alto Bridge
X-ORIGINAL-URL:https://paloaltobridge.org
X-WR-CALDESC:Events for Palo Alto Bridge
REFRESH-INTERVAL;VALUE=DURATION:PT1H
X-Robots-Tag:noindex
X-PUBLISHED-TTL:PT1H
BEGIN:VTIMEZONE
TZID:America/Los_Angeles
BEGIN:DAYLIGHT
TZOFFSETFROM:-0800
TZOFFSETTO:-0700
TZNAME:PDT
DTSTART:20190310T100000
END:DAYLIGHT
BEGIN:STANDARD
TZOFFSETFROM:-0700
TZOFFSETTO:-0800
TZNAME:PST
DTSTART:20191103T090000
END:STANDARD
BEGIN:DAYLIGHT
TZOFFSETFROM:-0800
TZOFFSETTO:-0700
TZNAME:PDT
DTSTART:20200308T100000
END:DAYLIGHT
BEGIN:STANDARD
TZOFFSETFROM:-0700
TZOFFSETTO:-0800
TZNAME:PST
DTSTART:20201101T090000
END:STANDARD
BEGIN:DAYLIGHT
TZOFFSETFROM:-0800
TZOFFSETTO:-0700
TZNAME:PDT
DTSTART:20210314T100000
END:DAYLIGHT
BEGIN:STANDARD
TZOFFSETFROM:-0700
TZOFFSETTO:-0800
TZNAME:PST
DTSTART:20211107T090000
END:STANDARD
END:VTIMEZONE
BEGIN:VEVENT
DTSTART;TZID=America/Los_Angeles:20200101T121500
DTEND;TZID=America/Los_Angeles:20200101T160000
DTSTAMP:20260423T033036
CREATED:20191223T075633Z
LAST-MODIFIED:20200611T011157Z
UID:35651-1577880900-1577894400@paloaltobridge.org
SUMMARY:Wednesday Afternoon 299ers
DESCRIPTION:299’er Game.  Stratified according to attendance\, typically 0-99 and 100+.\nPlayers can attend without a partner and be paired with other player or the director.\nA light lunch is served before the game and snacks during the game. \nShort lesson before the game at noon. \nDirector: \n\n\n\n\n\nGabriella Bowling\n(650) 619-0555\nSend Email
URL:https://paloaltobridge.org/event/wednesday-afternoon-299ers/2020-01-01/
LOCATION:Unity Church\, 3391 Middlefield Road\, Palo Alto\, CA\, 94306\, United States
CATEGORIES:Club Games
GEO:37.4268984;-122.1181093
X-APPLE-STRUCTURED-LOCATION;VALUE=URI;X-ADDRESS=Unity Church 3391 Middlefield Road Palo Alto CA 94306 United States;X-APPLE-RADIUS=500;X-TITLE=3391 Middlefield Road:geo:-122.1181093,37.4268984
END:VEVENT
END:VCALENDAR