BEGIN:VCALENDAR
VERSION:2.0
PRODID:-//Palo Alto Bridge - ECPv6.15.20//NONSGML v1.0//EN
CALSCALE:GREGORIAN
METHOD:PUBLISH
X-WR-CALNAME:Palo Alto Bridge
X-ORIGINAL-URL:https://paloaltobridge.org
X-WR-CALDESC:Events for Palo Alto Bridge
REFRESH-INTERVAL;VALUE=DURATION:PT1H
X-Robots-Tag:noindex
X-PUBLISHED-TTL:PT1H
BEGIN:VTIMEZONE
TZID:America/Los_Angeles
BEGIN:DAYLIGHT
TZOFFSETFROM:-0800
TZOFFSETTO:-0700
TZNAME:PDT
DTSTART:20240310T100000
END:DAYLIGHT
BEGIN:STANDARD
TZOFFSETFROM:-0700
TZOFFSETTO:-0800
TZNAME:PST
DTSTART:20241103T090000
END:STANDARD
BEGIN:DAYLIGHT
TZOFFSETFROM:-0800
TZOFFSETTO:-0700
TZNAME:PDT
DTSTART:20250309T100000
END:DAYLIGHT
BEGIN:STANDARD
TZOFFSETFROM:-0700
TZOFFSETTO:-0800
TZNAME:PST
DTSTART:20251102T090000
END:STANDARD
BEGIN:DAYLIGHT
TZOFFSETFROM:-0800
TZOFFSETTO:-0700
TZNAME:PDT
DTSTART:20260308T100000
END:DAYLIGHT
BEGIN:STANDARD
TZOFFSETFROM:-0700
TZOFFSETTO:-0800
TZNAME:PST
DTSTART:20261101T090000
END:STANDARD
BEGIN:DAYLIGHT
TZOFFSETFROM:-0800
TZOFFSETTO:-0700
TZNAME:PDT
DTSTART:20270314T100000
END:DAYLIGHT
BEGIN:STANDARD
TZOFFSETFROM:-0700
TZOFFSETTO:-0800
TZNAME:PST
DTSTART:20271107T090000
END:STANDARD
END:VTIMEZONE
BEGIN:VEVENT
DTSTART;TZID=America/Los_Angeles:20250214T104500
DTEND;TZID=America/Los_Angeles:20250214T140000
DTSTAMP:20260423T033127
CREATED:20250201T034225Z
LAST-MODIFIED:20260121T035748Z
UID:48581-1739529900-1739541600@paloaltobridge.org
SUMMARY:Valentine's Day Game
DESCRIPTION:  \n  \n  \n  \n  \n  \nThe Bridge Center will have Valentine’s Day decorations and themed  goodies galore! \nWear some red and get in the mood. \n❤️❤️❤️    Love will be in the air! ❤️❤️❤️ \nCall your partner and join the fun! \nGoodies available throughout the game and soup and salad will be served as a lite-lunch. \nThere will be an Open and a 0-750 masterpoint section. \nFor planning purposes\, please signup at Valentine’s Day Signup
URL:https://paloaltobridge.org/event/valentines-day-game/2025-02-14/
LOCATION:Bridge Center\, 432A Stierlin Rd\, Mountain View\, CA\, 94043\, United States
CATEGORIES:Special Events
GEO:37.4004098;-122.0788615
X-APPLE-STRUCTURED-LOCATION;VALUE=URI;X-ADDRESS=Bridge Center 432A Stierlin Rd Mountain View CA 94043 United States;X-APPLE-RADIUS=500;X-TITLE=432A Stierlin Rd:geo:-122.0788615,37.4004098
END:VEVENT
BEGIN:VEVENT
DTSTART;TZID=America/Los_Angeles:20260213T104500
DTEND;TZID=America/Los_Angeles:20260213T140000
DTSTAMP:20260423T033127
CREATED:20250201T034225Z
LAST-MODIFIED:20250201T034225Z
UID:91886-1770979500-1770991200@paloaltobridge.org
SUMMARY:Valentine's Day Game
DESCRIPTION:  \n  \n  \n  \n  \n  \nThe Bridge Center will have Valentine’s Day decorations and themed  goodies galore! \nWear some red and get in the mood. \n❤️❤️❤️    Love will be in the air! ❤️❤️❤️ \nCall your partner and join the fun! \nGoodies available throughout the game and soup and salad will be served as a lite-lunch. \nThere will be an Open and a 0-750 masterpoint section. \nFor planning purposes\, please signup at Valentine’s Day Signup
URL:https://paloaltobridge.org/event/valentines-day-game/2026-02-13/
LOCATION:Bridge Center\, 432A Stierlin Rd\, Mountain View\, CA\, 94043\, United States
CATEGORIES:Special Events
GEO:37.4004098;-122.0788615
X-APPLE-STRUCTURED-LOCATION;VALUE=URI;X-ADDRESS=Bridge Center 432A Stierlin Rd Mountain View CA 94043 United States;X-APPLE-RADIUS=500;X-TITLE=432A Stierlin Rd:geo:-122.0788615,37.4004098
END:VEVENT
END:VCALENDAR