BEGIN:VCALENDAR
VERSION:2.0
PRODID:-//Palo Alto Bridge - ECPv6.15.20//NONSGML v1.0//EN
CALSCALE:GREGORIAN
METHOD:PUBLISH
X-WR-CALNAME:Palo Alto Bridge
X-ORIGINAL-URL:https://paloaltobridge.org
X-WR-CALDESC:Events for Palo Alto Bridge
REFRESH-INTERVAL;VALUE=DURATION:PT1H
X-Robots-Tag:noindex
X-PUBLISHED-TTL:PT1H
BEGIN:VTIMEZONE
TZID:America/Los_Angeles
BEGIN:DAYLIGHT
TZOFFSETFROM:-0800
TZOFFSETTO:-0700
TZNAME:PDT
DTSTART:20230312T100000
END:DAYLIGHT
BEGIN:STANDARD
TZOFFSETFROM:-0700
TZOFFSETTO:-0800
TZNAME:PST
DTSTART:20231105T090000
END:STANDARD
BEGIN:DAYLIGHT
TZOFFSETFROM:-0800
TZOFFSETTO:-0700
TZNAME:PDT
DTSTART:20240310T100000
END:DAYLIGHT
BEGIN:STANDARD
TZOFFSETFROM:-0700
TZOFFSETTO:-0800
TZNAME:PST
DTSTART:20241103T090000
END:STANDARD
BEGIN:DAYLIGHT
TZOFFSETFROM:-0800
TZOFFSETTO:-0700
TZNAME:PDT
DTSTART:20250309T100000
END:DAYLIGHT
BEGIN:STANDARD
TZOFFSETFROM:-0700
TZOFFSETTO:-0800
TZNAME:PST
DTSTART:20251102T090000
END:STANDARD
END:VTIMEZONE
BEGIN:VEVENT
DTSTART;TZID=America/Los_Angeles:20240617T190000
DTEND;TZID=America/Los_Angeles:20240617T203000
DTSTAMP:20260423T012615
CREATED:20230430T044707Z
LAST-MODIFIED:20240622T235612Z
UID:43533-1718650800-1718656200@paloaltobridge.org
SUMMARY:Two Over One System
DESCRIPTION:Kathy Harper\n(650) 207-1816\nSend Email \n\n\n\nTwo Over One (2/1)  is a bidding system in modern bridge.  It is a very popular system in the United States.  When the auction begins  1/1/1\, a 2 level response (non-jump) in a new suit is forcing to game. \nThis Basic-Intermediate Bridge Class builds upon our Beginning Bridge Classes and prepares our students for our Intermediate Classes. \nNotes will be emailed for all classes. No make-up classes are offered for missed classes. \nOur course instructor is ABTA Master Teacher Kathy Harper. Kathy and our wonderful volunteers give students individual attention which helps our students learn in a fun environment. \nPlease contact Kathy Harper at (650) 207-1816 email for additional information. \n\n\n\n\n\n2 Over 1\nDates\n\n\n\n\n\nForcing No Trump by Responder  & Opener’s Rebid After the Forcing No Trump\nJune 17\, 2024\n\n\n\nResponder’s Rebid after Bidding the Forcing No Trump\nJune 24\n\n\n\nTwo Over One Auctions\nJuly 1\n\n\n\nOpener’s Rebid after Partner Uses Two Over One\nJuly 8\n\n\n\nResponder’s Rebid after Using Two Over One\nJuly 22\n\n\n\nPractice Hands\nJuly 29
URL:https://paloaltobridge.org/event/two-over-one-6-june-2024/2024-06-17/
LOCATION:Bridge Center\, 432A Stierlin Rd\, Mountain View\, CA\, 94043\, United States
CATEGORIES:Education Calendar
GEO:37.4004098;-122.0788615
X-APPLE-STRUCTURED-LOCATION;VALUE=URI;X-ADDRESS=Bridge Center 432A Stierlin Rd Mountain View CA 94043 United States;X-APPLE-RADIUS=500;X-TITLE=432A Stierlin Rd:geo:-122.0788615,37.4004098
END:VEVENT
BEGIN:VEVENT
DTSTART;TZID=America/Los_Angeles:20240624T190000
DTEND;TZID=America/Los_Angeles:20240624T203000
DTSTAMP:20260423T012615
CREATED:20230430T044707Z
LAST-MODIFIED:20240622T235613Z
UID:45829-1719255600-1719261000@paloaltobridge.org
SUMMARY:Two Over One System
DESCRIPTION:Kathy Harper\n(650) 207-1816\nSend Email \n\n\n\nTwo Over One (2/1)  is a bidding system in modern bridge.  It is a very popular system in the United States.  When the auction begins  1/1/1\, a 2 level response (non-jump) in a new suit is forcing to game. \nThis Basic-Intermediate Bridge Class builds upon our Beginning Bridge Classes and prepares our students for our Intermediate Classes. \nNotes will be emailed for all classes. No make-up classes are offered for missed classes. \nOur course instructor is ABTA Master Teacher Kathy Harper. Kathy and our wonderful volunteers give students individual attention which helps our students learn in a fun environment. \nPlease contact Kathy Harper at (650) 207-1816 email for additional information. \n\n\n\n\n\n2 Over 1\nDates\n\n\n\n\n\nForcing No Trump by Responder  & Opener’s Rebid After the Forcing No Trump\nJune 17\, 2024\n\n\n\nResponder’s Rebid after Bidding the Forcing No Trump\nJune 24\n\n\n\nTwo Over One Auctions\nJuly 1\n\n\n\nOpener’s Rebid after Partner Uses Two Over One\nJuly 8\n\n\n\nResponder’s Rebid after Using Two Over One\nJuly 22\n\n\n\nPractice Hands\nJuly 29
URL:https://paloaltobridge.org/event/two-over-one-6-june-2024/2024-06-24/
LOCATION:Bridge Center\, 432A Stierlin Rd\, Mountain View\, CA\, 94043\, United States
CATEGORIES:Education Calendar
GEO:37.4004098;-122.0788615
X-APPLE-STRUCTURED-LOCATION;VALUE=URI;X-ADDRESS=Bridge Center 432A Stierlin Rd Mountain View CA 94043 United States;X-APPLE-RADIUS=500;X-TITLE=432A Stierlin Rd:geo:-122.0788615,37.4004098
END:VEVENT
BEGIN:VEVENT
DTSTART;TZID=America/Los_Angeles:20240701T190000
DTEND;TZID=America/Los_Angeles:20240701T203000
DTSTAMP:20260423T012615
CREATED:20230430T044707Z
LAST-MODIFIED:20240622T235613Z
UID:45830-1719860400-1719865800@paloaltobridge.org
SUMMARY:Two Over One System
DESCRIPTION:Kathy Harper\n(650) 207-1816\nSend Email \n\n\n\nTwo Over One (2/1)  is a bidding system in modern bridge.  It is a very popular system in the United States.  When the auction begins  1/1/1\, a 2 level response (non-jump) in a new suit is forcing to game. \nThis Basic-Intermediate Bridge Class builds upon our Beginning Bridge Classes and prepares our students for our Intermediate Classes. \nNotes will be emailed for all classes. No make-up classes are offered for missed classes. \nOur course instructor is ABTA Master Teacher Kathy Harper. Kathy and our wonderful volunteers give students individual attention which helps our students learn in a fun environment. \nPlease contact Kathy Harper at (650) 207-1816 email for additional information. \n\n\n\n\n\n2 Over 1\nDates\n\n\n\n\n\nForcing No Trump by Responder  & Opener’s Rebid After the Forcing No Trump\nJune 17\, 2024\n\n\n\nResponder’s Rebid after Bidding the Forcing No Trump\nJune 24\n\n\n\nTwo Over One Auctions\nJuly 1\n\n\n\nOpener’s Rebid after Partner Uses Two Over One\nJuly 8\n\n\n\nResponder’s Rebid after Using Two Over One\nJuly 22\n\n\n\nPractice Hands\nJuly 29
URL:https://paloaltobridge.org/event/two-over-one-6-june-2024/2024-07-01/
LOCATION:Bridge Center\, 432A Stierlin Rd\, Mountain View\, CA\, 94043\, United States
CATEGORIES:Education Calendar
GEO:37.4004098;-122.0788615
X-APPLE-STRUCTURED-LOCATION;VALUE=URI;X-ADDRESS=Bridge Center 432A Stierlin Rd Mountain View CA 94043 United States;X-APPLE-RADIUS=500;X-TITLE=432A Stierlin Rd:geo:-122.0788615,37.4004098
END:VEVENT
BEGIN:VEVENT
DTSTART;TZID=America/Los_Angeles:20240708T190000
DTEND;TZID=America/Los_Angeles:20240708T203000
DTSTAMP:20260423T012615
CREATED:20230430T044707Z
LAST-MODIFIED:20240622T235613Z
UID:45831-1720465200-1720470600@paloaltobridge.org
SUMMARY:Two Over One System
DESCRIPTION:Kathy Harper\n(650) 207-1816\nSend Email \n\n\n\nTwo Over One (2/1)  is a bidding system in modern bridge.  It is a very popular system in the United States.  When the auction begins  1/1/1\, a 2 level response (non-jump) in a new suit is forcing to game. \nThis Basic-Intermediate Bridge Class builds upon our Beginning Bridge Classes and prepares our students for our Intermediate Classes. \nNotes will be emailed for all classes. No make-up classes are offered for missed classes. \nOur course instructor is ABTA Master Teacher Kathy Harper. Kathy and our wonderful volunteers give students individual attention which helps our students learn in a fun environment. \nPlease contact Kathy Harper at (650) 207-1816 email for additional information. \n\n\n\n\n\n2 Over 1\nDates\n\n\n\n\n\nForcing No Trump by Responder  & Opener’s Rebid After the Forcing No Trump\nJune 17\, 2024\n\n\n\nResponder’s Rebid after Bidding the Forcing No Trump\nJune 24\n\n\n\nTwo Over One Auctions\nJuly 1\n\n\n\nOpener’s Rebid after Partner Uses Two Over One\nJuly 8\n\n\n\nResponder’s Rebid after Using Two Over One\nJuly 22\n\n\n\nPractice Hands\nJuly 29
URL:https://paloaltobridge.org/event/two-over-one-6-june-2024/2024-07-08/
LOCATION:Bridge Center\, 432A Stierlin Rd\, Mountain View\, CA\, 94043\, United States
CATEGORIES:Education Calendar
GEO:37.4004098;-122.0788615
X-APPLE-STRUCTURED-LOCATION;VALUE=URI;X-ADDRESS=Bridge Center 432A Stierlin Rd Mountain View CA 94043 United States;X-APPLE-RADIUS=500;X-TITLE=432A Stierlin Rd:geo:-122.0788615,37.4004098
END:VEVENT
BEGIN:VEVENT
DTSTART;TZID=America/Los_Angeles:20240722T190000
DTEND;TZID=America/Los_Angeles:20240722T203000
DTSTAMP:20260423T012615
CREATED:20230430T044707Z
LAST-MODIFIED:20240622T235613Z
UID:45832-1721674800-1721680200@paloaltobridge.org
SUMMARY:Two Over One System
DESCRIPTION:Kathy Harper\n(650) 207-1816\nSend Email \n\n\n\nTwo Over One (2/1)  is a bidding system in modern bridge.  It is a very popular system in the United States.  When the auction begins  1/1/1\, a 2 level response (non-jump) in a new suit is forcing to game. \nThis Basic-Intermediate Bridge Class builds upon our Beginning Bridge Classes and prepares our students for our Intermediate Classes. \nNotes will be emailed for all classes. No make-up classes are offered for missed classes. \nOur course instructor is ABTA Master Teacher Kathy Harper. Kathy and our wonderful volunteers give students individual attention which helps our students learn in a fun environment. \nPlease contact Kathy Harper at (650) 207-1816 email for additional information. \n\n\n\n\n\n2 Over 1\nDates\n\n\n\n\n\nForcing No Trump by Responder  & Opener’s Rebid After the Forcing No Trump\nJune 17\, 2024\n\n\n\nResponder’s Rebid after Bidding the Forcing No Trump\nJune 24\n\n\n\nTwo Over One Auctions\nJuly 1\n\n\n\nOpener’s Rebid after Partner Uses Two Over One\nJuly 8\n\n\n\nResponder’s Rebid after Using Two Over One\nJuly 22\n\n\n\nPractice Hands\nJuly 29
URL:https://paloaltobridge.org/event/two-over-one-6-june-2024/2024-07-22/
LOCATION:Bridge Center\, 432A Stierlin Rd\, Mountain View\, CA\, 94043\, United States
CATEGORIES:Education Calendar
GEO:37.4004098;-122.0788615
X-APPLE-STRUCTURED-LOCATION;VALUE=URI;X-ADDRESS=Bridge Center 432A Stierlin Rd Mountain View CA 94043 United States;X-APPLE-RADIUS=500;X-TITLE=432A Stierlin Rd:geo:-122.0788615,37.4004098
END:VEVENT
BEGIN:VEVENT
DTSTART;TZID=America/Los_Angeles:20240729T190000
DTEND;TZID=America/Los_Angeles:20240729T203000
DTSTAMP:20260423T012615
CREATED:20230430T044707Z
LAST-MODIFIED:20240622T235614Z
UID:45833-1722279600-1722285000@paloaltobridge.org
SUMMARY:Two Over One System
DESCRIPTION:Kathy Harper\n(650) 207-1816\nSend Email \n\n\n\nTwo Over One (2/1)  is a bidding system in modern bridge.  It is a very popular system in the United States.  When the auction begins  1/1/1\, a 2 level response (non-jump) in a new suit is forcing to game. \nThis Basic-Intermediate Bridge Class builds upon our Beginning Bridge Classes and prepares our students for our Intermediate Classes. \nNotes will be emailed for all classes. No make-up classes are offered for missed classes. \nOur course instructor is ABTA Master Teacher Kathy Harper. Kathy and our wonderful volunteers give students individual attention which helps our students learn in a fun environment. \nPlease contact Kathy Harper at (650) 207-1816 email for additional information. \n\n\n\n\n\n2 Over 1\nDates\n\n\n\n\n\nForcing No Trump by Responder  & Opener’s Rebid After the Forcing No Trump\nJune 17\, 2024\n\n\n\nResponder’s Rebid after Bidding the Forcing No Trump\nJune 24\n\n\n\nTwo Over One Auctions\nJuly 1\n\n\n\nOpener’s Rebid after Partner Uses Two Over One\nJuly 8\n\n\n\nResponder’s Rebid after Using Two Over One\nJuly 22\n\n\n\nPractice Hands\nJuly 29
URL:https://paloaltobridge.org/event/two-over-one-6-june-2024/2024-07-29/
LOCATION:Bridge Center\, 432A Stierlin Rd\, Mountain View\, CA\, 94043\, United States
CATEGORIES:Education Calendar
GEO:37.4004098;-122.0788615
X-APPLE-STRUCTURED-LOCATION;VALUE=URI;X-ADDRESS=Bridge Center 432A Stierlin Rd Mountain View CA 94043 United States;X-APPLE-RADIUS=500;X-TITLE=432A Stierlin Rd:geo:-122.0788615,37.4004098
END:VEVENT
END:VCALENDAR