BEGIN:VCALENDAR
VERSION:2.0
PRODID:-//Palo Alto Bridge - ECPv6.15.20//NONSGML v1.0//EN
CALSCALE:GREGORIAN
METHOD:PUBLISH
X-WR-CALNAME:Palo Alto Bridge
X-ORIGINAL-URL:https://paloaltobridge.org
X-WR-CALDESC:Events for Palo Alto Bridge
REFRESH-INTERVAL;VALUE=DURATION:PT1H
X-Robots-Tag:noindex
X-PUBLISHED-TTL:PT1H
BEGIN:VTIMEZONE
TZID:America/Los_Angeles
BEGIN:DAYLIGHT
TZOFFSETFROM:-0800
TZOFFSETTO:-0700
TZNAME:PDT
DTSTART:20170312T100000
END:DAYLIGHT
BEGIN:STANDARD
TZOFFSETFROM:-0700
TZOFFSETTO:-0800
TZNAME:PST
DTSTART:20171105T090000
END:STANDARD
BEGIN:DAYLIGHT
TZOFFSETFROM:-0800
TZOFFSETTO:-0700
TZNAME:PDT
DTSTART:20180311T100000
END:DAYLIGHT
BEGIN:STANDARD
TZOFFSETFROM:-0700
TZOFFSETTO:-0800
TZNAME:PST
DTSTART:20181104T090000
END:STANDARD
BEGIN:DAYLIGHT
TZOFFSETFROM:-0800
TZOFFSETTO:-0700
TZNAME:PDT
DTSTART:20190310T100000
END:DAYLIGHT
BEGIN:STANDARD
TZOFFSETFROM:-0700
TZOFFSETTO:-0800
TZNAME:PST
DTSTART:20191103T090000
END:STANDARD
END:VTIMEZONE
BEGIN:VEVENT
DTSTART;TZID=America/Los_Angeles:20180724T120000
DTEND;TZID=America/Los_Angeles:20180724T153000
DTSTAMP:20260423T030425
CREATED:20180724T041639Z
LAST-MODIFIED:20180826T155114Z
UID:26262-1532433600-1532446200@paloaltobridge.org
SUMMARY:Tuesday Noon BC North American Pairs (NAP)
DESCRIPTION:Please see regularly scheduled game for additional information.
URL:https://paloaltobridge.org/event/tuesday-noon-bc-north-american-pairs-nap/2018-07-24/
LOCATION:Unity Church\, 3391 Middlefield Road\, Palo Alto\, CA\, 94306\, United States
CATEGORIES:Special Events
GEO:37.4268984;-122.1181093
X-APPLE-STRUCTURED-LOCATION;VALUE=URI;X-ADDRESS=Unity Church 3391 Middlefield Road Palo Alto CA 94306 United States;X-APPLE-RADIUS=500;X-TITLE=3391 Middlefield Road:geo:-122.1181093,37.4268984
END:VEVENT
END:VCALENDAR