BEGIN:VCALENDAR
VERSION:2.0
PRODID:-//Palo Alto Bridge - ECPv6.15.20//NONSGML v1.0//EN
CALSCALE:GREGORIAN
METHOD:PUBLISH
X-WR-CALNAME:Palo Alto Bridge
X-ORIGINAL-URL:https://paloaltobridge.org
X-WR-CALDESC:Events for Palo Alto Bridge
REFRESH-INTERVAL;VALUE=DURATION:PT1H
X-Robots-Tag:noindex
X-PUBLISHED-TTL:PT1H
BEGIN:VTIMEZONE
TZID:America/Los_Angeles
BEGIN:DAYLIGHT
TZOFFSETFROM:-0800
TZOFFSETTO:-0700
TZNAME:PDT
DTSTART:20160313T100000
END:DAYLIGHT
BEGIN:STANDARD
TZOFFSETFROM:-0700
TZOFFSETTO:-0800
TZNAME:PST
DTSTART:20161106T090000
END:STANDARD
BEGIN:DAYLIGHT
TZOFFSETFROM:-0800
TZOFFSETTO:-0700
TZNAME:PDT
DTSTART:20170312T100000
END:DAYLIGHT
BEGIN:STANDARD
TZOFFSETFROM:-0700
TZOFFSETTO:-0800
TZNAME:PST
DTSTART:20171105T090000
END:STANDARD
BEGIN:DAYLIGHT
TZOFFSETFROM:-0800
TZOFFSETTO:-0700
TZNAME:PDT
DTSTART:20180311T100000
END:DAYLIGHT
BEGIN:STANDARD
TZOFFSETFROM:-0700
TZOFFSETTO:-0800
TZNAME:PST
DTSTART:20181104T090000
END:STANDARD
END:VTIMEZONE
BEGIN:VEVENT
DTSTART;TZID=America/Los_Angeles:20170421T161500
DTEND;TZID=America/Los_Angeles:20170421T183000
DTSTAMP:20260423T063601
CREATED:20180329T163432Z
LAST-MODIFIED:20180808T035959Z
UID:2830-1492791300-1492799400@paloaltobridge.org
SUMMARY:Six Weeks to Superior Slam Bidding
DESCRIPTION:[vc_row][vc_column][vc_column_text] \n\n\n\n\nDebbie Rosenberg\n(408) 320-4473\nSend Email \n\n\n\n[/vc_column_text][vc_column_text]This is an Intermediate course\, leaning toward advanced intermediate. At least two years of duplicate bridge experience is assumed\, along with sound fundamental knowledge of both bidding and card play. \n\nWhen is 4NT Quantitative?\nHow can my partner and I get more value out of the conventions we are already playing?\nShould I bid RKCB\, cuebid a control\, or neither?\nHow can I go beyond counting points\, and start thinking about slam bidding like a pro?\n\nThis course will answer the above questions and more! \nEach lesson will contain practice deals. Lecture notes and copies of deals played\, with analysis\, will be distributed via email. Some basic familiarity with the slam bidding conventions covered will be assumed. \nLessons are not offered on a per-session basis. While it is ideal to attend this course with a partner\, it is not required. If you miss a class\, please do not send a substitute. \nClass size will be limited to 12 tables. Pre-registration is required. You will need to send payment to hold your place after registering. \nClasses include coffee and cookies – please bring additional snacks you desired. \nThe course instructor is Debbie Rosenberg who is an ACBL Grand Master\, six-time NABC winner and three-time World Champion with 30 years of teaching experience. \nThe course will be held at our Bridge Center. \nFor more information contact Debbie Rosenberg email (preferred) (408) 320-4473. \n\n\n\n\n\nSix Weeks to Solid Slam Bidding\nFriday Afternoons\n4:15 PM to 6:30 PM\n\n\n\n\n\nQuantitative 4N & Gerber\nApril 21\, 2017\n\n\n\nSplinters\nApril 28\n\n\n\nJacoby 2N\nMay 5\n\n\n\nRKCB 1430\nMay 12\n\n\n\nControl Bidding\nMay 19\n\n\n\n5 of a Major Slam Try & Review of Course\nJune 9\n\n\n\n*Possible makeup date in case of schedule change\nJune 16*\n\n\n\n\n\n\n\n\n\n*After registering\, please send check in the amount of $150 to hold your spot to:\nDebbie Rosenberg\n21327 Glen Place Apt 8\nCupertino\, CA 95014 \nOr send electronic payment(sorry\, no PayPal) to Debbie at debrose5900@gmail.com.[/vc_column_text][/vc_column][/vc_row]
URL:https://paloaltobridge.org/event/six-weeks-to-superior-slam-bidding/2017-04-21/
LOCATION:Bridge Center\, 432A Stierlin Rd\, Mountain View\, CA\, 94043\, United States
CATEGORIES:Education Calendar
GEO:37.4004098;-122.0788615
X-APPLE-STRUCTURED-LOCATION;VALUE=URI;X-ADDRESS=Bridge Center 432A Stierlin Rd Mountain View CA 94043 United States;X-APPLE-RADIUS=500;X-TITLE=432A Stierlin Rd:geo:-122.0788615,37.4004098
END:VEVENT
END:VCALENDAR