BEGIN:VCALENDAR
VERSION:2.0
PRODID:-//Palo Alto Bridge - ECPv6.15.20//NONSGML v1.0//EN
CALSCALE:GREGORIAN
METHOD:PUBLISH
X-ORIGINAL-URL:https://paloaltobridge.org
X-WR-CALDESC:Events for Palo Alto Bridge
REFRESH-INTERVAL;VALUE=DURATION:PT1H
X-Robots-Tag:noindex
X-PUBLISHED-TTL:PT1H
BEGIN:VTIMEZONE
TZID:America/Los_Angeles
BEGIN:DAYLIGHT
TZOFFSETFROM:-0800
TZOFFSETTO:-0700
TZNAME:PDT
DTSTART:20230312T100000
END:DAYLIGHT
BEGIN:STANDARD
TZOFFSETFROM:-0700
TZOFFSETTO:-0800
TZNAME:PST
DTSTART:20231105T090000
END:STANDARD
BEGIN:DAYLIGHT
TZOFFSETFROM:-0800
TZOFFSETTO:-0700
TZNAME:PDT
DTSTART:20240310T100000
END:DAYLIGHT
BEGIN:STANDARD
TZOFFSETFROM:-0700
TZOFFSETTO:-0800
TZNAME:PST
DTSTART:20241103T090000
END:STANDARD
BEGIN:DAYLIGHT
TZOFFSETFROM:-0800
TZOFFSETTO:-0700
TZNAME:PDT
DTSTART:20250309T100000
END:DAYLIGHT
BEGIN:STANDARD
TZOFFSETFROM:-0700
TZOFFSETTO:-0800
TZNAME:PST
DTSTART:20251102T090000
END:STANDARD
END:VTIMEZONE
BEGIN:VEVENT
DTSTART;TZID=America/Los_Angeles:20241221T130000
DTEND;TZID=America/Los_Angeles:20241221T163000
DTSTAMP:20260423T101846
CREATED:20240922T174915Z
LAST-MODIFIED:20240922T174915Z
UID:47923-1734786000-1734798600@paloaltobridge.org
SUMMARY:Shoreline DBC Club Open
DESCRIPTION:October 19 – Club Game \nNovember 16 – Club Game \nDecember 21 – Club Championship (extra points)
URL:https://paloaltobridge.org/event/shoreline-dbc-club-open/2024-12-21/
LOCATION:Bridge Center\, 432A Stierlin Rd\, Mountain View\, CA\, 94043\, United States
CATEGORIES:Club Games
GEO:37.4004098;-122.0788615
X-APPLE-STRUCTURED-LOCATION;VALUE=URI;X-ADDRESS=Bridge Center 432A Stierlin Rd Mountain View CA 94043 United States;X-APPLE-RADIUS=500;X-TITLE=432A Stierlin Rd:geo:-122.0788615,37.4004098
END:VEVENT
BEGIN:VEVENT
DTSTART;TZID=America/Los_Angeles:20241116T130000
DTEND;TZID=America/Los_Angeles:20241116T163000
DTSTAMP:20260423T101846
CREATED:20240922T174915Z
LAST-MODIFIED:20240922T174915Z
UID:47922-1731762000-1731774600@paloaltobridge.org
SUMMARY:Shoreline DBC Club Open
DESCRIPTION:October 19 – Club Game \nNovember 16 – Club Game \nDecember 21 – Club Championship (extra points)
URL:https://paloaltobridge.org/event/shoreline-dbc-club-open/2024-11-16/
LOCATION:Bridge Center\, 432A Stierlin Rd\, Mountain View\, CA\, 94043\, United States
CATEGORIES:Club Games
GEO:37.4004098;-122.0788615
X-APPLE-STRUCTURED-LOCATION;VALUE=URI;X-ADDRESS=Bridge Center 432A Stierlin Rd Mountain View CA 94043 United States;X-APPLE-RADIUS=500;X-TITLE=432A Stierlin Rd:geo:-122.0788615,37.4004098
END:VEVENT
BEGIN:VEVENT
DTSTART;TZID=America/Los_Angeles:20241019T130000
DTEND;TZID=America/Los_Angeles:20241019T163000
DTSTAMP:20260423T101846
CREATED:20240922T174915Z
LAST-MODIFIED:20240922T174915Z
UID:45962-1729342800-1729355400@paloaltobridge.org
SUMMARY:Shoreline DBC Club Open
DESCRIPTION:October 19 – Club Game \nNovember 16 – Club Game \nDecember 21 – Club Championship (extra points)
URL:https://paloaltobridge.org/event/shoreline-dbc-club-open/2024-10-19/
LOCATION:Bridge Center\, 432A Stierlin Rd\, Mountain View\, CA\, 94043\, United States
CATEGORIES:Club Games
GEO:37.4004098;-122.0788615
X-APPLE-STRUCTURED-LOCATION;VALUE=URI;X-ADDRESS=Bridge Center 432A Stierlin Rd Mountain View CA 94043 United States;X-APPLE-RADIUS=500;X-TITLE=432A Stierlin Rd:geo:-122.0788615,37.4004098
END:VEVENT
END:VCALENDAR