BEGIN:VCALENDAR
VERSION:2.0
PRODID:-//Palo Alto Bridge - ECPv6.15.20//NONSGML v1.0//EN
CALSCALE:GREGORIAN
METHOD:PUBLISH
X-WR-CALNAME:Palo Alto Bridge
X-ORIGINAL-URL:https://paloaltobridge.org
X-WR-CALDESC:Events for Palo Alto Bridge
REFRESH-INTERVAL;VALUE=DURATION:PT1H
X-Robots-Tag:noindex
X-PUBLISHED-TTL:PT1H
BEGIN:VTIMEZONE
TZID:America/Los_Angeles
BEGIN:DAYLIGHT
TZOFFSETFROM:-0800
TZOFFSETTO:-0700
TZNAME:PDT
DTSTART:20160313T100000
END:DAYLIGHT
BEGIN:STANDARD
TZOFFSETFROM:-0700
TZOFFSETTO:-0800
TZNAME:PST
DTSTART:20161106T090000
END:STANDARD
BEGIN:DAYLIGHT
TZOFFSETFROM:-0800
TZOFFSETTO:-0700
TZNAME:PDT
DTSTART:20170312T100000
END:DAYLIGHT
BEGIN:STANDARD
TZOFFSETFROM:-0700
TZOFFSETTO:-0800
TZNAME:PST
DTSTART:20171105T090000
END:STANDARD
BEGIN:DAYLIGHT
TZOFFSETFROM:-0800
TZOFFSETTO:-0700
TZNAME:PDT
DTSTART:20180311T100000
END:DAYLIGHT
BEGIN:STANDARD
TZOFFSETFROM:-0700
TZOFFSETTO:-0800
TZNAME:PST
DTSTART:20181104T090000
END:STANDARD
END:VTIMEZONE
BEGIN:VEVENT
DTSTART;TZID=America/Los_Angeles:20170401T140000
DTEND;TZID=America/Los_Angeles:20170401T170000
DTSTAMP:20260423T063514
CREATED:20180329T151620Z
LAST-MODIFIED:20180808T035828Z
UID:2803-1491055200-1491066000@paloaltobridge.org
SUMMARY:Saturday Afternoon Squeezes
DESCRIPTION:[vc_row][vc_column][vc_column_text] \n\n\n\n\nDebbie Rosenberg\n(408) 320-4473\nSend Email \n\n\n\n[/vc_column_text][vc_column_text]This workshop is intended for experienced tournament players\, generally of at least Life Master level (though LM status is not required). The first session will introduce various common squeeze techniques\, and reinforce them through the play of practice deals. The second session will consist primarily of more practice deals\, on which various advanced bidding concepts will also be explored. \nObscure squeezes\, of the type usually executed only in books\, won’t be covered. The goal is to help you successfully execute the types of squeezes experts routinely get right at the table\, rather than trying to solve esoteric problems which even world class players struggle with. \nLecture notes\, and copies of all deals played in class\, with analysis will be provided via email. \nWhile it is ideal to attend this course with a partner\, it is not required. \nClass size will be limited to 14 tables. Pre-registration is required. You will need to send payment to hold your place after registering. \nCoffee and light snacks will be provided. \nThe workshop instructor is Debbie Rosenberg who is an ACBL Grand Master\, six-time NABC winner and three-time World Champion with 30 years of teaching experience. \nThe workshop will be held at our Bridge Center. \nFor more information contact Debbie Rosenberg debrose5900@gmail.com (preferred) (408) 320-4473. \n\n\n\n\nSaturday Afternoon Squeezes\nSaturday Afternoons\n2 PM to 5 PM\n\n\n\n\nSession 1: Introduces various common squeeze techniques\, and reinforces them through the play of a few practice deals.\nApril 1\, 2017\n\n\nSession 2: More practice deals on which various advanced bidding concepts will also be discussed.\nApril 15\, 2017\n\n\n\n\n*After registering\, please send check in the amount of $70 (35 for youth) to hold your spot to:\nDebbie Rosenberg\n21327 Glen Place Apt 8\nCupertino\, CA 95014 \nOr send electronic payment (sorry\, no PayPal) to Debbie at debrose5900@gmail.com.[/vc_column_text][/vc_column][/vc_row]
URL:https://paloaltobridge.org/event/saturday-afternoon-squeezes/2017-04-01/
LOCATION:Bridge Center\, 432A Stierlin Rd\, Mountain View\, CA\, 94043\, United States
CATEGORIES:Education Calendar
GEO:37.4004098;-122.0788615
X-APPLE-STRUCTURED-LOCATION;VALUE=URI;X-ADDRESS=Bridge Center 432A Stierlin Rd Mountain View CA 94043 United States;X-APPLE-RADIUS=500;X-TITLE=432A Stierlin Rd:geo:-122.0788615,37.4004098
END:VEVENT
END:VCALENDAR