BEGIN:VCALENDAR
VERSION:2.0
PRODID:-//Palo Alto Bridge - ECPv6.15.20//NONSGML v1.0//EN
CALSCALE:GREGORIAN
METHOD:PUBLISH
X-WR-CALNAME:Palo Alto Bridge
X-ORIGINAL-URL:https://paloaltobridge.org
X-WR-CALDESC:Events for Palo Alto Bridge
REFRESH-INTERVAL;VALUE=DURATION:PT1H
X-Robots-Tag:noindex
X-PUBLISHED-TTL:PT1H
BEGIN:VTIMEZONE
TZID:America/Los_Angeles
BEGIN:DAYLIGHT
TZOFFSETFROM:-0800
TZOFFSETTO:-0700
TZNAME:PDT
DTSTART:20210314T100000
END:DAYLIGHT
BEGIN:STANDARD
TZOFFSETFROM:-0700
TZOFFSETTO:-0800
TZNAME:PST
DTSTART:20211107T090000
END:STANDARD
BEGIN:DAYLIGHT
TZOFFSETFROM:-0800
TZOFFSETTO:-0700
TZNAME:PDT
DTSTART:20220313T100000
END:DAYLIGHT
BEGIN:STANDARD
TZOFFSETFROM:-0700
TZOFFSETTO:-0800
TZNAME:PST
DTSTART:20221106T090000
END:STANDARD
BEGIN:DAYLIGHT
TZOFFSETFROM:-0800
TZOFFSETTO:-0700
TZNAME:PDT
DTSTART:20230312T100000
END:DAYLIGHT
BEGIN:STANDARD
TZOFFSETFROM:-0700
TZOFFSETTO:-0800
TZNAME:PST
DTSTART:20231105T090000
END:STANDARD
END:VTIMEZONE
BEGIN:VEVENT
DTSTART;TZID=America/Los_Angeles:20220913T083000
DTEND;TZID=America/Los_Angeles:20220913T103000
DTSTAMP:20260423T101024
CREATED:20200223T182746Z
LAST-MODIFIED:20220911T234850Z
UID:36882-1663057800-1663065000@paloaltobridge.org
SUMMARY:Polish Your Basics
DESCRIPTION:Kathy Harper\n(650) 207-1816\nSend Email \n\n\n\nReview and refine your bidding in this class for second year students or players who have been away from the game.  Expand your understanding of the new style of bidding as we explore auctions that are not discussed in many bridge courses. Written by Pat Harrington \nThis Basic-Intermediate Bridge Class builds upon our Beginning Bridge Classes and prepares our students for our Intermediate Classes. \nNotes will be emailed for all classes. No make-up classes are offered for missed classes. \nOur course instructor is ABTA Master Teacher Kathy Harper. Kathy and our wonderful volunteers give students individual attention which helps our students learn in a fun environment. \nPlease contact Kathy Harper at (650) 207-1816 email for additional information. \n\n\n\n\n\nPLAY & LEARN Polish Your Basics\nDates\n\n\n\n\n\nCategorize Your Strength! How declarer uses discards. Quick losers.\nSeptember 13\, 2022\n\n\n\nWhich Suit do I bid first? Bidding distributional hands.\nSeptember 27\n\n\n\nBidding balanced Hands. Stayman.\nOctober 11\n\n\n\nWhen you don’t have game\, stop at a reasonable LOW spot.\nOctober 25\n\n\n\nHelp suit game tries with single raise in the majors.\nNovember 8\n\n\n\nMajor suit limit raises. Why four-card support?\nNovember 22\n\n\n\n“Newplicate”\, the “Weak Freak” and how to show a good major raise.\nDecember 6\n\n\n\nHow to avoid rebidding a five-card suit. Reverses.\nDecember 13\n\n\n\nResponder’s only forcing bid.\nJanuary 17\, 2023\n\n\n\nWhen a New Suit by Responder is NOT forcing.\nJanuary 31
URL:https://paloaltobridge.org/event/polish-your-basics-10-sept-2022/2022-09-13/
LOCATION:Bridge Center\, 432A Stierlin Rd\, Mountain View\, CA\, 94043\, United States
CATEGORIES:Education Calendar
GEO:37.4004098;-122.0788615
X-APPLE-STRUCTURED-LOCATION;VALUE=URI;X-ADDRESS=Bridge Center 432A Stierlin Rd Mountain View CA 94043 United States;X-APPLE-RADIUS=500;X-TITLE=432A Stierlin Rd:geo:-122.0788615,37.4004098
END:VEVENT
END:VCALENDAR