BEGIN:VCALENDAR
VERSION:2.0
PRODID:-//Palo Alto Bridge - ECPv6.15.20//NONSGML v1.0//EN
CALSCALE:GREGORIAN
METHOD:PUBLISH
X-WR-CALNAME:Palo Alto Bridge
X-ORIGINAL-URL:https://paloaltobridge.org
X-WR-CALDESC:Events for Palo Alto Bridge
REFRESH-INTERVAL;VALUE=DURATION:PT1H
X-Robots-Tag:noindex
X-PUBLISHED-TTL:PT1H
BEGIN:VTIMEZONE
TZID:America/Los_Angeles
BEGIN:DAYLIGHT
TZOFFSETFROM:-0800
TZOFFSETTO:-0700
TZNAME:PDT
DTSTART:20170312T100000
END:DAYLIGHT
BEGIN:STANDARD
TZOFFSETFROM:-0700
TZOFFSETTO:-0800
TZNAME:PST
DTSTART:20171105T090000
END:STANDARD
BEGIN:DAYLIGHT
TZOFFSETFROM:-0800
TZOFFSETTO:-0700
TZNAME:PDT
DTSTART:20180311T100000
END:DAYLIGHT
BEGIN:STANDARD
TZOFFSETFROM:-0700
TZOFFSETTO:-0800
TZNAME:PST
DTSTART:20181104T090000
END:STANDARD
BEGIN:DAYLIGHT
TZOFFSETFROM:-0800
TZOFFSETTO:-0700
TZNAME:PDT
DTSTART:20190310T100000
END:DAYLIGHT
BEGIN:STANDARD
TZOFFSETFROM:-0700
TZOFFSETTO:-0800
TZNAME:PST
DTSTART:20191103T090000
END:STANDARD
END:VTIMEZONE
BEGIN:VEVENT
DTSTART;TZID=America/Los_Angeles:20180103T103000
DTEND;TZID=America/Los_Angeles:20180103T143000
DTSTAMP:20260422T194318
CREATED:20180604T234432Z
LAST-MODIFIED:20200611T012707Z
UID:17724-1514975400-1514989800@paloaltobridge.org
SUMMARY:MCC Duplicate Bridge Club
DESCRIPTION:Invitational/Stratified Game \nRestricted to members of the Menlo Circus Club and guests.  Location may vary. \nDirector: \n\n\n\n\n\nGabrielle Bowling\n(650) 619-0555\nSend Email
URL:https://paloaltobridge.org/event/mcc-duplicate-bridge-club/2018-01-03/
LOCATION:Menlo Circus Club\, 190 Park Ln\, Atherton\, CA\, 94027\, United States
CATEGORIES:Club Games
GEO:37.4499249;-122.2010478
X-APPLE-STRUCTURED-LOCATION;VALUE=URI;X-ADDRESS=Menlo Circus Club 190 Park Ln Atherton CA 94027 United States;X-APPLE-RADIUS=500;X-TITLE=190 Park Ln:geo:-122.2010478,37.4499249
END:VEVENT
END:VCALENDAR