BEGIN:VCALENDAR
VERSION:2.0
PRODID:-//Palo Alto Bridge - ECPv6.15.20//NONSGML v1.0//EN
CALSCALE:GREGORIAN
METHOD:PUBLISH
X-WR-CALNAME:Palo Alto Bridge
X-ORIGINAL-URL:https://paloaltobridge.org
X-WR-CALDESC:Events for Palo Alto Bridge
REFRESH-INTERVAL;VALUE=DURATION:PT1H
X-Robots-Tag:noindex
X-PUBLISHED-TTL:PT1H
BEGIN:VTIMEZONE
TZID:America/Los_Angeles
BEGIN:DAYLIGHT
TZOFFSETFROM:-0800
TZOFFSETTO:-0700
TZNAME:PDT
DTSTART:20170312T100000
END:DAYLIGHT
BEGIN:STANDARD
TZOFFSETFROM:-0700
TZOFFSETTO:-0800
TZNAME:PST
DTSTART:20171105T090000
END:STANDARD
BEGIN:DAYLIGHT
TZOFFSETFROM:-0800
TZOFFSETTO:-0700
TZNAME:PDT
DTSTART:20180311T100000
END:DAYLIGHT
BEGIN:STANDARD
TZOFFSETFROM:-0700
TZOFFSETTO:-0800
TZNAME:PST
DTSTART:20181104T090000
END:STANDARD
BEGIN:DAYLIGHT
TZOFFSETFROM:-0800
TZOFFSETTO:-0700
TZNAME:PDT
DTSTART:20190310T100000
END:DAYLIGHT
BEGIN:STANDARD
TZOFFSETFROM:-0700
TZOFFSETTO:-0800
TZNAME:PST
DTSTART:20191103T090000
END:STANDARD
END:VTIMEZONE
BEGIN:VEVENT
DTSTART;TZID=America/Los_Angeles:20180913T191500
DTEND;TZID=America/Los_Angeles:20180913T213000
DTSTAMP:20260422T234249
CREATED:20180714T230140Z
LAST-MODIFIED:20181020T053124Z
UID:25022-1536866100-1536874200@paloaltobridge.org
SUMMARY:Mastering the Fine Points
DESCRIPTION:[vc_row][vc_column][vc_column_text] \n\n\n\n\nFrank Smoot\n(408) 732-5736\nSend Email \n\n\n\n[/vc_column_text][vc_column_text]The opponents love to intrude after we open the bidding. This course discusses ways to overcome hurdles the opponents put in our way\, and to penalize them when they bid too much. The auction often suggests which points will be working fully and which will be of little value. See how partner’s and the opponents’ bids identify the fine points and the shabby points. Learn special matchpoint play techniques. \nThis Intermediate-Advanced course is designed for players with three years of bridge experience (or a healthy sense of adventure). \nUsing materials from many sources (primarily Richard Pavlicek) you will learn concepts\, do exercises in class (homework outside of class) and finish the evening by playing hands relating to the topic. Snacks are also provided. You will be amazed at what you’ll learn\, even if you’ve played for years and years! \nThe in-class exercises are available in electronic format so students can play the hands at home and receive commentary on their bidding and play (requires Bridge Baron software). \nOur course lecturer is the very popular Frank Smoot who has taught bridge to beginners and beyond in Palo Alto for 15+ years.  Frank and our wonderful volunteers give students individual attention which helps our students learn in a fun environment. \nPlease contact Frank Smoot email for more information. \n\n\n\n\nThis 6-Week Course Covers\n\n\n\n\n\n\nUpgrading after a Raise\nSlam Bidding Judgement\nWorking Honors versus Wasted Values\nHurdling Intererence\nPenalizing Interference\nMatchpoint Play Strategy\n\n\n\n\n\n\n\n\n\n\n\n\nClass Downloads**\n\n\n\n\nLesson 1\nUpdated 9/11/18 Bidding After a Raise\n\n\nLesson 2\nUpdated 9/25/18 Slam Judgement\n\n\nLesson 3\nUpdated 10/11/18  Winning Tips\n\n\nLesson 4\nPenalty Doubles\n\n\nLesson 5\nOvercome Interference\n\n\nLesson 6\nUpdated 10/19/18 Matchpoint Play\n\n\n\n**Downloads may change a couple of days prior to class.Instructions for downloading and playing files with Bridge Baron \n\n\n\nBridge Baron Support \nBridge Baron Website. We usually have copies of Bridge Baron at class which we sell at a discount. \n\n*After registering\, please send a check made out to Frank Smoot in the amount of $150 to hold your spot to:\nFrank Smoot\n528 S Taaffe St\nSunnyvale\, CA 94086[/vc_column_text][/vc_column][/vc_row]
URL:https://paloaltobridge.org/event/mastering-the-fine-points-sept-2018/2018-09-13/
LOCATION:Bridge Center\, 432A Stierlin Rd\, Mountain View\, CA\, 94043\, United States
CATEGORIES:Education Calendar
GEO:37.4004098;-122.0788615
X-APPLE-STRUCTURED-LOCATION;VALUE=URI;X-ADDRESS=Bridge Center 432A Stierlin Rd Mountain View CA 94043 United States;X-APPLE-RADIUS=500;X-TITLE=432A Stierlin Rd:geo:-122.0788615,37.4004098
END:VEVENT
END:VCALENDAR