BEGIN:VCALENDAR
VERSION:2.0
PRODID:-//Palo Alto Bridge - ECPv6.15.20//NONSGML v1.0//EN
CALSCALE:GREGORIAN
METHOD:PUBLISH
X-WR-CALNAME:Palo Alto Bridge
X-ORIGINAL-URL:https://paloaltobridge.org
X-WR-CALDESC:Events for Palo Alto Bridge
REFRESH-INTERVAL;VALUE=DURATION:PT1H
X-Robots-Tag:noindex
X-PUBLISHED-TTL:PT1H
BEGIN:VTIMEZONE
TZID:America/Los_Angeles
BEGIN:DAYLIGHT
TZOFFSETFROM:-0800
TZOFFSETTO:-0700
TZNAME:PDT
DTSTART:20170312T100000
END:DAYLIGHT
BEGIN:STANDARD
TZOFFSETFROM:-0700
TZOFFSETTO:-0800
TZNAME:PST
DTSTART:20171105T090000
END:STANDARD
BEGIN:DAYLIGHT
TZOFFSETFROM:-0800
TZOFFSETTO:-0700
TZNAME:PDT
DTSTART:20180311T100000
END:DAYLIGHT
BEGIN:STANDARD
TZOFFSETFROM:-0700
TZOFFSETTO:-0800
TZNAME:PST
DTSTART:20181104T090000
END:STANDARD
BEGIN:DAYLIGHT
TZOFFSETFROM:-0800
TZOFFSETTO:-0700
TZNAME:PDT
DTSTART:20190310T100000
END:DAYLIGHT
BEGIN:STANDARD
TZOFFSETFROM:-0700
TZOFFSETTO:-0800
TZNAME:PST
DTSTART:20191103T090000
END:STANDARD
END:VTIMEZONE
BEGIN:VEVENT
DTSTART;TZID=America/Los_Angeles:20180111T191500
DTEND;TZID=America/Los_Angeles:20180111T213000
DTSTAMP:20260423T030101
CREATED:20180315T184336Z
LAST-MODIFIED:20180730T202541Z
UID:974-1515698100-1515706200@paloaltobridge.org
SUMMARY:Intermediate III
DESCRIPTION:[vc_row][vc_column][vc_column_text] \n\n\n\n\nFrank Smoot\n(408) 732-5736\nSend Email \n\n\n\n[/vc_column_text][vc_column_text]This course goes beyond the topics from Intermediate Bridge I and Intermediate Bridge II. It is designed for bridge players who have a minimum of two years experience playing duplicate bridge. \nYou will learn powerful and practical bidding\, play and defense concept including: \n\nhand evaluation when partner invites slam\, balancing\, and the latest defenses to 1NT.\nUuse of distribution of the defensive hands to produce extra tricks\, and\,\nDefending safely or aggessively as the dummy suggests.\n\nThere are exercises in class\, homework outside of class\, and each evening finishes by playing deals related to the topic. Snacks are also provided. You will be amazed at what you’ll learn\, even if you’ve played for years and years! \nThe in-class exercises are available in electronic format so students can play the hands at home and receive commentary on their bidding and play (requires Bridge Baron software). \nOur course lecturer is the very popular Frank Smoot who has taught bridge to beginners and beyond in Palo Alto for 15+ years.  Frank and our wonderful volunteers give students individual attention which helps our students learn in a fun environment. \nPlease contact Frank Smoot email for more information. \n\n\n\n\n\n\nThis 8-Week Course Covers\n\n\n\n\nBidding: \n\nNotrump Slams\nBalancing\nDefense to 1NT\n\nDeclarer Play: \n\nTrump Endings\nSqueeze Plays\nThrow-in Plays\n\nDefense: \n\nCard Combinations\nWin or Duck?\n\n\n\n\n\n\n\n\n\n\n\n\n\nClass Downloads**\n\n\n\n\nLesson 1\non 1/8/18 Notrump Slams\n\n\nLesson 2\non 1/17/18 Balancing\n\n\nLesson 3\non 1/22/18 Defense to 1 Notrump \n\n\nLesson 4\non 1/28/18 Defensive Combinations\n\n\nLesson 5\non 2/8/18 Win or Duck?\n\n\nLesson 6\non 2/17/18 Trump Ending\n\n\nLesson 7\non 2/25/18 Squeeze Plays\n\n\nLesson 8\non 3/8/18 Throw-In\n\n\n\n\n\n\nInstructions for downloading and playing files with Bridge Baron \nBridge Baron Support \nBridge Baron Website. We usually have copies of Bridge Baron at class which we sell at a discount. \n*After registering\, please send a check made out to Frank Smoot in the amount of $175 to hold your spot to:\nFrank Smoot\n528 S Taaffe St\nSunnyvale\, CA 94086[/vc_column_text][/vc_column][/vc_row]
URL:https://paloaltobridge.org/event/intermediate-iii/2018-01-11/
LOCATION:Bridge Center\, 432A Stierlin Rd\, Mountain View\, CA\, 94043\, United States
CATEGORIES:Education Calendar
GEO:37.4004098;-122.0788615
X-APPLE-STRUCTURED-LOCATION;VALUE=URI;X-ADDRESS=Bridge Center 432A Stierlin Rd Mountain View CA 94043 United States;X-APPLE-RADIUS=500;X-TITLE=432A Stierlin Rd:geo:-122.0788615,37.4004098
END:VEVENT
END:VCALENDAR