BEGIN:VCALENDAR
VERSION:2.0
PRODID:-//Palo Alto Bridge - ECPv6.15.20//NONSGML v1.0//EN
CALSCALE:GREGORIAN
METHOD:PUBLISH
X-WR-CALNAME:Palo Alto Bridge
X-ORIGINAL-URL:https://paloaltobridge.org
X-WR-CALDESC:Events for Palo Alto Bridge
REFRESH-INTERVAL;VALUE=DURATION:PT1H
X-Robots-Tag:noindex
X-PUBLISHED-TTL:PT1H
BEGIN:VTIMEZONE
TZID:America/Los_Angeles
BEGIN:DAYLIGHT
TZOFFSETFROM:-0800
TZOFFSETTO:-0700
TZNAME:PDT
DTSTART:20180311T100000
END:DAYLIGHT
BEGIN:STANDARD
TZOFFSETFROM:-0700
TZOFFSETTO:-0800
TZNAME:PST
DTSTART:20181104T090000
END:STANDARD
BEGIN:DAYLIGHT
TZOFFSETFROM:-0800
TZOFFSETTO:-0700
TZNAME:PDT
DTSTART:20190310T100000
END:DAYLIGHT
BEGIN:STANDARD
TZOFFSETFROM:-0700
TZOFFSETTO:-0800
TZNAME:PST
DTSTART:20191103T090000
END:STANDARD
BEGIN:DAYLIGHT
TZOFFSETFROM:-0800
TZOFFSETTO:-0700
TZNAME:PDT
DTSTART:20200308T100000
END:DAYLIGHT
BEGIN:STANDARD
TZOFFSETFROM:-0700
TZOFFSETTO:-0800
TZNAME:PST
DTSTART:20201101T090000
END:STANDARD
END:VTIMEZONE
BEGIN:VEVENT
DTSTART;TZID=America/Los_Angeles:20190425T191500
DTEND;TZID=America/Los_Angeles:20190425T213000
DTSTAMP:20260423T015122
CREATED:20190320T041026Z
LAST-MODIFIED:20190713T165257Z
UID:32367-1556219700-1556227800@paloaltobridge.org
SUMMARY:Intermediate II
DESCRIPTION:Frank Smoot\n(408) 732-5736\nSend Email \n\n\n\nThis course reviews and expands upon topics from Intermediate Bridge I and adds topics covering what to do when the opponents get into the auction (and they will more often in this course). \nThis course is for bridge players who have a minimum of one year of experience playing duplicate bridge. \nUsing materials from many sources (primarily Richard Pavlicek) you will learn concepts\, do exercises in class (homework outside of class) and finish the evening by playing hands relating to the topic. Snacks are also provided. You will be amazed at what you will learn\, even if you have played for years and years! \nThe in-class exercises are available in electronic format so students can play the hands at home and receive commentary on their bidding and play (requires Bridge Baron software). \nOur course lecturer is the very popular Frank Smoot who has taught bridge to beginners and beyond in Palo Alto for 15+ years.  Frank and our wonderful volunteers give students individual attention which helps our students learn in a fun environment. \nFor more information contact Frank Smoot (408) 732-5736 email. \n\n\n\n\n\n\nThe 12-Week Course Covers\n\n\n\n\nBidding: \n\nWeak Two Bid\nStrong Two-Club Opening\nBidding Judgment – Uncontested\nBidding Judgment – Contested\nCompeting and Sacrificing (Partscore and High-level Competition)\nCombating Weak Openings (Overcalling and Doubling)\n\nDeclarer Play: \n\nDeclarer Suit Tactics (Loser-on-loser and Elimination Play)\nCombine Your Chances\nEndplays (Force a defender to Help You)\nEntries\n\nDefense \n\nThird Hand Play (Finesse Against Dummy)\nSecond Hand Play\n\n\n\n\n\n\n\n\n\n\n\n\n\nClass Downloads**\n\n\n\n\nLesson 1\nWeak Two\n\n\nLesson 2\nStrong 2 Club\n\n\nLesson 3\nBidding Judgment – Uncontested\n\n\nLesson 4\nBidding Judgment – Contested\n\n\nLesson 5\nCompete\n\n\nLesson 6\nCombating Weak Openings\n\n\nLesson 7\nSuit Tactics\n\n\nLesson 8\nCombine Chances\n\n\nLesson 9\nEnd Plays\n\n\nLesson 10\nEntries\n\n\nLesson 11\nThird Hand\n\n\nLesson 12\nSecond Hand\n\n\n\n\n\n\n**Downloads may change a couple of days prior to class. \nInstructions for downloading and playing files with Bridge Baron \nBridge Baron Support \nBridge Baron Website. We usually have copies of Bridge Baron at class which we sell at a discount. \n*After registering\, please send a check made out to Frank Smoot in the amount of $240 to hold your spot to:\nFrank Smoot\n528 S Taaffe St\nSunnyvale\, CA 94086
URL:https://paloaltobridge.org/event/intermediate-ii-april-2019/2019-04-25/
LOCATION:Bridge Center\, 432A Stierlin Rd\, Mountain View\, CA\, 94043\, United States
CATEGORIES:Education Calendar
GEO:37.4004098;-122.0788615
X-APPLE-STRUCTURED-LOCATION;VALUE=URI;X-ADDRESS=Bridge Center 432A Stierlin Rd Mountain View CA 94043 United States;X-APPLE-RADIUS=500;X-TITLE=432A Stierlin Rd:geo:-122.0788615,37.4004098
END:VEVENT
END:VCALENDAR