BEGIN:VCALENDAR
VERSION:2.0
PRODID:-//Palo Alto Bridge - ECPv6.15.20//NONSGML v1.0//EN
CALSCALE:GREGORIAN
METHOD:PUBLISH
X-ORIGINAL-URL:https://paloaltobridge.org
X-WR-CALDESC:Events for Palo Alto Bridge
REFRESH-INTERVAL;VALUE=DURATION:PT1H
X-Robots-Tag:noindex
X-PUBLISHED-TTL:PT1H
BEGIN:VTIMEZONE
TZID:America/Los_Angeles
BEGIN:DAYLIGHT
TZOFFSETFROM:-0800
TZOFFSETTO:-0700
TZNAME:PDT
DTSTART:20180311T100000
END:DAYLIGHT
BEGIN:STANDARD
TZOFFSETFROM:-0700
TZOFFSETTO:-0800
TZNAME:PST
DTSTART:20181104T090000
END:STANDARD
BEGIN:DAYLIGHT
TZOFFSETFROM:-0800
TZOFFSETTO:-0700
TZNAME:PDT
DTSTART:20190310T100000
END:DAYLIGHT
BEGIN:STANDARD
TZOFFSETFROM:-0700
TZOFFSETTO:-0800
TZNAME:PST
DTSTART:20191103T090000
END:STANDARD
BEGIN:DAYLIGHT
TZOFFSETFROM:-0800
TZOFFSETTO:-0700
TZNAME:PDT
DTSTART:20200308T100000
END:DAYLIGHT
BEGIN:STANDARD
TZOFFSETFROM:-0700
TZOFFSETTO:-0800
TZNAME:PST
DTSTART:20201101T090000
END:STANDARD
END:VTIMEZONE
BEGIN:VEVENT
DTSTART;TZID=America/Los_Angeles:20190110T191500
DTEND;TZID=America/Los_Angeles:20190110T213000
DTSTAMP:20260422T234108
CREATED:20181117T023328Z
LAST-MODIFIED:20190713T165500Z
UID:28532-1547147700-1547155800@paloaltobridge.org
SUMMARY:Intermediate I
DESCRIPTION:Frank Smoot\n(408) 732-5736\nSend Email \n\n\n\nStrengthen your bidding and sharpen your intermediate to advanced play technique. This course includes discussion of the weekly topic\, in-class exercises\, lots of practice deals\, homework\, and occasional examples from deals played at the Wednesday Night game. \nThis course is for bridge players who have a minimum of one year of experience playing duplicate bridge. \nUsing materials from many sources (primarily Richard Pavlicek) you will learn concepts\, do exercises in class (homework outside of class) and finish the evening by playing hands relating to the topic. Snacks are also provided. You will be amazed at what you will learn\, even if you have played for years and years! \nThe in-class exercises are available in electronic format so students can play the hands at home and receive commentary on their bidding and play (requires Bridge Baron software). \nOur course lecturer is the very popular Frank Smoot who has taught bridge to beginners and beyond in Palo Alto for 15+ years. Frank and our wonderful volunteers give students individual attention which helps our students learn in a fun environment. \nPlease contact Frank Smoot email for more information. \n\n\n\n\n\n\nThis 12-Week Course Covers\n\n\n\n\nBidding: \n\nOpener’s Rebid (and when to raise with three-card support)\nOpener’s Third Bid (when Responder is weak/invites/forces)\nOvercalls (and Advancing Partner’s Overcall)\nTakeout Doubles (and Advancing Partner’s Double)\nPreemptive Bidding (Vulnerability Matters)\nNegative Doubles (and rebidding after Partner makes one)\n\nDeclarer Play: \n\nCard Combinations (and when to shun a Finesse)\nOdds (when to finesse – when to build a long suit)\nNotrump Play Technique (Entries / Ducking)\nSuit Play Technique (When to draw/postpone Trump)\n\nDefense: \n\nNotrump Leads and Strategy (Active versus Passive Defense)\nSuit Leads and Strategy (Which Suit? Which Card?)\n\n\n\n\n\n\n\n\n\n\n\n\n\nClass Downloads**\n\n\n\n\nLesson 1\nOpener’s Rebid\n\n\nLesson 2\nOpener’s Third Bid\n\n\nLesson 3\nOvercall\n\n\nLesson 4\nTakeout Double\n\n\nLesson 5\nPreempt\n\n\nLesson 6\nNegative Double\n\n\nLesson 7\nCard Combinations\n\n\nLesson 8\nPlay the Odds\n\n\nLesson 9\nPlay at Notrump\n\n\nLesson 10\nPlay at Suits\n\n\nLesson 11\nDefense at Notrump\n\n\nLesson 12\nDefense at Suits\n\n\n\n\n\n\n**Downloads may change a couple of days prior to class. \nInstructions for downloading and playing files with Bridge Baron \nBridge Baron Support \nBridge Baron Website. We usually have copies of Bridge Baron at class which we sell at a discount. \n*After registering\, please send a check made out to Frank Smoot in the amount of $240 to hold your spot to:\nFrank Smoot\n528 S Taaffe St\nSunnyvale\, CA 94086
URL:https://paloaltobridge.org/event/intermediate-i-jan-2019/2019-01-10/
LOCATION:Bridge Center\, 432A Stierlin Rd\, Mountain View\, CA\, 94043\, United States
CATEGORIES:Education Calendar
GEO:37.4004098;-122.0788615
X-APPLE-STRUCTURED-LOCATION;VALUE=URI;X-ADDRESS=Bridge Center 432A Stierlin Rd Mountain View CA 94043 United States;X-APPLE-RADIUS=500;X-TITLE=432A Stierlin Rd:geo:-122.0788615,37.4004098
END:VEVENT
END:VCALENDAR