BEGIN:VCALENDAR
VERSION:2.0
PRODID:-//Palo Alto Bridge - ECPv6.15.20//NONSGML v1.0//EN
CALSCALE:GREGORIAN
METHOD:PUBLISH
X-WR-CALNAME:Palo Alto Bridge
X-ORIGINAL-URL:https://paloaltobridge.org
X-WR-CALDESC:Events for Palo Alto Bridge
REFRESH-INTERVAL;VALUE=DURATION:PT1H
X-Robots-Tag:noindex
X-PUBLISHED-TTL:PT1H
BEGIN:VTIMEZONE
TZID:America/Los_Angeles
BEGIN:DAYLIGHT
TZOFFSETFROM:-0800
TZOFFSETTO:-0700
TZNAME:PDT
DTSTART:20170312T100000
END:DAYLIGHT
BEGIN:STANDARD
TZOFFSETFROM:-0700
TZOFFSETTO:-0800
TZNAME:PST
DTSTART:20171105T090000
END:STANDARD
BEGIN:DAYLIGHT
TZOFFSETFROM:-0800
TZOFFSETTO:-0700
TZNAME:PDT
DTSTART:20180311T100000
END:DAYLIGHT
BEGIN:STANDARD
TZOFFSETFROM:-0700
TZOFFSETTO:-0800
TZNAME:PST
DTSTART:20181104T090000
END:STANDARD
BEGIN:DAYLIGHT
TZOFFSETFROM:-0800
TZOFFSETTO:-0700
TZNAME:PDT
DTSTART:20190310T100000
END:DAYLIGHT
BEGIN:STANDARD
TZOFFSETFROM:-0700
TZOFFSETTO:-0800
TZNAME:PST
DTSTART:20191103T090000
END:STANDARD
END:VTIMEZONE
BEGIN:VEVENT
DTSTART;TZID=America/Los_Angeles:20180905T190000
DTEND;TZID=America/Los_Angeles:20180905T221500
DTSTAMP:20260422T194647
CREATED:20180605T004714Z
LAST-MODIFIED:20200611T001921Z
UID:19220-1536174000-1536185700@paloaltobridge.org
SUMMARY:Doubleton Club
DESCRIPTION:Open/Stratified and 499’er/Stratified Sections. \nLight dinner provided before the game. \nDiscount for youth 25 and under. \nReservations Requested \nDirectors: \n\n\n\n\nLori Spaeth\n(650) 906-3987\nSend Email \n\n\n\n\n\n\n\nMarolyn Imaoka\n(408) 828-9222\nSend Email \n\n\n\n\n\nPaul Davis\n(650) 888-3403\nSend Email
URL:https://paloaltobridge.org/event/doubleton-club-2018-09-05/2018-09-05/
LOCATION:Bridge Center\, 432A Stierlin Rd\, Mountain View\, CA\, 94043\, United States
CATEGORIES:Club Games
GEO:37.4004098;-122.0788615
X-APPLE-STRUCTURED-LOCATION;VALUE=URI;X-ADDRESS=Bridge Center 432A Stierlin Rd Mountain View CA 94043 United States;X-APPLE-RADIUS=500;X-TITLE=432A Stierlin Rd:geo:-122.0788615,37.4004098
END:VEVENT
END:VCALENDAR