BEGIN:VCALENDAR
VERSION:2.0
PRODID:-//Palo Alto Bridge - ECPv6.15.20//NONSGML v1.0//EN
CALSCALE:GREGORIAN
METHOD:PUBLISH
X-WR-CALNAME:Palo Alto Bridge
X-ORIGINAL-URL:https://paloaltobridge.org
X-WR-CALDESC:Events for Palo Alto Bridge
REFRESH-INTERVAL;VALUE=DURATION:PT1H
X-Robots-Tag:noindex
X-PUBLISHED-TTL:PT1H
BEGIN:VTIMEZONE
TZID:America/Los_Angeles
BEGIN:DAYLIGHT
TZOFFSETFROM:-0800
TZOFFSETTO:-0700
TZNAME:PDT
DTSTART:20160313T100000
END:DAYLIGHT
BEGIN:STANDARD
TZOFFSETFROM:-0700
TZOFFSETTO:-0800
TZNAME:PST
DTSTART:20161106T090000
END:STANDARD
BEGIN:DAYLIGHT
TZOFFSETFROM:-0800
TZOFFSETTO:-0700
TZNAME:PDT
DTSTART:20170312T100000
END:DAYLIGHT
BEGIN:STANDARD
TZOFFSETFROM:-0700
TZOFFSETTO:-0800
TZNAME:PST
DTSTART:20171105T090000
END:STANDARD
BEGIN:DAYLIGHT
TZOFFSETFROM:-0800
TZOFFSETTO:-0700
TZNAME:PDT
DTSTART:20180311T100000
END:DAYLIGHT
BEGIN:STANDARD
TZOFFSETFROM:-0700
TZOFFSETTO:-0800
TZNAME:PST
DTSTART:20181104T090000
END:STANDARD
END:VTIMEZONE
BEGIN:VEVENT
DTSTART;TZID=America/Los_Angeles:20171002T161500
DTEND;TZID=America/Los_Angeles:20171002T183000
DTSTAMP:20260423T063429
CREATED:20180329T150457Z
LAST-MODIFIED:20180808T035246Z
UID:2782-1506960900-1506969000@paloaltobridge.org
SUMMARY:Defend Like A Pro
DESCRIPTION:[vc_row][vc_column][vc_column_text] \n\n\n\n\nDebbie Rosenberg\n(408) 320-4473\nSend Email \n\n\n\n[/vc_column_text][vc_column_text]This Intermediate/Advanced -Advanced level course covers the areas of defense where Debbie believes competitive players can make the biggest improvement in their results. While no pro gets every problem right\, there are many problems that every pro would get right. Start nailing those\, and stop making declarer’s life easy. \nLectures\, if any\, are short. There is lots of practice\, and much discussion of how to defend like an expert bridge player. Instructional notes\, as well as copies of the deals played in class\, with analysis\, will be emailed (hard copy on request). \nAll of the lesson materials assume “Standard” carding and opening leads. In most cases you will be able to practice your own signaling methods if you attend with a regular partner but you will be required to make standard leads. Signaling discussions will focus on how a particular situation should be defined (count\, attitude\, or suit preference)\, rather than which method is best. \nWhile it is ideal to attend this course with a partner\, it is not required. \nClass size will be limited to 10 tables. Pre-registration is required. Once you are registered\, you will be emailed several sets of notes for reference. These will cover “Standard” leads and signals\, as well as other basic concepts that intermediate+ players should be familiar with. \nClasses include coffee and cookies\, only. Bring any additional snacks you desire. \nThe course instructor is Debbie Rosenberg who is an ACBL Grand Master\, six-time NABC winner and three-time World Champion with 25 years of teaching experience. \nThe course will be held at our Bridge Center. \nFor more information contact Debbie Rosenberg email (preferred) (408) 320-4473. \n\n\n\n\nDefend Like A Pro\nThursday Afternoons\n4:15 PM to 6:30 PM\n\n\n\n\nCounting Points & Distribution\nOctober 2\, 2014\n\n\nCounting Declarer’s Tricks\nOctober 9\n\n\nDiscarding\nOctober 16\n\n\nCount & Suit Preference Signals in Action\nOctober 23\n\n\nSecond Hand Play\nOctober 30\n\n\nThird Hand Play\nNovember 6\n\n\nWhen to Switch Suits and to What Card\nNovember 13\n\n\nDrawing Inferences\nNovember 20\n\n\nPossible makeup date in case of schedule change\nDecember 11\n\n\nLessons are not offered on a per-session basis. If you must miss a class please do not send a substitute in your place.\n\n\n\n\n\n*After registering\, please send check in the amount of $200 to hold your spot to:\nDebbie Rosenberg\n21327 Glen Place Apt 8\nCupertino\, CA 95014[/vc_column_text][/vc_column][/vc_row]
URL:https://paloaltobridge.org/event/defend-like-a-pro/2017-10-02/
LOCATION:Bridge Center\, 432A Stierlin Rd\, Mountain View\, CA\, 94043\, United States
CATEGORIES:Education Calendar
GEO:37.4004098;-122.0788615
X-APPLE-STRUCTURED-LOCATION;VALUE=URI;X-ADDRESS=Bridge Center 432A Stierlin Rd Mountain View CA 94043 United States;X-APPLE-RADIUS=500;X-TITLE=432A Stierlin Rd:geo:-122.0788615,37.4004098
END:VEVENT
END:VCALENDAR