BEGIN:VCALENDAR
VERSION:2.0
PRODID:-//Palo Alto Bridge - ECPv6.15.20//NONSGML v1.0//EN
CALSCALE:GREGORIAN
METHOD:PUBLISH
X-WR-CALNAME:Palo Alto Bridge
X-ORIGINAL-URL:https://paloaltobridge.org
X-WR-CALDESC:Events for Palo Alto Bridge
REFRESH-INTERVAL;VALUE=DURATION:PT1H
X-Robots-Tag:noindex
X-PUBLISHED-TTL:PT1H
BEGIN:VTIMEZONE
TZID:America/Los_Angeles
BEGIN:DAYLIGHT
TZOFFSETFROM:-0800
TZOFFSETTO:-0700
TZNAME:PDT
DTSTART:20220313T100000
END:DAYLIGHT
BEGIN:STANDARD
TZOFFSETFROM:-0700
TZOFFSETTO:-0800
TZNAME:PST
DTSTART:20221106T090000
END:STANDARD
BEGIN:DAYLIGHT
TZOFFSETFROM:-0800
TZOFFSETTO:-0700
TZNAME:PDT
DTSTART:20230312T100000
END:DAYLIGHT
BEGIN:STANDARD
TZOFFSETFROM:-0700
TZOFFSETTO:-0800
TZNAME:PST
DTSTART:20231105T090000
END:STANDARD
BEGIN:DAYLIGHT
TZOFFSETFROM:-0800
TZOFFSETTO:-0700
TZNAME:PDT
DTSTART:20240310T100000
END:DAYLIGHT
BEGIN:STANDARD
TZOFFSETFROM:-0700
TZOFFSETTO:-0800
TZNAME:PST
DTSTART:20241103T090000
END:STANDARD
END:VTIMEZONE
BEGIN:VEVENT
DTSTART;TZID=America/Los_Angeles:20230306T190000
DTEND;TZID=America/Los_Angeles:20230306T210000
DTSTAMP:20260423T134237
CREATED:20210619T023721Z
LAST-MODIFIED:20230511T222400Z
UID:40376-1678129200-1678136400@paloaltobridge.org
SUMMARY:Deadly Defense
DESCRIPTION:Kathy Harper\n(650) 207-1816\nSend Email \n\n\n\nHalf the time at the bridge table\, you will be defending. Don’t let those mean declarers walk all over you! Defend yourself! Learn how to lead\, signal\, and discard. This course is written by Pat Harrington \nThis Basic-Intermediate Bridge Class builds upon our Beginning Bridge Classes and prepares our students for our Intermediate Classes. \nNotes will be emailed for all classes. No make-up classes are offered for missed classes. \nOur course instructor is ABTA Master Teacher Kathy Harper. Kathy and our wonderful volunteers give students individual attention which helps our students learn in a fun environment. \nPlease contact Kathy Harper at (650) 207-1816 email for additional information. \n\n\n\n\n\nDeadly Defense\nDates\n\n\n\n\n\nLeading Against Notrump and Against Suit Contracts\nMarch 6\,  2023\n\n\n\nSecond Hand Low\nMarch 20\n\n\n\nSecond Hand Low … Except\nApril 3\n\n\n\nThird Hand High\nApril 17\n\n\n\nIntroduction to Attitude Signals\nMay 1\n\n\n\nUsing Attitude Signals When Partner Leads\nMay 15\n\n\n\nOpening Leads and Attitude Signals\nJune 5\n\n\n\nDiscards and Attitude Signals\nJune 19
URL:https://paloaltobridge.org/event/deadly-defense-march-2023/2023-03-06/
LOCATION:Bridge Center\, 432A Stierlin Rd\, Mountain View\, CA\, 94043\, United States
CATEGORIES:Education Calendar
GEO:37.4004098;-122.0788615
X-APPLE-STRUCTURED-LOCATION;VALUE=URI;X-ADDRESS=Bridge Center 432A Stierlin Rd Mountain View CA 94043 United States;X-APPLE-RADIUS=500;X-TITLE=432A Stierlin Rd:geo:-122.0788615,37.4004098
END:VEVENT
END:VCALENDAR