BEGIN:VCALENDAR
VERSION:2.0
PRODID:-//Palo Alto Bridge - ECPv6.15.20//NONSGML v1.0//EN
CALSCALE:GREGORIAN
METHOD:PUBLISH
X-WR-CALNAME:Palo Alto Bridge
X-ORIGINAL-URL:https://paloaltobridge.org
X-WR-CALDESC:Events for Palo Alto Bridge
REFRESH-INTERVAL;VALUE=DURATION:PT1H
X-Robots-Tag:noindex
X-PUBLISHED-TTL:PT1H
BEGIN:VTIMEZONE
TZID:America/Los_Angeles
BEGIN:DAYLIGHT
TZOFFSETFROM:-0800
TZOFFSETTO:-0700
TZNAME:PDT
DTSTART:20180311T100000
END:DAYLIGHT
BEGIN:STANDARD
TZOFFSETFROM:-0700
TZOFFSETTO:-0800
TZNAME:PST
DTSTART:20181104T090000
END:STANDARD
BEGIN:DAYLIGHT
TZOFFSETFROM:-0800
TZOFFSETTO:-0700
TZNAME:PDT
DTSTART:20190310T100000
END:DAYLIGHT
BEGIN:STANDARD
TZOFFSETFROM:-0700
TZOFFSETTO:-0800
TZNAME:PST
DTSTART:20191103T090000
END:STANDARD
BEGIN:DAYLIGHT
TZOFFSETFROM:-0800
TZOFFSETTO:-0700
TZNAME:PDT
DTSTART:20200308T100000
END:DAYLIGHT
BEGIN:STANDARD
TZOFFSETFROM:-0700
TZOFFSETTO:-0800
TZNAME:PST
DTSTART:20201101T090000
END:STANDARD
END:VTIMEZONE
BEGIN:VEVENT
DTSTART;TZID=America/Los_Angeles:20190207T084500
DTEND;TZID=America/Los_Angeles:20190207T104500
DTSTAMP:20260422T213650
CREATED:20180718T032213Z
LAST-MODIFIED:20211219T215202Z
UID:25390-1549529100-1549536300@paloaltobridge.org
SUMMARY:Deadly Defense
DESCRIPTION:[vc_row][vc_column][vc_column_text] \n\n\n\n\nKathy Harper\n(650) 207-1816\nSend Email \n\n\n\n[/vc_column_text][vc_column_text]Half the time at the bridge table\, you will be defending. Don’t let those mean declarers walk all over you! Defend yourself! Learn how to lead\, signal\, and discard. This course is written by Pat Harrington \nThis Basic-Intermediate Bridge Class builds upon our Beginning Bridge Classes and prepares our students for our Intermediate Classes. \nNotes will be emailed for all classes. No make-up classes are offered for missed classes. \nOur course instructor is ABTA Master Teacher Kathy Harper. Kathy and our wonderful volunteers give students individual attention which helps our students learn in a fun environment. \nPlease contact Kathy Harper at (650) 207-1816 email for additional information. \n\n\n\n\n\nDeadly Defense\nDates\n\n\n\n\n\nLeading Against Notrump\nFebruary 7\, 2019\n\n\n\nLeading Against Suit Contracts\nFebruary 28\n\n\n\nSecond Hand Low\nMarch 7\n\n\n\nSecond Hand Low … Except\nMarch 21\n\n\n\nThird Hand High\nApril 4\n\n\n\nIntroduction to Attitude Signals\nApril 18\n\n\n\nUsing Attitude Signals When Partner Leads\nMay 2\n\n\n\nOpening Leads and Attitude Signals\nMay 16\n\n\n\nDiscards and Attitude Signals\nMay 23\n\n\n\nSuit Preference Signals.\nJune 13\n\n\n\n\n\n[/vc_column_text][/vc_column][/vc_row][vc_row][vc_column][/vc_column][/vc_row]
URL:https://paloaltobridge.org/event/deadly-defense-feb-2019/2019-02-07/
LOCATION:Bridge Center\, 432A Stierlin Rd\, Mountain View\, CA\, 94043\, United States
CATEGORIES:Education Calendar
GEO:37.4004098;-122.0788615
X-APPLE-STRUCTURED-LOCATION;VALUE=URI;X-ADDRESS=Bridge Center 432A Stierlin Rd Mountain View CA 94043 United States;X-APPLE-RADIUS=500;X-TITLE=432A Stierlin Rd:geo:-122.0788615,37.4004098
END:VEVENT
END:VCALENDAR