BEGIN:VCALENDAR
VERSION:2.0
PRODID:-//Palo Alto Bridge - ECPv6.15.20//NONSGML v1.0//EN
CALSCALE:GREGORIAN
METHOD:PUBLISH
X-WR-CALNAME:Palo Alto Bridge
X-ORIGINAL-URL:https://paloaltobridge.org
X-WR-CALDESC:Events for Palo Alto Bridge
REFRESH-INTERVAL;VALUE=DURATION:PT1H
X-Robots-Tag:noindex
X-PUBLISHED-TTL:PT1H
BEGIN:VTIMEZONE
TZID:America/Los_Angeles
BEGIN:DAYLIGHT
TZOFFSETFROM:-0800
TZOFFSETTO:-0700
TZNAME:PDT
DTSTART:20200308T100000
END:DAYLIGHT
BEGIN:STANDARD
TZOFFSETFROM:-0700
TZOFFSETTO:-0800
TZNAME:PST
DTSTART:20201101T090000
END:STANDARD
BEGIN:DAYLIGHT
TZOFFSETFROM:-0800
TZOFFSETTO:-0700
TZNAME:PDT
DTSTART:20210314T100000
END:DAYLIGHT
BEGIN:STANDARD
TZOFFSETFROM:-0700
TZOFFSETTO:-0800
TZNAME:PST
DTSTART:20211107T090000
END:STANDARD
BEGIN:DAYLIGHT
TZOFFSETFROM:-0800
TZOFFSETTO:-0700
TZNAME:PDT
DTSTART:20220313T100000
END:DAYLIGHT
BEGIN:STANDARD
TZOFFSETFROM:-0700
TZOFFSETTO:-0800
TZNAME:PST
DTSTART:20221106T090000
END:STANDARD
END:VTIMEZONE
BEGIN:VEVENT
DTSTART;TZID=America/Los_Angeles:20210914T090000
DTEND;TZID=America/Los_Angeles:20210914T110000
DTSTAMP:20260422T234334
CREATED:20210619T021245Z
LAST-MODIFIED:20220222T051955Z
UID:40332-1631610000-1631617200@paloaltobridge.org
SUMMARY:Conventions You Need to Play IN PERSON
DESCRIPTION:Kathy Harper\n(650) 207-1816\nSend Email \n\n\n\nUseful conventions for basic intermediates including Jacoby and Texas transfers\, Stayman and Garbage Stayman\, and minor suit bidding when partner opens one notrump. \nThis Basic-Intermediate Bridge Class builds upon our Beginning Bridge Classes and prepares our students for our Intermediate Classes. \nNotes will be emailed for all classes. No make-up classes are offered for missed classes. \nOur course instructor is ABTA Master Teacher Kathy Harper. Kathy and our wonderful volunteers give students individual attention which helps our students learn in a fun environment. \nPlease contact Kathy Harper at (650) 207-1816 email for additional information. \n\n\n\n\n\nConventions You Need to Play\nDates\n\n\n\n\n\nTakeout Doubles\nSeptember 14\, 2021\n\n\n\nNegative Doubles\nSeptember 28\n\n\n\nNegative Doubles part 2\nOctober 12\n\n\n\nStayman & Garbage Stayman\nOctober 26\n\n\n\nJacoby Transfers\nNovember 9\n\n\n\nRoman Keycard Blackwood\nNovember 23\n\n\n\nJacoby Two Notrump\nNovember 30\n\n\n\nControl Showing Cue Bids\nDecember 14\n\n\n\nMichaels\nFebruary 15\, 2022\n\n\n\nSplinters\nFebruary 22
URL:https://paloaltobridge.org/event/conventions-you-need-to-play-sept-2021/2021-09-14/
LOCATION:Bridge Center\, 432A Stierlin Rd\, Mountain View\, CA\, 94043\, United States
CATEGORIES:Education Calendar
GEO:37.4004098;-122.0788615
X-APPLE-STRUCTURED-LOCATION;VALUE=URI;X-ADDRESS=Bridge Center 432A Stierlin Rd Mountain View CA 94043 United States;X-APPLE-RADIUS=500;X-TITLE=432A Stierlin Rd:geo:-122.0788615,37.4004098
END:VEVENT
END:VCALENDAR