BEGIN:VCALENDAR
VERSION:2.0
PRODID:-//Palo Alto Bridge - ECPv6.15.20//NONSGML v1.0//EN
CALSCALE:GREGORIAN
METHOD:PUBLISH
X-ORIGINAL-URL:https://paloaltobridge.org
X-WR-CALDESC:Events for Palo Alto Bridge
REFRESH-INTERVAL;VALUE=DURATION:PT1H
X-Robots-Tag:noindex
X-PUBLISHED-TTL:PT1H
BEGIN:VTIMEZONE
TZID:America/Los_Angeles
BEGIN:DAYLIGHT
TZOFFSETFROM:-0800
TZOFFSETTO:-0700
TZNAME:PDT
DTSTART:20250309T100000
END:DAYLIGHT
BEGIN:STANDARD
TZOFFSETFROM:-0700
TZOFFSETTO:-0800
TZNAME:PST
DTSTART:20251102T090000
END:STANDARD
BEGIN:DAYLIGHT
TZOFFSETFROM:-0800
TZOFFSETTO:-0700
TZNAME:PDT
DTSTART:20260308T100000
END:DAYLIGHT
BEGIN:STANDARD
TZOFFSETFROM:-0700
TZOFFSETTO:-0800
TZNAME:PST
DTSTART:20261101T090000
END:STANDARD
BEGIN:DAYLIGHT
TZOFFSETFROM:-0800
TZOFFSETTO:-0700
TZNAME:PDT
DTSTART:20270314T100000
END:DAYLIGHT
BEGIN:STANDARD
TZOFFSETFROM:-0700
TZOFFSETTO:-0800
TZNAME:PST
DTSTART:20271107T090000
END:STANDARD
END:VTIMEZONE
BEGIN:VEVENT
DTSTART;TZID=America/Los_Angeles:20260413T190000
DTEND;TZID=America/Los_Angeles:20260413T203000
DTSTAMP:20260423T015306
CREATED:20200223T190027Z
LAST-MODIFIED:20260108T204421Z
UID:50739-1776106800-1776112200@paloaltobridge.org
SUMMARY:Game ChangersConventions You Need to Play
DESCRIPTION:[vc_row][vc_column][vc_column_text css=””] \n\n\n\nKathy Harper\n(650) 207-1816\nSend Email \n\n\n\nUseful conventions for basic intermediates including Jacoby and Texas transfers\, Stayman and Garbage Stayman\, Keycard Blackwood and more. \nThis Basic-Intermediate Bridge Class builds upon our Beginning Bridge Classes and prepares our students for our Intermediate Classes. \nNotes will be emailed for all classes. No make-up classes are offered for missed classes. \nOur course instructor is ABTA Master Teacher Kathy Harper. Kathy and our wonderful volunteers give students individual attention which helps our students learn in a fun environment. \nPlease contact Kathy Harper at (650) 207-1816 email for additional information. \n\n\n\n\n\nConventions You Need to Play\nDates\n\n\n\n\n\nJacoby Two No Trump\nMarch 9\, 2026\n\n\n\nThe Negative Double\nMarch 23\n\n\n\nNew Minor Forcing\nApril 13\n\n\n\nStayman including Garbage Stayman\nApril 27\n\n\n\nJacoby Transfers\nMay 11\n\n\n\nTexas Transfers\nMay 18\n\n\n\nRoman Keycard Blackwood\nJune 8\n\n\n\nControl Showing Bids\nJune 15\n\n\n\n\n[/vc_column_text][/vc_column][/vc_row]
URL:https://paloaltobridge.org/event/conventions-you-need-to-play-8-mar-2026/2026-04-13/
LOCATION:Bridge Center\, 432A Stierlin Rd\, Mountain View\, CA\, 94043\, United States
CATEGORIES:Education Calendar
GEO:37.4004098;-122.0788615
X-APPLE-STRUCTURED-LOCATION;VALUE=URI;X-ADDRESS=Bridge Center 432A Stierlin Rd Mountain View CA 94043 United States;X-APPLE-RADIUS=500;X-TITLE=432A Stierlin Rd:geo:-122.0788615,37.4004098
END:VEVENT
BEGIN:VEVENT
DTSTART;TZID=America/Los_Angeles:20260323T190000
DTEND;TZID=America/Los_Angeles:20260323T203000
DTSTAMP:20260423T015306
CREATED:20200223T190027Z
LAST-MODIFIED:20260108T204421Z
UID:50738-1774292400-1774297800@paloaltobridge.org
SUMMARY:Game ChangersConventions You Need to Play
DESCRIPTION:[vc_row][vc_column][vc_column_text css=””] \n\n\n\nKathy Harper\n(650) 207-1816\nSend Email \n\n\n\nUseful conventions for basic intermediates including Jacoby and Texas transfers\, Stayman and Garbage Stayman\, Keycard Blackwood and more. \nThis Basic-Intermediate Bridge Class builds upon our Beginning Bridge Classes and prepares our students for our Intermediate Classes. \nNotes will be emailed for all classes. No make-up classes are offered for missed classes. \nOur course instructor is ABTA Master Teacher Kathy Harper. Kathy and our wonderful volunteers give students individual attention which helps our students learn in a fun environment. \nPlease contact Kathy Harper at (650) 207-1816 email for additional information. \n\n\n\n\n\nConventions You Need to Play\nDates\n\n\n\n\n\nJacoby Two No Trump\nMarch 9\, 2026\n\n\n\nThe Negative Double\nMarch 23\n\n\n\nNew Minor Forcing\nApril 13\n\n\n\nStayman including Garbage Stayman\nApril 27\n\n\n\nJacoby Transfers\nMay 11\n\n\n\nTexas Transfers\nMay 18\n\n\n\nRoman Keycard Blackwood\nJune 8\n\n\n\nControl Showing Bids\nJune 15\n\n\n\n\n[/vc_column_text][/vc_column][/vc_row]
URL:https://paloaltobridge.org/event/conventions-you-need-to-play-8-mar-2026/2026-03-23/
LOCATION:Bridge Center\, 432A Stierlin Rd\, Mountain View\, CA\, 94043\, United States
CATEGORIES:Education Calendar
GEO:37.4004098;-122.0788615
X-APPLE-STRUCTURED-LOCATION;VALUE=URI;X-ADDRESS=Bridge Center 432A Stierlin Rd Mountain View CA 94043 United States;X-APPLE-RADIUS=500;X-TITLE=432A Stierlin Rd:geo:-122.0788615,37.4004098
END:VEVENT
BEGIN:VEVENT
DTSTART;TZID=America/Los_Angeles:20260309T190000
DTEND;TZID=America/Los_Angeles:20260309T203000
DTSTAMP:20260423T015306
CREATED:20200223T190027Z
LAST-MODIFIED:20260108T204420Z
UID:36911-1773082800-1773088200@paloaltobridge.org
SUMMARY:Game ChangersConventions You Need to Play
DESCRIPTION:[vc_row][vc_column][vc_column_text css=””] \n\n\n\nKathy Harper\n(650) 207-1816\nSend Email \n\n\n\nUseful conventions for basic intermediates including Jacoby and Texas transfers\, Stayman and Garbage Stayman\, Keycard Blackwood and more. \nThis Basic-Intermediate Bridge Class builds upon our Beginning Bridge Classes and prepares our students for our Intermediate Classes. \nNotes will be emailed for all classes. No make-up classes are offered for missed classes. \nOur course instructor is ABTA Master Teacher Kathy Harper. Kathy and our wonderful volunteers give students individual attention which helps our students learn in a fun environment. \nPlease contact Kathy Harper at (650) 207-1816 email for additional information. \n\n\n\n\n\nConventions You Need to Play\nDates\n\n\n\n\n\nJacoby Two No Trump\nMarch 9\, 2026\n\n\n\nThe Negative Double\nMarch 23\n\n\n\nNew Minor Forcing\nApril 13\n\n\n\nStayman including Garbage Stayman\nApril 27\n\n\n\nJacoby Transfers\nMay 11\n\n\n\nTexas Transfers\nMay 18\n\n\n\nRoman Keycard Blackwood\nJune 8\n\n\n\nControl Showing Bids\nJune 15\n\n\n\n\n[/vc_column_text][/vc_column][/vc_row]
URL:https://paloaltobridge.org/event/conventions-you-need-to-play-8-mar-2026/2026-03-09/
LOCATION:Bridge Center\, 432A Stierlin Rd\, Mountain View\, CA\, 94043\, United States
CATEGORIES:Education Calendar
GEO:37.4004098;-122.0788615
X-APPLE-STRUCTURED-LOCATION;VALUE=URI;X-ADDRESS=Bridge Center 432A Stierlin Rd Mountain View CA 94043 United States;X-APPLE-RADIUS=500;X-TITLE=432A Stierlin Rd:geo:-122.0788615,37.4004098
END:VEVENT
END:VCALENDAR