BEGIN:VCALENDAR
VERSION:2.0
PRODID:-//Palo Alto Bridge - ECPv6.15.20//NONSGML v1.0//EN
CALSCALE:GREGORIAN
METHOD:PUBLISH
X-WR-CALNAME:Palo Alto Bridge
X-ORIGINAL-URL:https://paloaltobridge.org
X-WR-CALDESC:Events for Palo Alto Bridge
REFRESH-INTERVAL;VALUE=DURATION:PT1H
X-Robots-Tag:noindex
X-PUBLISHED-TTL:PT1H
BEGIN:VTIMEZONE
TZID:America/Los_Angeles
BEGIN:DAYLIGHT
TZOFFSETFROM:-0800
TZOFFSETTO:-0700
TZNAME:PDT
DTSTART:20220313T100000
END:DAYLIGHT
BEGIN:STANDARD
TZOFFSETFROM:-0700
TZOFFSETTO:-0800
TZNAME:PST
DTSTART:20221106T090000
END:STANDARD
BEGIN:DAYLIGHT
TZOFFSETFROM:-0800
TZOFFSETTO:-0700
TZNAME:PDT
DTSTART:20230312T100000
END:DAYLIGHT
BEGIN:STANDARD
TZOFFSETFROM:-0700
TZOFFSETTO:-0800
TZNAME:PST
DTSTART:20231105T090000
END:STANDARD
BEGIN:DAYLIGHT
TZOFFSETFROM:-0800
TZOFFSETTO:-0700
TZNAME:PDT
DTSTART:20240310T100000
END:DAYLIGHT
BEGIN:STANDARD
TZOFFSETFROM:-0700
TZOFFSETTO:-0800
TZNAME:PST
DTSTART:20241103T090000
END:STANDARD
END:VTIMEZONE
BEGIN:VEVENT
DTSTART;TZID=America/Los_Angeles:20230128T093000
DTEND;TZID=America/Los_Angeles:20230128T110000
DTSTAMP:20260423T083129
CREATED:20221228T011306Z
LAST-MODIFIED:20221228T011902Z
UID:42933-1674898200-1674903600@paloaltobridge.org
SUMMARY:Celebrity Bridge Seminar with Gavin Wolpert
DESCRIPTION:“Reverses\, Jump Shifts + Common Questions” Saturday\, January 28\, 9:30-11am\n \n\nThe first part of this two-part series will be about defining reverses and discussing the fundamental differences between strong jump shifts and reverses. We will also answer common questions like ‘Are reverses on in competition?  Do reverses in 2/1 show extras?  How forcing are reverses?’   There are so many common mistakes made related to reverses.  We will go through tons of bidding examples and iron out lots of these issues.  Intermediate and Above \n\n“Continuing after Reverses” Saturday\, February 4\, 9:30-11am\nThe second part of the series will deal with the major problem with reverse auctions in that opener only promises 17 and responder only 6.  This means we are not necessarily going to game.  On the other hand\, responder is unlimited and may have an opening hand that wants to look for slam.  This well-known problem has been solved with a modern method of having a “slow down” bid.  This class will go through the modern standard method for how responder can slow down reverse auctions by using the cheaper of 2NT and the 4th suit.  We will go through responder’s responsibilities and how opener should react.  Advanced Intermediate and Above \nInformation and registration
URL:https://paloaltobridge.org/event/celebrity-seminar-with-gavin-wolpert-2023/2023-01-28/
LOCATION:Online Webinar\, Link to be provided to registrants
CATEGORIES:Special Events
END:VEVENT
END:VCALENDAR