BEGIN:VCALENDAR
VERSION:2.0
PRODID:-//Palo Alto Bridge - ECPv6.15.20//NONSGML v1.0//EN
CALSCALE:GREGORIAN
METHOD:PUBLISH
X-ORIGINAL-URL:https://paloaltobridge.org
X-WR-CALDESC:Events for Palo Alto Bridge
REFRESH-INTERVAL;VALUE=DURATION:PT1H
X-Robots-Tag:noindex
X-PUBLISHED-TTL:PT1H
BEGIN:VTIMEZONE
TZID:America/Los_Angeles
BEGIN:DAYLIGHT
TZOFFSETFROM:-0800
TZOFFSETTO:-0700
TZNAME:PDT
DTSTART:20180311T100000
END:DAYLIGHT
BEGIN:STANDARD
TZOFFSETFROM:-0700
TZOFFSETTO:-0800
TZNAME:PST
DTSTART:20181104T090000
END:STANDARD
BEGIN:DAYLIGHT
TZOFFSETFROM:-0800
TZOFFSETTO:-0700
TZNAME:PDT
DTSTART:20190310T100000
END:DAYLIGHT
BEGIN:STANDARD
TZOFFSETFROM:-0700
TZOFFSETTO:-0800
TZNAME:PST
DTSTART:20191103T090000
END:STANDARD
BEGIN:DAYLIGHT
TZOFFSETFROM:-0800
TZOFFSETTO:-0700
TZNAME:PDT
DTSTART:20200308T100000
END:DAYLIGHT
BEGIN:STANDARD
TZOFFSETFROM:-0700
TZOFFSETTO:-0800
TZNAME:PST
DTSTART:20201101T090000
END:STANDARD
BEGIN:DAYLIGHT
TZOFFSETFROM:-0800
TZOFFSETTO:-0700
TZNAME:PDT
DTSTART:20210314T100000
END:DAYLIGHT
BEGIN:STANDARD
TZOFFSETFROM:-0700
TZOFFSETTO:-0800
TZNAME:PST
DTSTART:20211107T090000
END:STANDARD
BEGIN:DAYLIGHT
TZOFFSETFROM:-0800
TZOFFSETTO:-0700
TZNAME:PDT
DTSTART:20220313T100000
END:DAYLIGHT
BEGIN:STANDARD
TZOFFSETFROM:-0700
TZOFFSETTO:-0800
TZNAME:PST
DTSTART:20221106T090000
END:STANDARD
BEGIN:DAYLIGHT
TZOFFSETFROM:-0800
TZOFFSETTO:-0700
TZNAME:PDT
DTSTART:20230312T100000
END:DAYLIGHT
BEGIN:STANDARD
TZOFFSETFROM:-0700
TZOFFSETTO:-0800
TZNAME:PST
DTSTART:20231105T090000
END:STANDARD
BEGIN:DAYLIGHT
TZOFFSETFROM:-0800
TZOFFSETTO:-0700
TZNAME:PDT
DTSTART:20240310T100000
END:DAYLIGHT
BEGIN:STANDARD
TZOFFSETFROM:-0700
TZOFFSETTO:-0800
TZNAME:PST
DTSTART:20241103T090000
END:STANDARD
BEGIN:DAYLIGHT
TZOFFSETFROM:-0800
TZOFFSETTO:-0700
TZNAME:PDT
DTSTART:20250309T100000
END:DAYLIGHT
BEGIN:STANDARD
TZOFFSETFROM:-0700
TZOFFSETTO:-0800
TZNAME:PST
DTSTART:20251102T090000
END:STANDARD
BEGIN:DAYLIGHT
TZOFFSETFROM:-0800
TZOFFSETTO:-0700
TZNAME:PDT
DTSTART:20260308T100000
END:DAYLIGHT
BEGIN:STANDARD
TZOFFSETFROM:-0700
TZOFFSETTO:-0800
TZNAME:PST
DTSTART:20261101T090000
END:STANDARD
BEGIN:DAYLIGHT
TZOFFSETFROM:-0800
TZOFFSETTO:-0700
TZNAME:PDT
DTSTART:20270314T100000
END:DAYLIGHT
BEGIN:STANDARD
TZOFFSETFROM:-0700
TZOFFSETTO:-0800
TZNAME:PST
DTSTART:20271107T090000
END:STANDARD
END:VTIMEZONE
BEGIN:VEVENT
DTSTART;VALUE=DATE:20260307
DTEND;VALUE=DATE:20260309
DTSTAMP:20260423T045055
CREATED:20190129T011905Z
LAST-MODIFIED:20260221T230222Z
UID:92069-1772841600-1773014399@paloaltobridge.org
SUMMARY:Bridge Center Closed for Cleaning
DESCRIPTION:
URL:https://paloaltobridge.org/event/bridge-center-closed-for-cleaning/2026-03-07/
LOCATION:Bridge Center\, 432A Stierlin Rd\, Mountain View\, CA\, 94043\, United States
CATEGORIES:Special Events
GEO:37.4004098;-122.0788615
X-APPLE-STRUCTURED-LOCATION;VALUE=URI;X-ADDRESS=Bridge Center 432A Stierlin Rd Mountain View CA 94043 United States;X-APPLE-RADIUS=500;X-TITLE=432A Stierlin Rd:geo:-122.0788615,37.4004098
END:VEVENT
BEGIN:VEVENT
DTSTART;VALUE=DATE:20190209
DTEND;VALUE=DATE:20190211
DTSTAMP:20260423T045056
CREATED:20190129T011905Z
LAST-MODIFIED:20260221T230222Z
UID:30681-1549670400-1549843199@paloaltobridge.org
SUMMARY:Bridge Center Closed for Cleaning
DESCRIPTION:
URL:https://paloaltobridge.org/event/bridge-center-closed-for-cleaning/2019-02-09/
LOCATION:Bridge Center\, 432A Stierlin Rd\, Mountain View\, CA\, 94043\, United States
CATEGORIES:Special Events
GEO:37.4004098;-122.0788615
X-APPLE-STRUCTURED-LOCATION;VALUE=URI;X-ADDRESS=Bridge Center 432A Stierlin Rd Mountain View CA 94043 United States;X-APPLE-RADIUS=500;X-TITLE=432A Stierlin Rd:geo:-122.0788615,37.4004098
END:VEVENT
END:VCALENDAR