BEGIN:VCALENDAR
VERSION:2.0
PRODID:-//Palo Alto Bridge - ECPv6.15.20//NONSGML v1.0//EN
CALSCALE:GREGORIAN
METHOD:PUBLISH
X-ORIGINAL-URL:https://paloaltobridge.org
X-WR-CALDESC:Events for Palo Alto Bridge
REFRESH-INTERVAL;VALUE=DURATION:PT1H
X-Robots-Tag:noindex
X-PUBLISHED-TTL:PT1H
BEGIN:VTIMEZONE
TZID:America/Los_Angeles
BEGIN:DAYLIGHT
TZOFFSETFROM:-0800
TZOFFSETTO:-0700
TZNAME:PDT
DTSTART:20250309T100000
END:DAYLIGHT
BEGIN:STANDARD
TZOFFSETFROM:-0700
TZOFFSETTO:-0800
TZNAME:PST
DTSTART:20251102T090000
END:STANDARD
BEGIN:DAYLIGHT
TZOFFSETFROM:-0800
TZOFFSETTO:-0700
TZNAME:PDT
DTSTART:20260308T100000
END:DAYLIGHT
BEGIN:STANDARD
TZOFFSETFROM:-0700
TZOFFSETTO:-0800
TZNAME:PST
DTSTART:20261101T090000
END:STANDARD
BEGIN:DAYLIGHT
TZOFFSETFROM:-0800
TZOFFSETTO:-0700
TZNAME:PDT
DTSTART:20270314T100000
END:DAYLIGHT
BEGIN:STANDARD
TZOFFSETFROM:-0700
TZOFFSETTO:-0800
TZNAME:PST
DTSTART:20271107T090000
END:STANDARD
END:VTIMEZONE
BEGIN:VEVENT
DTSTART;TZID=America/Los_Angeles:20260421T090000
DTEND;TZID=America/Los_Angeles:20260421T103000
DTSTAMP:20260423T045056
CREATED:20250422T171213Z
LAST-MODIFIED:20251111T191026Z
UID:49738-1776762000-1776767400@paloaltobridge.org
SUMMARY:Beginning Bridge
DESCRIPTION:Kathy Harper\n(650) 207-1816\nSend Email \n\n\n\nLearn Bridge the modern way in this course designed by Pat Harrington! Each class includes both instruction and practice play. Start playing the very first day! Children & teens welcome. \nFor people who have never played bridge and those people who have played for years but want a refresher course or just to learn the basics. \nNotes will be emailed for all classes. No make-up classes are offered for missed classes. \nOur course instructor is ABTA Master Teacher Kathy Harper. Kathy and our wonderful volunteers give students individual attention which helps our students learn in a fun environment. \nPlease contact Kathy Harper for more information.
URL:https://paloaltobridge.org/event/beginning-bridge-10-february-2026/2026-04-21/
LOCATION:Bridge Center\, 432A Stierlin Rd\, Mountain View\, CA\, 94043\, United States
CATEGORIES:Education Calendar
GEO:37.4004098;-122.0788615
X-APPLE-STRUCTURED-LOCATION;VALUE=URI;X-ADDRESS=Bridge Center 432A Stierlin Rd Mountain View CA 94043 United States;X-APPLE-RADIUS=500;X-TITLE=432A Stierlin Rd:geo:-122.0788615,37.4004098
END:VEVENT
BEGIN:VEVENT
DTSTART;TZID=America/Los_Angeles:20260407T090000
DTEND;TZID=America/Los_Angeles:20260407T103000
DTSTAMP:20260423T045056
CREATED:20250422T171213Z
LAST-MODIFIED:20251111T191026Z
UID:49737-1775552400-1775557800@paloaltobridge.org
SUMMARY:Beginning Bridge
DESCRIPTION:Kathy Harper\n(650) 207-1816\nSend Email \n\n\n\nLearn Bridge the modern way in this course designed by Pat Harrington! Each class includes both instruction and practice play. Start playing the very first day! Children & teens welcome. \nFor people who have never played bridge and those people who have played for years but want a refresher course or just to learn the basics. \nNotes will be emailed for all classes. No make-up classes are offered for missed classes. \nOur course instructor is ABTA Master Teacher Kathy Harper. Kathy and our wonderful volunteers give students individual attention which helps our students learn in a fun environment. \nPlease contact Kathy Harper for more information.
URL:https://paloaltobridge.org/event/beginning-bridge-10-february-2026/2026-04-07/
LOCATION:Bridge Center\, 432A Stierlin Rd\, Mountain View\, CA\, 94043\, United States
CATEGORIES:Education Calendar
GEO:37.4004098;-122.0788615
X-APPLE-STRUCTURED-LOCATION;VALUE=URI;X-ADDRESS=Bridge Center 432A Stierlin Rd Mountain View CA 94043 United States;X-APPLE-RADIUS=500;X-TITLE=432A Stierlin Rd:geo:-122.0788615,37.4004098
END:VEVENT
BEGIN:VEVENT
DTSTART;TZID=America/Los_Angeles:20260331T090000
DTEND;TZID=America/Los_Angeles:20260331T103000
DTSTAMP:20260423T045056
CREATED:20250422T171213Z
LAST-MODIFIED:20251111T191026Z
UID:49736-1774947600-1774953000@paloaltobridge.org
SUMMARY:Beginning Bridge
DESCRIPTION:Kathy Harper\n(650) 207-1816\nSend Email \n\n\n\nLearn Bridge the modern way in this course designed by Pat Harrington! Each class includes both instruction and practice play. Start playing the very first day! Children & teens welcome. \nFor people who have never played bridge and those people who have played for years but want a refresher course or just to learn the basics. \nNotes will be emailed for all classes. No make-up classes are offered for missed classes. \nOur course instructor is ABTA Master Teacher Kathy Harper. Kathy and our wonderful volunteers give students individual attention which helps our students learn in a fun environment. \nPlease contact Kathy Harper for more information.
URL:https://paloaltobridge.org/event/beginning-bridge-10-february-2026/2026-03-31/
LOCATION:Bridge Center\, 432A Stierlin Rd\, Mountain View\, CA\, 94043\, United States
CATEGORIES:Education Calendar
GEO:37.4004098;-122.0788615
X-APPLE-STRUCTURED-LOCATION;VALUE=URI;X-ADDRESS=Bridge Center 432A Stierlin Rd Mountain View CA 94043 United States;X-APPLE-RADIUS=500;X-TITLE=432A Stierlin Rd:geo:-122.0788615,37.4004098
END:VEVENT
BEGIN:VEVENT
DTSTART;TZID=America/Los_Angeles:20260317T090000
DTEND;TZID=America/Los_Angeles:20260317T103000
DTSTAMP:20260423T045056
CREATED:20250422T171213Z
LAST-MODIFIED:20251111T191026Z
UID:49735-1773738000-1773743400@paloaltobridge.org
SUMMARY:Beginning Bridge
DESCRIPTION:Kathy Harper\n(650) 207-1816\nSend Email \n\n\n\nLearn Bridge the modern way in this course designed by Pat Harrington! Each class includes both instruction and practice play. Start playing the very first day! Children & teens welcome. \nFor people who have never played bridge and those people who have played for years but want a refresher course or just to learn the basics. \nNotes will be emailed for all classes. No make-up classes are offered for missed classes. \nOur course instructor is ABTA Master Teacher Kathy Harper. Kathy and our wonderful volunteers give students individual attention which helps our students learn in a fun environment. \nPlease contact Kathy Harper for more information.
URL:https://paloaltobridge.org/event/beginning-bridge-10-february-2026/2026-03-17/
LOCATION:Bridge Center\, 432A Stierlin Rd\, Mountain View\, CA\, 94043\, United States
CATEGORIES:Education Calendar
GEO:37.4004098;-122.0788615
X-APPLE-STRUCTURED-LOCATION;VALUE=URI;X-ADDRESS=Bridge Center 432A Stierlin Rd Mountain View CA 94043 United States;X-APPLE-RADIUS=500;X-TITLE=432A Stierlin Rd:geo:-122.0788615,37.4004098
END:VEVENT
BEGIN:VEVENT
DTSTART;TZID=America/Los_Angeles:20260303T090000
DTEND;TZID=America/Los_Angeles:20260303T103000
DTSTAMP:20260423T045056
CREATED:20250422T171213Z
LAST-MODIFIED:20251111T191026Z
UID:49734-1772528400-1772533800@paloaltobridge.org
SUMMARY:Beginning Bridge
DESCRIPTION:Kathy Harper\n(650) 207-1816\nSend Email \n\n\n\nLearn Bridge the modern way in this course designed by Pat Harrington! Each class includes both instruction and practice play. Start playing the very first day! Children & teens welcome. \nFor people who have never played bridge and those people who have played for years but want a refresher course or just to learn the basics. \nNotes will be emailed for all classes. No make-up classes are offered for missed classes. \nOur course instructor is ABTA Master Teacher Kathy Harper. Kathy and our wonderful volunteers give students individual attention which helps our students learn in a fun environment. \nPlease contact Kathy Harper for more information.
URL:https://paloaltobridge.org/event/beginning-bridge-10-february-2026/2026-03-03/
LOCATION:Bridge Center\, 432A Stierlin Rd\, Mountain View\, CA\, 94043\, United States
CATEGORIES:Education Calendar
GEO:37.4004098;-122.0788615
X-APPLE-STRUCTURED-LOCATION;VALUE=URI;X-ADDRESS=Bridge Center 432A Stierlin Rd Mountain View CA 94043 United States;X-APPLE-RADIUS=500;X-TITLE=432A Stierlin Rd:geo:-122.0788615,37.4004098
END:VEVENT
BEGIN:VEVENT
DTSTART;TZID=America/Los_Angeles:20260217T090000
DTEND;TZID=America/Los_Angeles:20260217T103000
DTSTAMP:20260423T045056
CREATED:20250422T171213Z
LAST-MODIFIED:20251111T191026Z
UID:49733-1771318800-1771324200@paloaltobridge.org
SUMMARY:Beginning Bridge
DESCRIPTION:Kathy Harper\n(650) 207-1816\nSend Email \n\n\n\nLearn Bridge the modern way in this course designed by Pat Harrington! Each class includes both instruction and practice play. Start playing the very first day! Children & teens welcome. \nFor people who have never played bridge and those people who have played for years but want a refresher course or just to learn the basics. \nNotes will be emailed for all classes. No make-up classes are offered for missed classes. \nOur course instructor is ABTA Master Teacher Kathy Harper. Kathy and our wonderful volunteers give students individual attention which helps our students learn in a fun environment. \nPlease contact Kathy Harper for more information.
URL:https://paloaltobridge.org/event/beginning-bridge-10-february-2026/2026-02-17/
LOCATION:Bridge Center\, 432A Stierlin Rd\, Mountain View\, CA\, 94043\, United States
CATEGORIES:Education Calendar
GEO:37.4004098;-122.0788615
X-APPLE-STRUCTURED-LOCATION;VALUE=URI;X-ADDRESS=Bridge Center 432A Stierlin Rd Mountain View CA 94043 United States;X-APPLE-RADIUS=500;X-TITLE=432A Stierlin Rd:geo:-122.0788615,37.4004098
END:VEVENT
BEGIN:VEVENT
DTSTART;TZID=America/Los_Angeles:20260203T090000
DTEND;TZID=America/Los_Angeles:20260203T103000
DTSTAMP:20260423T045056
CREATED:20250422T171213Z
LAST-MODIFIED:20251111T191026Z
UID:49732-1770109200-1770114600@paloaltobridge.org
SUMMARY:Beginning Bridge
DESCRIPTION:Kathy Harper\n(650) 207-1816\nSend Email \n\n\n\nLearn Bridge the modern way in this course designed by Pat Harrington! Each class includes both instruction and practice play. Start playing the very first day! Children & teens welcome. \nFor people who have never played bridge and those people who have played for years but want a refresher course or just to learn the basics. \nNotes will be emailed for all classes. No make-up classes are offered for missed classes. \nOur course instructor is ABTA Master Teacher Kathy Harper. Kathy and our wonderful volunteers give students individual attention which helps our students learn in a fun environment. \nPlease contact Kathy Harper for more information.
URL:https://paloaltobridge.org/event/beginning-bridge-10-february-2026/2026-02-03/
LOCATION:Bridge Center\, 432A Stierlin Rd\, Mountain View\, CA\, 94043\, United States
CATEGORIES:Education Calendar
GEO:37.4004098;-122.0788615
X-APPLE-STRUCTURED-LOCATION;VALUE=URI;X-ADDRESS=Bridge Center 432A Stierlin Rd Mountain View CA 94043 United States;X-APPLE-RADIUS=500;X-TITLE=432A Stierlin Rd:geo:-122.0788615,37.4004098
END:VEVENT
END:VCALENDAR