BEGIN:VCALENDAR
VERSION:2.0
PRODID:-//Palo Alto Bridge - ECPv6.15.20//NONSGML v1.0//EN
CALSCALE:GREGORIAN
METHOD:PUBLISH
X-WR-CALNAME:Palo Alto Bridge
X-ORIGINAL-URL:https://paloaltobridge.org
X-WR-CALDESC:Events for Palo Alto Bridge
REFRESH-INTERVAL;VALUE=DURATION:PT1H
X-Robots-Tag:noindex
X-PUBLISHED-TTL:PT1H
BEGIN:VTIMEZONE
TZID:America/Los_Angeles
BEGIN:DAYLIGHT
TZOFFSETFROM:-0800
TZOFFSETTO:-0700
TZNAME:PDT
DTSTART:20180311T100000
END:DAYLIGHT
BEGIN:STANDARD
TZOFFSETFROM:-0700
TZOFFSETTO:-0800
TZNAME:PST
DTSTART:20181104T090000
END:STANDARD
BEGIN:DAYLIGHT
TZOFFSETFROM:-0800
TZOFFSETTO:-0700
TZNAME:PDT
DTSTART:20190310T100000
END:DAYLIGHT
BEGIN:STANDARD
TZOFFSETFROM:-0700
TZOFFSETTO:-0800
TZNAME:PST
DTSTART:20191103T090000
END:STANDARD
BEGIN:DAYLIGHT
TZOFFSETFROM:-0800
TZOFFSETTO:-0700
TZNAME:PDT
DTSTART:20200308T100000
END:DAYLIGHT
BEGIN:STANDARD
TZOFFSETFROM:-0700
TZOFFSETTO:-0800
TZNAME:PST
DTSTART:20201101T090000
END:STANDARD
END:VTIMEZONE
BEGIN:VEVENT
DTSTART;TZID=America/Los_Angeles:20190215T093000
DTEND;TZID=America/Los_Angeles:20190215T093000
DTSTAMP:20260422T194245
CREATED:20181220T072240Z
LAST-MODIFIED:20181220T073351Z
UID:29792-1550223000-1550223000@paloaltobridge.org
SUMMARY:22nd Annual Bridge Day & Luncheon
DESCRIPTION:From the Mission Hospice Auxiliary\nOn Friday\, February 15\, 2019 we will be holding our 22nd Annual Bridge Day at the Peninsula Golf & Country Club in San Mateo benefitting Mission Hospice & Home Care and we are inviting the Palo Alto Unit 503 to join us. \nTournament registration is $75.00 per player\, featuring Tournament (Chicago) or Party Bridge. Lunch is included along with complimentary valet parking. Prizes are awarded for winners plus great raffle items are also featured. Attached is a postcard invitation to share with your members and a flyer you can print and post. \nAll funds raised will benefit Mission Hospice & Home Care’s newly established Woodside Hospice House\, which provides a peaceful\, caring and home-like setting for individuals whose end-of-life needs cannot be managed in their own homes. \nFor tournament registration or questions please contact Cathy McDermott at 650-532-2562 or via email at cmcdermott@missionhospice.org. \nJoin us for a great day of bridge! We look forward to seeing you on February the 15th at the Peninsula Golf & Country Club in San Mateo! \nCathy \n  \nCathy McDermott\nAnnual Giving & Events Manager\nMission Hospice & Home Care\n1670 South Amphlett  Blvd.\, Suite 300\nSan Mateo\, CA  94402\nwww.missionhospice.org\nDirect: 650-532-2562\nOffice: 650-554-1000
URL:https://paloaltobridge.org/event/22nd-annual-bridge-day-luncheon/
CATEGORIES:Special Events
END:VEVENT
END:VCALENDAR